Workbook

Sheet Dart Busters
A1: NAME | B1: DATE | C1: SINGLES CRICKET | D1: WIN? | E1: LOSS? | F1: 501 DARTS THROWN | G1: 501 POINTS | H1: WIN? | I1: LOSS? | J1: 301 DARTS THROWN | K1: 301 POINTS | L1: WIN? | M1: LOSS? | N1: TOTAL DARTS THROWN | O1: TOTAL POINTS | P1: 501 AVERAGE | Q1: 301 AVERAGE | R1: MATCH AVERAGE | S1: WEEKLY AVERAGE
A2: Shawn Caselman
B3: 46286 | N3: =SUM(F3+J3) -> 0 | O3: =SUM(G3+K3) -> 0 | P3: =SUM(G3/F3) -> #DIV/0! | Q3: =SUM(K3/J3) -> #DIV/0! | R3: =SUM(O3/N3) -> #DIV/0! | S3: =SUM((G3+K3)/(F3+J3)) -> #DIV/0!
N4: =SUM(F4+J4) -> 0 | O4: =SUM(G4+K4) -> 0 | P4: =SUM(G4/F4) -> #DIV/0! | Q4: =SUM(K4/J4) -> #DIV/0! | R4: =SUM(O4/N4) -> #DIV/0! | S4: =SUM((G3+G4+K3+K4)/(F3+F4+J3+J4)) -> #DIV/0!
B5: =SUM(B3+7) -> 46293 | D5: X | F5: 22 | G5: 501 | H5: X | J5: 22 | K5: 301 | L5: X | N5: =SUM(F5+J5) -> 44 | O5: =SUM(G5+K5) -> 802 | P5: =SUM(G5/F5) -> 22.772727 | Q5: =SUM(K5/J5) -> 13.681818 | R5: =SUM(O5/N5) -> 18.227273 | S5: =SUM((G3+G4+G5+K3+K4+K5)/(F3+F4+F5+J3+J4+J5)) -> 18.227273
F6: 37 | G6: 501 | H6: X | J6: 21 | K6: 295 | M6: X | N6: =SUM(F6+J6) -> 58 | O6: =SUM(G6+K6) -> 796 | P6: =SUM(G6/F6) -> 13.540541 | Q6: =SUM(K6/J6) -> 14.047619 | R6: =SUM(O6/N6) -> 13.724138 | S6: =SUM((G3+G4+G5+G6+K3+K4+K5+K6)/(F3+F4+F5+F6+J3+J4+J5+J6)) -> 15.666667
B7: =SUM(B5+7) -> 46300 | D7: X | F7: 33 | G7: 441 | I7: X | J7: 27 | K7: 296 | M7: X | N7: =SUM(F7+J7) -> 60 | O7: =SUM(G7+K7) -> 737 | P7: =SUM(G7/F7) -> 13.363636 | Q7: =SUM(K7/J7) -> 10.962963 | R7: =SUM(O7/N7) -> 12.283333 | S7: =SUM((G3+G4+G5+G6+G7+K3+K4+K5+K6+K7)/(F3+F4+F5+F6+F7+J3+J4+J5+J6+J7)) -> 14.41358
F8: 42 | G8: 501 | H8: X | J8: 27 | K8: 76 | M8: X | N8: =SUM(F8+J8) -> 69 | O8: =SUM(G8+K8) -> 577 | P8: =SUM(G8/F8) -> 11.928571 | Q8: =SUM(K8/J8) -> 2.8148148 | R8: =SUM(O8/N8) -> 8.3623188 | S8: =SUM((G3+G4+G5+G6+G7+G8+K3+K4+K5+K6+K7+K8)/(F3+F4+F5+F6+F7+F8+J3+J4+J5+J6+J7+J8)) -> 12.606061
B9: =SUM(B7+7) -> 46307 | D9: X | F9: 24 | G9: 501 | H9: X | J9: 30 | K9: 301 | L9: X | N9: =SUM(F9+J9) -> 54 | O9: =SUM(G9+K9) -> 802 | P9: =SUM(G9/F9) -> 20.875 | Q9: =SUM(K9/J9) -> 10.033333 | R9: =SUM(O9/N9) -> 14.851852 | S9: =SUM((G3+G4+G5+G6+G7+G8+G9+K3+K4+K5+K6+K7+K8+K9)/(F3+F4+F5+F6+F7+F8+F9+J3+J4+J5+J6+J7+J8+J9)) -> 13.031579
F10: 30 | G10: 501 | H10: X | J10: 43 | K10: 301 | L10: X | N10: =SUM(F10+J10) -> 73 | O10: =SUM(G10+K10) -> 802 | P10: =SUM(G10/F10) -> 16.7 | Q10: =SUM(K10/J10) -> 7 | R10: =SUM(O10/N10) -> 10.986301 | S10: =SUM((G3+G4+G5+G6+G7+G8+G9+G10+K3+K4+K5+K6+K7+K8+K9+K10)/(F3+F4+F5+F6+F7+F8+F9+F10+J3+J4+J5+J6+J7+J8+J9+J10)) -> 12.614525
B11: =SUM(B9+7) -> 46314 | D11: X | F11: 40 | G11: 501 | H11: X | J11: 23 | K11: 301 | L11: X | N11: =SUM(F11+J11) -> 63 | O11: =SUM(G11+K11) -> 802 | P11: =SUM(G11/F11) -> 12.525 | Q11: =SUM(K11/J11) -> 13.086957 | R11: =SUM(O11/N11) -> 12.730159 | S11: =SUM((G3+G4+G5+G6+G7+G8+G9+G10+G11+K3+K4+K5+K6+K7+K8+K9+K10+K11)/(F3+F4+F5+F6+F7+F8+F9+F10+F11+J3+J4+J5+J6+J7+J8+J9+J10+J11)) -> 12.631829
F12: 26 | G12: 501 | H12: X | J12: 19 | K12: 301 | L12: X | N12: =SUM(F12+J12) -> 45 | O12: =SUM(G12+K12) -> 802 | P12: =SUM(G12/F12) -> 19.269231 | Q12: =SUM(K12/J12) -> 15.842105 | R12: =SUM(O12/N12) -> 17.822222 | S12: =SUM((G3+G4+G5+G6+G7+G8+G9+G10+G11+G12+K3+K4+K5+K6+K7+K8+K9+K10+K11+K12)/(F3+F4+F5+F6+F7+F8+F9+F10+F11+F12+J3+J4+J5+J6+J7+J8+J9+J10+J11+J12)) -> 13.133047
B13: =SUM(B11+7) -> 46321 | D13: X | F13: 37 | G13: 501 | H13: X | J13: 33 | K13: 299 | M13: X | N13: =SUM(F13+J13) -> 70 | O13: =SUM(G13+K13) -> 800 | P13: =SUM(G13/F13) -> 13.540541 | Q13: =SUM(K13/J13) -> 9.0606061 | R13: =SUM(O13/N13) -> 11.428571 | S13: =SUM((G3+G4+G5+G6+G7+G8+G9+G10+G11+G12+G13+K3+K4+K5+K6+K7+K8+K9+K10+K11+K12+K13)/(F3+F4+F5+F6+F7+F8+F9+F10+F11+F12+F13+J3+J4+J5+J6+J7+J8+J9+J10+J11+J12+J13)) -> 12.910448
F14: 36 | G14: 491 | I14: X | J14: 21 | K14: 285 | M14: X | N14: =SUM(F14+J14) -> 57 | O14: =SUM(G14+K14) -> 776 | P14: =SUM(G14/F14) -> 13.638889 | Q14: =SUM(K14/J14) -> 13.571429 | R14: =SUM(O14/N14) -> 13.614035 | S14: =SUM((G3+G4+G5+G6+G7+G8+G9+G10+G11+G12+G13+G14+K3+K4+K5+K6+K7+K8+K9+K10+K11+K12+K13+K14)/(F3+F4+F5+F6+F7+F8+F9+F10+F11+F12+F13+F14+J3+J4+J5+J6+J7+J8+J9+J10+J11+J12+J13+J14)) -> 12.978078
B15: =SUM(B13+7) -> 46328 | N15: =SUM(F15+J15) -> 0 | O15: =SUM(G15+K15) -> 0 | P15: =SUM(G15/F15) -> #DIV/0! | Q15: =SUM(K15/J15) -> #DIV/0! | R15: =SUM(O15/N15) -> #DIV/0! | S15: =SUM((G3+G4+G5+G6+G7+G8+G9+G10+G11+G12+G13+G14+G15+K3+K4+K5+K6+K7+K8+K9+K10+K11+K12+K13+K14+K15)/(F3+F4+F5+F6+F7+F8+F9+F10+F11+F12+F13+F14+F15+J3+J4+J5+J6+J7+J8+J9+J10+J11+J12+J13+J14+J15)) -> 12.978078
N16: =SUM(F16+J16) -> 0 | O16: =SUM(G16+K16) -> 0 | P16: =SUM(G16/F16) -> #DIV/0! | Q16: =SUM(K16/J16) -> #DIV/0! | R16: =SUM(O16/N16) -> #DIV/0! | S16: =SUM((G3+G4+G5+G6+G7+G8+G9+G10+G11+G12+G13+G14+G15+G16+K3+K4+K5+K6+K7+K8+K9+K10+K11+K12+K13+K14+K15+K16)/(F3+F4+F5+F6+F7+F8+F9+F10+F11+F12+F13+F14+F15+F16+J3+J4+J5+J6+J7+J8+J9+J10+J11+J12+J13+J14+J15+J16)) -> 12.978078
B17: =SUM(B15+7) -> 46335 | N17: =SUM(F17+J17) -> 0 | O17: =SUM(G17+K17) -> 0 | P17: =SUM(G17/F17) -> #DIV/0! | Q17: =SUM(K17/J17) -> #DIV/0! | R17: =SUM(O17/N17) -> #DIV/0! | S17: =SUM((G3+G4+G5+G6+G7+G8+G9+G10+G11+G12+G13+G14+G15+G16+G17+K3+K4+K5+K6+K7+K8+K9+K10+K11+K12+K13+K14+K15+K16+K17)/(F3+F4+F5+F6+F7+F8+F9+F10+F11+F12+F13+F14+F15+F16+F17+J3+J4+J5+J6+J7+J8+J9+J10+J11+J12+J13+J14+J15+J16+J17)) -> 12.978078
N18: =SUM(F18+J18) -> 0 | O18: =SUM(G18+K18) -> 0 | P18: =SUM(G18/F18) -> #DIV/0! | Q18: =SUM(K18/J18) -> #DIV/0! | R18: =SUM(O18/N18) -> #DIV/0! | S18: =SUM((G3+G4+G5+G6+G7+G8+G9+G10+G11+G12+G13+G14+G15+G16+G17+G18+K3+K4+K5+K6+K7+K8+K9+K10+K11+K12+K13+K14+K15+K16+K17+K18)/(F3+F4+F5+F6+F7+F8+F9+F10+F11+F12+F13+F14+F15+F16+F17+F18+J3+J4+J5+J6+J7+J8+J9+J10+J11+J12+J13+J14+J15+J16+J17+J18)) -> 12.978078
B19: =SUM(B17+7) -> 46342 | N19: =SUM(F19+J19) -> 0 | O19: =SUM(G19+K19) -> 0 | P19: =SUM(G19/F19) -> #DIV/0! | Q19: =SUM(K19/J19) -> #DIV/0! | R19: =SUM(O19/N19) -> #DIV/0! | S19: =SUM((G3+G4+G5+G6+G7+G8+G9+G10+G11+G12+G13+G14+G15+G16+G17+G18+G19+K3+K4+K5+K6+K7+K8+K9+K10+K11+K12+K13+K14+K15+K16+K17+K18+K19)/(F3+F4+F5+F6+F7+F8+F9+F10+F11+F12+F13+F14+F15+F16+F17+F18+F19+J3+J4+J5+J6+J7+J8+J9+J10+J11+J12+J13+J14+J15+J16+J17+J18+J19)) -> 12.978078
N20: =SUM(F20+J20) -> 0 | O20: =SUM(G20+K20) -> 0 | P20: =SUM(G20/F20) -> #DIV/0! | Q20: =SUM(K20/J20) -> #DIV/0! | R20: =SUM(O20/N20) -> #DIV/0! | S20: =SUM((G3+G4+G5+G6+G7+G8+G9+G10+G11+G12+G13+G14+G15+G16+G17+G18+G19+G20+K3+K4+K5+K6+K7+K8+K9+K10+K11+K12+K13+K14+K15+K16+K17+K18+K19+K20)/(F3+F4+F5+F6+F7+F8+F9+F10+F11+F12+F13+F14+F15+F16+F17+F18+F19+F20+J3+J4+J5+J6+J7+J8+J9+J10+J11+J12+J13+J14+J15+J16+J17+J18+J19+J20)) -> 12.978078
B21: =SUM(B19+7) -> 46349 | N21: =SUM(F21+J21) -> 0 | O21: =SUM(G21+K21) -> 0 | P21: =SUM(G21/F21) -> #DIV/0! | Q21: =SUM(K21/J21) -> #DIV/0! | R21: =SUM(O21/N21) -> #DIV/0! | S21: =SUM((G3+G4+G5+G6+G7+G8+G9+G10+G11+G12+G13+G14+G15+G16+G17+G18+G19+G20+G21+K3+K4+K5+K6+K7+K8+K9+K10+K11+K12+K13+K14+K15+K16+K17+K18+K19+K20+K21)/(F3+F4+F5+F6+F7+F8+F9+F10+F11+F12+F13+F14+F15+F16+F17+F18+F19+F20+F21+J3+J4+J5+J6+J7+J8+J9+J10+J11+J12+J13+J14+J15+J16+J17+J18+J19+J20+J21)) -> 12.978078
N22: =SUM(F22+J22) -> 0 | O22: =SUM(G22+K22) -> 0 | P22: =SUM(G22/F22) -> #DIV/0! | Q22: =SUM(K22/J22) -> #DIV/0! | R22: =SUM(O22/N22) -> #DIV/0! | S22: =SUM((G3+G4+G5+G6+G7+G8+G9+G10+G11+G12+G13+G14+G15+G16+G17+G18+G19+G20+G21+G22+K3+K4+K5+K6+K7+K8+K9+K10+K11+K12+K13+K14+K15+K16+K17+K18+K19+K20+K21+K22)/(F3+F4+F5+F6+F7+F8+F9+F10+F11+F12+F13+F14+F15+F16+F17+F18+F19+F20+F21+F22+J3+J4+J5+J6+J7+J8+J9+J10+J11+J12+J13+J14+J15+J16+J17+J18+J19+J20+J21+J22)) -> 12.978078
B23: =SUM(B21+7) -> 46356 | N23: =SUM(F23+J23) -> 0 | O23: =SUM(G23+K23) -> 0 | P23: =SUM(G23/F23) -> #DIV/0! | Q23: =SUM(K23/J23) -> #DIV/0! | R23: =SUM(O23/N23) -> #DIV/0! | S23: =SUM((G3+G4+G5+G6+G7+G8+G9+G10+G11+G12+G13+G14+G15+G16+G17+G18+G19+G20+G21+G22+G23+K3+K4+K5+K6+K7+K8+K9+K10+K11+K12+K13+K14+K15+K16+K17+K18+K19+K20+K21+K22+K23)/(F3+F4+F5+F6+F7+F8+F9+F10+F11+F12+F13+F14+F15+F16+F17+F18+F19+F20+F21+F22+F23+J3+J4+J5+J6+J7+J8+J9+J10+J11+J12+J13+J14+J15+J16+J17+J18+J19+J20+J21+J22+J23)) -> 12.978078
N24: =SUM(F24+J24) -> 0 | O24: =SUM(G24+K24) -> 0 | P24: =SUM(G24/F24) -> #DIV/0! | Q24: =SUM(K24/J24) -> #DIV/0! | R24: =SUM(O24/N24) -> #DIV/0! | S24: =SUM((G3+G4+G5+G6+G7+G8+G9+G10+G11+G12+G13+G14+G15+G16+G17+G18+G19+G20+G21+G22+G23+G24+K3+K4+K5+K6+K7+K8+K9+K10+K11+K12+K13+K14+K15+K16+K17+K18+K19+K20+K21+K22+K23+K24)/(F3+F4+F5+F6+F7+F8+F9+F10+F11+F12+F13+F14+F15+F16+F17+F18+F19+F20+F21+F22+F23+F24+J3+J4+J5+J6+J7+J8+J9+J10+J11+J12+J13+J14+J15+J16+J17+J18+J19+J20+J21+J22+J23+J24)) -> 12.978078
B25: =SUM(B23+7) -> 46363 | N25: =SUM(F25+J25) -> 0 | O25: =SUM(G25+K25) -> 0 | P25: =SUM(G25/F25) -> #DIV/0! | Q25: =SUM(K25/J25) -> #DIV/0! | R25: =SUM(O25/N25) -> #DIV/0! | S25: =SUM((G3+G4+G5+G6+G7+G8+G9+G10+G11+G12+G13+G14+G15+G16+G17+G18+G19+G20+G21+G22+G23+G24+G25+K3+K4+K5+K6+K7+K8+K9+K10+K11+K12+K13+K14+K15+K16+K17+K18+K19+K20+K21+K22+K23+K24+K25)/(F3+F4+F5+F6+F7+F8+F9+F10+F11+F12+F13+F14+F15+F16+F17+F18+F19+F20+F21+F22+F23+F24+F25+J3+J4+J5+J6+J7+J8+J9+J10+J11+J12+J13+J14+J15+J16+J17+J18+J19+J20+J21+J22+J23+J24+J25)) -> 12.978078
N26: =SUM(F26+J26) -> 0 | O26: =SUM(G26+K26) -> 0 | P26: =SUM(G26/F26) -> #DIV/0! | Q26: =SUM(K26/J26) -> #DIV/0! | R26: =SUM(O26/N26) -> #DIV/0! | S26: =SUM((G3+G4+G5+G6+G7+G8+G9+G10+G11+G12+G13+G14+G15+G16+G17+G18+G19+G20+G21+G22+G23+G24+G25+G26+K3+K4+K5+K6+K7+K8+K9+K10+K11+K12+K13+K14+K15+K16+K17+K18+K19+K20+K21+K22+K23+K24+K25+K26)/(F3+F4+F5+F6+F7+F8+F9+F10+F11+F12+F13+F14+F15+F16+F17+F18+F19+F20+F21+F22+F23+F24+F25+F26+J3+J4+J5+J6+J7+J8+J9+J10+J11+J12+J13+J14+J15+J16+J17+J18+J19+J20+J21+J22+J23+J24+J25+J26)) -> 12.978078
B27: =SUM(B25+7) -> 46370 | N27: =SUM(F27+J27) -> 0 | O27: =SUM(G27+K27) -> 0 | P27: =SUM(G27/F27) -> #DIV/0! | Q27: =SUM(K27/J27) -> #DIV/0! | R27: =SUM(O27/N27) -> #DIV/0! | S27: =SUM((G3+G4+G5+G6+G7+G8+G9+G10+G11+G12+G13+G14+G15+G16+G17+G18+G19+G20+G21+G22+G23+G24+G25+G26+G27+K3+K4+K5+K6+K7+K8+K9+K10+K11+K12+K13+K14+K15+K16+K17+K18+K19+K20+K21+K22+K23+K24+K25+K26+K27)/(F3+F4+F5+F6+F7+F8+F9+F10+F11+F12+F13+F14+F15+F16+F17+F18+F19+F20+F21+F22+F23+F24+F25+F26+F27+J3+J4+J5+J6+J7+J8+J9+J10+J11+J12+J13+J14+J15+J16+J17+J18+J19+J20+J21+J22+J23+J24+J25+J26+J27)) -> 12.978078
N28: =SUM(F28+J28) -> 0 | O28: =SUM(G28+K28) -> 0 | P28: =SUM(G28/F28) -> #DIV/0! | Q28: =SUM(K28/J28) -> #DIV/0! | R28: =SUM(O28/N28) -> #DIV/0! | S28: =SUM((G3+G4+G5+G6+G7+G8+G9+G10+G11+G12+G13+G14+G15+G16+G17+G18+G19+G20+G21+G22+G23+G24+G25+G26+G27+G28+K3+K4+K5+K6+K7+K8+K9+K10+K11+K12+K13+K14+K15+K16+K17+K18+K19+K20+K21+K22+K23+K24+K25+K26+K27+K28)/(F3+F4+F5+F6+F7+F8+F9+F10+F11+F12+F13+F14+F15+F16+F17+F18+F19+F20+F21+F22+F23+F24+F25+F26+F27+F28+J3+J4+J5+J6+J7+J8+J9+J10+J11+J12+J13+J14+J15+J16+J17+J18+J19+J20+J21+J22+J23+J24+J25+J26+J27+J28)) -> 12.978078
B29: =SUM(B27+7) -> 46377 | N29: =SUM(F29+J29) -> 0 | O29: =SUM(G29+K29) -> 0 | P29: =SUM(G29/F29) -> #DIV/0! | Q29: =SUM(K29/J29) -> #DIV/0! | R29: =SUM(O29/N29) -> #DIV/0! | S29: =SUM((G3+G4+G5+G6+G7+G8+G9+G10+G11+G12+G13+G14+G15+G16+G17+G18+G19+G20+G21+G22+G23+G24+G25+G26+G27+G28+G29+K3+K4+K5+K6+K7+K8+K9+K10+K11+K12+K13+K14+K15+K16+K17+K18+K19+K20+K21+K22+K23+K24+K25+K26+K27+K28+K29)/(F3+F4+F5+F6+F7+F8+F9+F10+F11+F12+F13+F14+F15+F16+F17+F18+F19+F20+F21+F22+F23+F24+F25+F26+F27+F28+F29+J3+J4+J5+J6+J7+J8+J9+J10+J11+J12+J13+J14+J15+J16+J17+J18+J19+J20+J21+J22+J23+J24+J25+J26+J27+J28+J29)) -> 12.978078
N30: =SUM(F30+J30) -> 0 | O30: =SUM(G30+K30) -> 0 | P30: =SUM(G30/F30) -> #DIV/0! | Q30: =SUM(K30/J30) -> #DIV/0! | R30: =SUM(O30/N30) -> #DIV/0! | S30: =SUM((G3+G4+G5+G6+G7+G8+G9+G10+G11+G12+G13+G14+G15+G16+G17+G18+G19+G20+G21+G22+G23+G24+G25+G26+G27+G28+G29+G30+K3+K4+K5+K6+K7+K8+K9+K10+K11+K12+K13+K14+K15+K16+K17+K18+K19+K20+K21+K22+K23+K24+K25+K26+K27+K28+K29+K30)/(F3+F4+F5+F6+F7+F8+F9+F10+F11+F12+F13+F14+F15+F16+F17+F18+F19+F20+F21+F22+F23+F24+F25+F26+F27+F28+F29+F30+J3+J4+J5+J6+J7+J8+J9+J10+J11+J12+J13+J14+J15+J16+J17+J18+J19+J20+J21+J22+J23+J24+J25+J26+J27+J28+J29+J30)) -> 12.978078
B31: =SUM(B29+7) -> 46384 | N31: =SUM(F31+J31) -> 0 | O31: =SUM(G31+K31) -> 0 | P31: =SUM(G31/F31) -> #DIV/0! | Q31: =SUM(K31/J31) -> #DIV/0! | R31: =SUM(O31/N31) -> #DIV/0! | S31: =SUM((G3+G4+G5+G6+G7+G8+G9+G10+G11+G12+G13+G14+G15+G16+G17+G18+G19+G20+G21+G22+G23+G24+G25+G26+G27+G28+G29+G30+G31+K3+K4+K5+K6+K7+K8+K9+K10+K11+K12+K13+K14+K15+K16+K17+K18+K19+K20+K21+K22+K23+K24+K25+K26+K27+K28+K29+K30+K31)/(F3+F4+F5+F6+F7+F8+F9+F10+F11+F12+F13+F14+F15+F16+F17+F18+F19+F20+F21+F22+F23+F24+F25+F26+F27+F28+F29+F30+F31+J3+J4+J5+J6+J7+J8+J9+J10+J11+J12+J13+J14+J15+J16+J17+J18+J19+J20+J21+J22+J23+J24+J25+J26+J27+J28+J29+J30+J31)) -> 12.978078
N32: =SUM(F32+J32) -> 0 | O32: =SUM(G32+K32) -> 0 | P32: =SUM(G32/F32) -> #DIV/0! | Q32: =SUM(K32/J32) -> #DIV/0! | R32: =SUM(O32/N32) -> #DIV/0! | S32: =SUM((G3+G4+G5+G6+G7+G8+G9+G10+G11+G12+G13+G14+G15+G16+G17+G18+G19+G20+G21+G22+G23+G24+G25+G26+G27+G28+G29+G30+G31+G32+K3+K4+K5+K6+K7+K8+K9+K10+K11+K12+K13+K14+K15+K16+K17+K18+K19+K20+K21+K22+K23+K24+K25+K26+K27+K28+K29+K30+K31+K32)/(F3+F4+F5+F6+F7+F8+F9+F10+F11+F12+F13+F14+F15+F16+F17+F18+F19+F20+F21+F22+F23+F24+F25+F26+F27+F28+F29+F30+F31+F32+J3+J4+J5+J6+J7+J8+J9+J10+J11+J12+J13+J14+J15+J16+J17+J18+J19+J20+J21+J22+J23+J24+J25+J26+J27+J28+J29+J30+J31+J32)) -> 12.978078
B33: =SUM(B31+7) -> 46391 | N33: =SUM(F33+J33) -> 0 | O33: =SUM(G33+K33) -> 0 | P33: =SUM(G33/F33) -> #DIV/0! | Q33: =SUM(K33/J33) -> #DIV/0! | R33: =SUM(O33/N33) -> #DIV/0! | S33: =SUM((G3+G4+G5+G6+G7+G8+G9+G10+G11+G12+G13+G14+G15+G16+G17+G18+G19+G20+G21+G22+G23+G24+G25+G26+G27+G28+G29+G30+G31+G32+G33+K3+K4+K5+K6+K7+K8+K9+K10+K11+K12+K13+K14+K15+K16+K17+K18+K19+K20+K21+K22+K23+K24+K25+K26+K27+K28+K29+K30+K31+K32+K33)/(F3+F4+F5+F6+F7+F8+F9+F10+F11+F12+F13+F14+F15+F16+F17+F18+F19+F20+F21+F22+F23+F24+F25+F26+F27+F28+F29+F30+F31+F32+F33+J3+J4+J5+J6+J7+J8+J9+J10+J11+J12+J13+J14+J15+J16+J17+J18+J19+J20+J21+J22+J23+J24+J25+J26+J27+J28+J29+J30+J31+J32+J33)) -> 12.978078
N34: =SUM(F34+J34) -> 0 | O34: =SUM(G34+K34) -> 0 | P34: =SUM(G34/F34) -> #DIV/0! | Q34: =SUM(K34/J34) -> #DIV/0! | R34: =SUM(O34/N34) -> #DIV/0! | S34: =SUM((G3+G4+G5+G6+G7+G8+G9+G10+G11+G12+G13+G14+G15+G16+G17+G18+G19+G20+G21+G22+G23+G24+G25+G26+G27+G28+G29+G30+G31+G32+G33+G34+K3+K4+K5+K6+K7+K8+K9+K10+K11+K12+K13+K14+K15+K16+K17+K18+K19+K20+K21+K22+K23+K24+K25+K26+K27+K28+K29+K30+K31+K32+K33+K34)/(F3+F4+F5+F6+F7+F8+F9+F10+F11+F12+F13+F14+F15+F16+F17+F18+F19+F20+F21+F22+F23+F24+F25+F26+F27+F28+F29+F30+F31+F32+F33+F34+J3+J4+J5+J6+J7+J8+J9+J10+J11+J12+J13+J14+J15+J16+J17+J18+J19+J20+J21+J22+J23+J24+J25+J26+J27+J28+J29+J30+J31+J32+J33+J34)) -> 12.978078
B35: =SUM(B33+7) -> 46398 | N35: =SUM(F35+J35) -> 0 | O35: =SUM(G35+K35) -> 0 | P35: =SUM(G35/F35) -> #DIV/0! | Q35: =SUM(K35/J35) -> #DIV/0! | R35: =SUM(O35/N35) -> #DIV/0! | S35: =SUM((G3+G4+G5+G6+G7+G8+G9+G10+G11+G12+G13+G14+G15+G16+G17+G18+G19+G20+G21+G22+G23+G24+G25+G26+G27+G28+G29+G30+G31+G32+G33+G34+G35+K3+K4+K5+K6+K7+K8+K9+K10+K11+K12+K13+K14+K15+K16+K17+K18+K19+K20+K21+K22+K23+K24+K25+K26+K27+K28+K29+K30+K31+K32+K33+K34+K35)/(F3+F4+F5+F6+F7+F8+F9+F10+F11+F12+F13+F14+F15+F16+F17+F18+F19+F20+F21+F22+F23+F24+F25+F26+F27+F28+F29+F30+F31+F32+F33+F34+F35+J3+J4+J5+J6+J7+J8+J9+J10+J11+J12+J13+J14+J15+J16+J17+J18+J19+J20+J21+J22+J23+J24+J25+J26+J27+J28+J29+J30+J31+J32+J33+J34+J35)) -> 12.978078
N36: =SUM(F36+J36) -> 0 | O36: =SUM(G36+K36) -> 0 | P36: =SUM(G36/F36) -> #DIV/0! | Q36: =SUM(K36/J36) -> #DIV/0! | R36: =SUM(O36/N36) -> #DIV/0! | S36: =SUM((G3+G4+G5+G6+G7+G8+G9+G10+G11+G12+G13+G14+G15+G16+G17+G18+G19+G20+G21+G22+G23+G24+G25+G26+G27+G28+G29+G30+G31+G32+G33+G34+G35+G36+K3+K4+K5+K6+K7+K8+K9+K10+K11+K12+K13+K14+K15+K16+K17+K18+K19+K20+K21+K22+K23+K24+K25+K26+K27+K28+K29+K30+K31+K32+K33+K34+K35+K36)/(F3+F4+F5+F6+F7+F8+F9+F10+F11+F12+F13+F14+F15+F16+F17+F18+F19+F20+F21+F22+F23+F24+F25+F26+F27+F28+F29+F30+F31+F32+F33+F34+F35+F36+J3+J4+J5+J6+J7+J8+J9+J10+J11+J12+J13+J14+J15+J16+J17+J18+J19+J20+J21+J22+J23+J24+J25+J26+J27+J28+J29+J30+J31+J32+J33+J34+J35+J36)) -> 12.978078
B37: =SUM(B35+7) -> 46405 | N37: =SUM(F37+J37) -> 0 | O37: =SUM(G37+K37) -> 0 | P37: =SUM(G37/F37) -> #DIV/0! | Q37: =SUM(K37/J37) -> #DIV/0! | R37: =SUM(O37/N37) -> #DIV/0! | S37: =SUM((G3+G4+G5+G6+G7+G8+G9+G10+G11+G12+G13+G14+G15+G16+G17+G18+G19+G20+G21+G22+G23+G24+G25+G26+G27+G28+G29+G30+G31+G32+G33+G34+G35+G36+G37+K3+K4+K5+K6+K7+K8+K9+K10+K11+K12+K13+K14+K15+K16+K17+K18+K19+K20+K21+K22+K23+K24+K25+K26+K27+K28+K29+K30+K31+K32+K33+K34+K35+K36+K37)/(F3+F4+F5+F6+F7+F8+F9+F10+F11+F12+F13+F14+F15+F16+F17+F18+F19+F20+F21+F22+F23+F24+F25+F26+F27+F28+F29+F30+F31+F32+F33+F34+F35+F36+F37+J3+J4+J5+J6+J7+J8+J9+J10+J11+J12+J13+J14+J15+J16+J17+J18+J19+J20+J21+J22+J23+J24+J25+J26+J27+J28+J29+J30+J31+J32+J33+J34+J35+J36+J37)) -> 12.978078
N38: =SUM(F38+J38) -> 0 | O38: =SUM(G38+K38) -> 0 | P38: =SUM(G38/F38) -> #DIV/0! | Q38: =SUM(K38/J38) -> #DIV/0! | R38: =SUM(O38/N38) -> #DIV/0! | S38: =SUM((G3+G4+G5+G6+G7+G8+G9+G10+G11+G12+G13+G14+G15+G16+G17+G18+G19+G20+G21+G22+G23+G24+G25+G26+G27+G28+G29+G30+G31+G32+G33+G34+G35+G36+G37+G38+K3+K4+K5+K6+K7+K8+K9+K10+K11+K12+K13+K14+K15+K16+K17+K18+K19+K20+K21+K22+K23+K24+K25+K26+K27+K28+K29+K30+K31+K32+K33+K34+K35+K36+K37+K38)/(F3+F4+F5+F6+F7+F8+F9+F10+F11+F12+F13+F14+F15+F16+F17+F18+F19+F20+F21+F22+F23+F24+F25+F26+F27+F28+F29+F30+F31+F32+F33+F34+F35+F36+F37+F38+J3+J4+J5+J6+J7+J8+J9+J10+J11+J12+J13+J14+J15+J16+J17+J18+J19+J20+J21+J22+J23+J24+J25+J26+J27+J28+J29+J30+J31+J32+J33+J34+J35+J36+J37+J38)) -> 12.978078
B39: =SUM(B37+7) -> 46412 | N39: =SUM(F39+J39) -> 0 | O39: =SUM(G39+K39) -> 0 | P39: =SUM(G39/F39) -> #DIV/0! | Q39: =SUM(K39/J39) -> #DIV/0! | R39: =SUM(O39/N39) -> #DIV/0! | S39: =SUM((G3+G4+G5+G6+G7+G8+G9+G10+G11+G12+G13+G14+G15+G16+G17+G18+G19+G20+G21+G22+G23+G24+G25+G26+G27+G28+G29+G30+G31+G32+G33+G34+G35+G36+G37+G38+G39+K3+K4+K5+K6+K7+K8+K9+K10+K11+K12+K13+K14+K15+K16+K17+K18+K19+K20+K21+K22+K23+K24+K25+K26+K27+K28+K29+K30+K31+K32+K33+K34+K35+K36+K37+K38+K39)/(F3+F4+F5+F6+F7+F8+F9+F10+F11+F12+F13+F14+F15+F16+F17+F18+F19+F20+F21+F22+F23+F24+F25+F26+F27+F28+F29+F30+F31+F32+F33+F34+F35+F36+F37+F38+F39+J3+J4+J5+J6+J7+J8+J9+J10+J11+J12+J13+J14+J15+J16+J17+J18+J19+J20+J21+J22+J23+J24+J25+J26+J27+J28+J29+J30+J31+J32+J33+J34+J35+J36+J37+J38+J39)) -> 12.978078
N40: =SUM(F40+J40) -> 0 | O40: =SUM(G40+K40) -> 0 | P40: =SUM(G40/F40) -> #DIV/0! | Q40: =SUM(K40/J40) -> #DIV/0! | R40: =SUM(O40/N40) -> #DIV/0! | S40: =SUM((G3+G4+G5+G6+G7+G8+G9+G10+G11+G12+G13+G14+G15+G16+G17+G18+G19+G20+G21+G22+G23+G24+G25+G26+G27+G28+G29+G30+G31+G32+G33+G34+G35+G36+G37+G38+G39+G40+K3+K4+K5+K6+K7+K8+K9+K10+K11+K12+K13+K14+K15+K16+K17+K18+K19+K20+K21+K22+K23+K24+K25+K26+K27+K28+K29+K30+K31+K32+K33+K34+K35+K36+K37+K38+K39+K40)/(F3+F4+F5+F6+F7+F8+F9+F10+F11+F12+F13+F14+F15+F16+F17+F18+F19+F20+F21+F22+F23+F24+F25+F26+F27+F28+F29+F30+F31+F32+F33+F34+F35+F36+F37+F38+F39+F40+J3+J4+J5+J6+J7+J8+J9+J10+J11+J12+J13+J14+J15+J16+J17+J18+J19+J20+J21+J22+J23+J24+J25+J26+J27+J28+J29+J30+J31+J32+J33+J34+J35+J36+J37+J38+J39+J40)) -> 12.978078
...

Sheet Whiskey Shots
A1: NAME | B1: DATE | C1: SINGLES CRICKET | D1: WIN? | E1: LOSS? | F1: 501 DARTS THROWN | G1: 501 POINTS | H1: WIN? | I1: LOSS? | J1: 301 DARTS THROWN | K1: 301 POINTS | L1: WIN? | M1: LOSS? | N1: TOTAL DARTS THROWN | O1: TOTAL POINTS | P1: 501 AVERAGE | Q1: 301 AVERAGE | R1: MATCH AVERAGE | S1: WEEKLY AVERAGE
A2: Mike Loyd
B3: 46286 | E3: X | F3: 24 | G3: 463 | I3: X | J3: 24 | K3: 285 | M3: X | N3: =SUM(F3+J3) -> 48 | O3: =SUM(G3+K3) -> 748 | P3: =SUM(G3/F3) -> 19.291667 | Q3: =SUM(K3/J3) -> 11.875 | R3: =SUM(O3/N3) -> 15.583333 | S3: =SUM((G3+K3)/(F3+J3)) -> 15.583333
F4: 34 | G4: 501 | H4: X | J4: 21 | K4: 218 | M4: X | N4: =SUM(F4+J4) -> 55 | O4: =SUM(G4+K4) -> 719 | P4: =SUM(G4/F4) -> 14.735294 | Q4: =SUM(K4/J4) -> 10.380952 | R4: =SUM(O4/N4) -> 13.072727 | S4: =SUM((G3+G4+K3+K4)/(F3+F4+J3+J4)) -> 14.242718
B5: =SUM(B3+7) -> 46293 | E5: X | F5: 70 | G5: 501 | H5: X | J5: 31 | K5: 301 | L5: X | N5: =SUM(F5+J5) -> 101 | O5: =SUM(G5+K5) -> 802 | P5: =SUM(G5/F5) -> 7.1571429 | Q5: =SUM(K5/J5) -> 9.7096774 | R5: =SUM(O5/N5) -> 7.9405941 | S5: =SUM((G3+G4+G5+K3+K4+K5)/(F3+F4+F5+J3+J4+J5)) -> 11.122549
F6: 33 | G6: 496 | I6: X | J6: 48 | K6: 299 | M6: X | N6: =SUM(F6+J6) -> 81 | O6: =SUM(G6+K6) -> 795 | P6: =SUM(G6/F6) -> 15.030303 | Q6: =SUM(K6/J6) -> 6.2291667 | R6: =SUM(O6/N6) -> 9.8148148 | S6: =SUM((G3+G4+G5+G6+K3+K4+K5+K6)/(F3+F4+F5+F6+J3+J4+J5+J6)) -> 10.750877
B7: =SUM(B5+7) -> 46300 | E7: X | F7: 31 | G7: 501 | H7: X | J7: 51 | K7: 299 | M7: X | N7: =SUM(F7+J7) -> 82 | O7: =SUM(G7+K7) -> 800 | P7: =SUM(G7/F7) -> 16.16129 | Q7: =SUM(K7/J7) -> 5.8627451 | R7: =SUM(O7/N7) -> 9.7560976 | S7: =SUM((G3+G4+G5+G6+G7+K3+K4+K5+K6+K7)/(F3+F4+F5+F6+F7+J3+J4+J5+J6+J7)) -> 10.52861
F8: 36 | G8: 460 | I8: X | J8: 27 | K8: 301 | L8: X | N8: =SUM(F8+J8) -> 63 | O8: =SUM(G8+K8) -> 761 | P8: =SUM(G8/F8) -> 12.777778 | Q8: =SUM(K8/J8) -> 11.148148 | R8: =SUM(O8/N8) -> 12.079365 | S8: =SUM((G3+G4+G5+G6+G7+G8+K3+K4+K5+K6+K7+K8)/(F3+F4+F5+F6+F7+F8+J3+J4+J5+J6+J7+J8)) -> 10.755814
B9: =SUM(B7+7) -> 46307 | D9: X | F9: 44 | G9: 501 | H9: X | J9: 36 | K9: 293 | M9: X | N9: =SUM(F9+J9) -> 80 | O9: =SUM(G9+K9) -> 794 | P9: =SUM(G9/F9) -> 11.386364 | Q9: =SUM(K9/J9) -> 8.1388889 | R9: =SUM(O9/N9) -> 9.925 | S9: =SUM((G3+G4+G5+G6+G7+G8+G9+K3+K4+K5+K6+K7+K8+K9)/(F3+F4+F5+F6+F7+F8+F9+J3+J4+J5+J6+J7+J8+J9)) -> 10.62549
F10: 42 | G10: 501 | H10: X | J10: 28 | K10: 301 | L10: X | N10: =SUM(F10+J10) -> 70 | O10: =SUM(G10+K10) -> 802 | P10: =SUM(G10/F10) -> 11.928571 | Q10: =SUM(K10/J10) -> 10.75 | R10: =SUM(O10/N10) -> 11.457143 | S10: =SUM((G3+G4+G5+G6+G7+G8+G9+G10+K3+K4+K5+K6+K7+K8+K9+K10)/(F3+F4+F5+F6+F7+F8+F9+F10+J3+J4+J5+J6+J7+J8+J9+J10)) -> 10.725862
B11: =SUM(B9+7) -> 46314 | D11: X | F11: 29 | G11: 501 | H11: X | J11: 27 | K11: 301 | L11: X | N11: =SUM(F11+J11) -> 56 | O11: =SUM(G11+K11) -> 802 | P11: =SUM(G11/F11) -> 17.275862 | Q11: =SUM(K11/J11) -> 11.148148 | R11: =SUM(O11/N11) -> 14.321429 | S11: =SUM((G3+G4+G5+G6+G7+G8+G9+G10+G11+K3+K4+K5+K6+K7+K8+K9+K10+K11)/(F3+F4+F5+F6+F7+F8+F9+F10+F11+J3+J4+J5+J6+J7+J8+J9+J10+J11)) -> 11.042453
F12: 39 | G12: 501 | H12: X | J12: 24 | K12: 277 | M12: X | N12: =SUM(F12+J12) -> 63 | O12: =SUM(G12+K12) -> 778 | P12: =SUM(G12/F12) -> 12.846154 | Q12: =SUM(K12/J12) -> 11.541667 | R12: =SUM(O12/N12) -> 12.349206 | S12: =SUM((G3+G4+G5+G6+G7+G8+G9+G10+G11+G12+K3+K4+K5+K6+K7+K8+K9+K10+K11+K12)/(F3+F4+F5+F6+F7+F8+F9+F10+F11+F12+J3+J4+J5+J6+J7+J8+J9+J10+J11+J12)) -> 11.160229
B13: =SUM(B11+7) -> 46321 | E13: X | F13: 33 | G13: 469 | I13: X | J13: 19 | K13: 301 | L13: X | N13: =SUM(F13+J13) -> 52 | O13: =SUM(G13+K13) -> 770 | P13: =SUM(G13/F13) -> 14.212121 | Q13: =SUM(K13/J13) -> 15.842105 | R13: =SUM(O13/N13) -> 14.807692 | S13: =SUM((G3+G4+G5+G6+G7+G8+G9+G10+G11+G12+G13+K3+K4+K5+K6+K7+K8+K9+K10+K11+K12+K13)/(F3+F4+F5+F6+F7+F8+F9+F10+F11+F12+F13+J3+J4+J5+J6+J7+J8+J9+J10+J11+J12+J13)) -> 11.412783
F14: 21 | G14: 242 | I14: X | J14: 30 | K14: 277 | M14: X | N14: =SUM(F14+J14) -> 51 | O14: =SUM(G14+K14) -> 519 | P14: =SUM(G14/F14) -> 11.52381 | Q14: =SUM(K14/J14) -> 9.2333333 | R14: =SUM(O14/N14) -> 10.176471 | S14: =SUM((G3+G4+G5+G6+G7+G8+G9+G10+G11+G12+G13+G14+K3+K4+K5+K6+K7+K8+K9+K10+K11+K12+K13+K14)/(F3+F4+F5+F6+F7+F8+F9+F10+F11+F12+F13+F14+J3+J4+J5+J6+J7+J8+J9+J10+J11+J12+J13+J14)) -> 11.334165
B15: =SUM(B13+7) -> 46328 | N15: =SUM(F15+J15) -> 0 | O15: =SUM(G15+K15) -> 0 | P15: =SUM(G15/F15) -> #DIV/0! | Q15: =SUM(K15/J15) -> #DIV/0! | R15: =SUM(O15/N15) -> #DIV/0! | S15: =SUM((G3+G4+G5+G6+G7+G8+G9+G10+G11+G12+G13+G14+G15+K3+K4+K5+K6+K7+K8+K9+K10+K11+K12+K13+K14+K15)/(F3+F4+F5+F6+F7+F8+F9+F10+F11+F12+F13+F14+F15+J3+J4+J5+J6+J7+J8+J9+J10+J11+J12+J13+J14+J15)) -> 11.334165
N16: =SUM(F16+J16) -> 0 | O16: =SUM(G16+K16) -> 0 | P16: =SUM(G16/F16) -> #DIV/0! | Q16: =SUM(K16/J16) -> #DIV/0! | R16: =SUM(O16/N16) -> #DIV/0! | S16: =SUM((G3+G4+G5+G6+G7+G8+G9+G10+G11+G12+G13+G14+G15+G16+K3+K4+K5+K6+K7+K8+K9+K10+K11+K12+K13+K14+K15+K16)/(F3+F4+F5+F6+F7+F8+F9+F10+F11+F12+F13+F14+F15+F16+J3+J4+J5+J6+J7+J8+J9+J10+J11+J12+J13+J14+J15+J16)) -> 11.334165
B17: =SUM(B15+7) -> 46335 | N17: =SUM(F17+J17) -> 0 | O17: =SUM(G17+K17) -> 0 | P17: =SUM(G17/F17) -> #DIV/0! | Q17: =SUM(K17/J17) -> #DIV/0! | R17: =SUM(O17/N17) -> #DIV/0! | S17: =SUM((G3+G4+G5+G6+G7+G8+G9+G10+G11+G12+G13+G14+G15+G16+G17+K3+K4+K5+K6+K7+K8+K9+K10+K11+K12+K13+K14+K15+K16+K17)/(F3+F4+F5+F6+F7+F8+F9+F10+F11+F12+F13+F14+F15+F16+F17+J3+J4+J5+J6+J7+J8+J9+J10+J11+J12+J13+J14+J15+J16+J17)) -> 11.334165
N18: =SUM(F18+J18) -> 0 | O18: =SUM(G18+K18) -> 0 | P18: =SUM(G18/F18) -> #DIV/0! | Q18: =SUM(K18/J18) -> #DIV/0! | R18: =SUM(O18/N18) -> #DIV/0! | S18: =SUM((G3+G4+G5+G6+G7+G8+G9+G10+G11+G12+G13+G14+G15+G16+G17+G18+K3+K4+K5+K6+K7+K8+K9+K10+K11+K12+K13+K14+K15+K16+K17+K18)/(F3+F4+F5+F6+F7+F8+F9+F10+F11+F12+F13+F14+F15+F16+F17+F18+J3+J4+J5+J6+J7+J8+J9+J10+J11+J12+J13+J14+J15+J16+J17+J18)) -> 11.334165
B19: =SUM(B17+7) -> 46342 | N19: =SUM(F19+J19) -> 0 | O19: =SUM(G19+K19) -> 0 | P19: =SUM(G19/F19) -> #DIV/0! | Q19: =SUM(K19/J19) -> #DIV/0! | R19: =SUM(O19/N19) -> #DIV/0! | S19: =SUM((G3+G4+G5+G6+G7+G8+G9+G10+G11+G12+G13+G14+G15+G16+G17+G18+G19+K3+K4+K5+K6+K7+K8+K9+K10+K11+K12+K13+K14+K15+K16+K17+K18+K19)/(F3+F4+F5+F6+F7+F8+F9+F10+F11+F12+F13+F14+F15+F16+F17+F18+F19+J3+J4+J5+J6+J7+J8+J9+J10+J11+J12+J13+J14+J15+J16+J17+J18+J19)) -> 11.334165
N20: =SUM(F20+J20) -> 0 | O20: =SUM(G20+K20) -> 0 | P20: =SUM(G20/F20) -> #DIV/0! | Q20: =SUM(K20/J20) -> #DIV/0! | R20: =SUM(O20/N20) -> #DIV/0! | S20: =SUM((G3+G4+G5+G6+G7+G8+G9+G10+G11+G12+G13+G14+G15+G16+G17+G18+G19+G20+K3+K4+K5+K6+K7+K8+K9+K10+K11+K12+K13+K14+K15+K16+K17+K18+K19+K20)/(F3+F4+F5+F6+F7+F8+F9+F10+F11+F12+F13+F14+F15+F16+F17+F18+F19+F20+J3+J4+J5+J6+J7+J8+J9+J10+J11+J12+J13+J14+J15+J16+J17+J18+J19+J20)) -> 11.334165
B21: =SUM(B19+7) -> 46349 | N21: =SUM(F21+J21) -> 0 | O21: =SUM(G21+K21) -> 0 | P21: =SUM(G21/F21) -> #DIV/0! | Q21: =SUM(K21/J21) -> #DIV/0! | R21: =SUM(O21/N21) -> #DIV/0! | S21: =SUM((G3+G4+G5+G6+G7+G8+G9+G10+G11+G12+G13+G14+G15+G16+G17+G18+G19+G20+G21+K3+K4+K5+K6+K7+K8+K9+K10+K11+K12+K13+K14+K15+K16+K17+K18+K19+K20+K21)/(F3+F4+F5+F6+F7+F8+F9+F10+F11+F12+F13+F14+F15+F16+F17+F18+F19+F20+F21+J3+J4+J5+J6+J7+J8+J9+J10+J11+J12+J13+J14+J15+J16+J17+J18+J19+J20+J21)) -> 11.334165
N22: =SUM(F22+J22) -> 0 | O22: =SUM(G22+K22) -> 0 | P22: =SUM(G22/F22) -> #DIV/0! | Q22: =SUM(K22/J22) -> #DIV/0! | R22: =SUM(O22/N22) -> #DIV/0! | S22: =SUM((G3+G4+G5+G6+G7+G8+G9+G10+G11+G12+G13+G14+G15+G16+G17+G18+G19+G20+G21+G22+K3+K4+K5+K6+K7+K8+K9+K10+K11+K12+K13+K14+K15+K16+K17+K18+K19+K20+K21+K22)/(F3+F4+F5+F6+F7+F8+F9+F10+F11+F12+F13+F14+F15+F16+F17+F18+F19+F20+F21+F22+J3+J4+J5+J6+J7+J8+J9+J10+J11+J12+J13+J14+J15+J16+J17+J18+J19+J20+J21+J22)) -> 11.334165
B23: =SUM(B21+7) -> 46356 | N23: =SUM(F23+J23) -> 0 | O23: =SUM(G23+K23) -> 0 | P23: =SUM(G23/F23) -> #DIV/0! | Q23: =SUM(K23/J23) -> #DIV/0! | R23: =SUM(O23/N23) -> #DIV/0! | S23: =SUM((G3+G4+G5+G6+G7+G8+G9+G10+G11+G12+G13+G14+G15+G16+G17+G18+G19+G20+G21+G22+G23+K3+K4+K5+K6+K7+K8+K9+K10+K11+K12+K13+K14+K15+K16+K17+K18+K19+K20+K21+K22+K23)/(F3+F4+F5+F6+F7+F8+F9+F10+F11+F12+F13+F14+F15+F16+F17+F18+F19+F20+F21+F22+F23+J3+J4+J5+J6+J7+J8+J9+J10+J11+J12+J13+J14+J15+J16+J17+J18+J19+J20+J21+J22+J23)) -> 11.334165
N24: =SUM(F24+J24) -> 0 | O24: =SUM(G24+K24) -> 0 | P24: =SUM(G24/F24) -> #DIV/0! | Q24: =SUM(K24/J24) -> #DIV/0! | R24: =SUM(O24/N24) -> #DIV/0! | S24: =SUM((G3+G4+G5+G6+G7+G8+G9+G10+G11+G12+G13+G14+G15+G16+G17+G18+G19+G20+G21+G22+G23+G24+K3+K4+K5+K6+K7+K8+K9+K10+K11+K12+K13+K14+K15+K16+K17+K18+K19+K20+K21+K22+K23+K24)/(F3+F4+F5+F6+F7+F8+F9+F10+F11+F12+F13+F14+F15+F16+F17+F18+F19+F20+F21+F22+F23+F24+J3+J4+J5+J6+J7+J8+J9+J10+J11+J12+J13+J14+J15+J16+J17+J18+J19+J20+J21+J22+J23+J24)) -> 11.334165
B25: =SUM(B23+7) -> 46363 | N25: =SUM(F25+J25) -> 0 | O25: =SUM(G25+K25) -> 0 | P25: =SUM(G25/F25) -> #DIV/0! | Q25: =SUM(K25/J25) -> #DIV/0! | R25: =SUM(O25/N25) -> #DIV/0! | S25: =SUM((G3+G4+G5+G6+G7+G8+G9+G10+G11+G12+G13+G14+G15+G16+G17+G18+G19+G20+G21+G22+G23+G24+G25+K3+K4+K5+K6+K7+K8+K9+K10+K11+K12+K13+K14+K15+K16+K17+K18+K19+K20+K21+K22+K23+K24+K25)/(F3+F4+F5+F6+F7+F8+F9+F10+F11+F12+F13+F14+F15+F16+F17+F18+F19+F20+F21+F22+F23+F24+F25+J3+J4+J5+J6+J7+J8+J9+J10+J11+J12+J13+J14+J15+J16+J17+J18+J19+J20+J21+J22+J23+J24+J25)) -> 11.334165
N26: =SUM(F26+J26) -> 0 | O26: =SUM(G26+K26) -> 0 | P26: =SUM(G26/F26) -> #DIV/0! | Q26: =SUM(K26/J26) -> #DIV/0! | R26: =SUM(O26/N26) -> #DIV/0! | S26: =SUM((G3+G4+G5+G6+G7+G8+G9+G10+G11+G12+G13+G14+G15+G16+G17+G18+G19+G20+G21+G22+G23+G24+G25+G26+K3+K4+K5+K6+K7+K8+K9+K10+K11+K12+K13+K14+K15+K16+K17+K18+K19+K20+K21+K22+K23+K24+K25+K26)/(F3+F4+F5+F6+F7+F8+F9+F10+F11+F12+F13+F14+F15+F16+F17+F18+F19+F20+F21+F22+F23+F24+F25+F26+J3+J4+J5+J6+J7+J8+J9+J10+J11+J12+J13+J14+J15+J16+J17+J18+J19+J20+J21+J22+J23+J24+J25+J26)) -> 11.334165
B27: =SUM(B25+7) -> 46370 | N27: =SUM(F27+J27) -> 0 | O27: =SUM(G27+K27) -> 0 | P27: =SUM(G27/F27) -> #DIV/0! | Q27: =SUM(K27/J27) -> #DIV/0! | R27: =SUM(O27/N27) -> #DIV/0! | S27: =SUM((G3+G4+G5+G6+G7+G8+G9+G10+G11+G12+G13+G14+G15+G16+G17+G18+G19+G20+G21+G22+G23+G24+G25+G26+G27+K3+K4+K5+K6+K7+K8+K9+K10+K11+K12+K13+K14+K15+K16+K17+K18+K19+K20+K21+K22+K23+K24+K25+K26+K27)/(F3+F4+F5+F6+F7+F8+F9+F10+F11+F12+F13+F14+F15+F16+F17+F18+F19+F20+F21+F22+F23+F24+F25+F26+F27+J3+J4+J5+J6+J7+J8+J9+J10+J11+J12+J13+J14+J15+J16+J17+J18+J19+J20+J21+J22+J23+J24+J25+J26+J27)) -> 11.334165
N28: =SUM(F28+J28) -> 0 | O28: =SUM(G28+K28) -> 0 | P28: =SUM(G28/F28) -> #DIV/0! | Q28: =SUM(K28/J28) -> #DIV/0! | R28: =SUM(O28/N28) -> #DIV/0! | S28: =SUM((G3+G4+G5+G6+G7+G8+G9+G10+G11+G12+G13+G14+G15+G16+G17+G18+G19+G20+G21+G22+G23+G24+G25+G26+G27+G28+K3+K4+K5+K6+K7+K8+K9+K10+K11+K12+K13+K14+K15+K16+K17+K18+K19+K20+K21+K22+K23+K24+K25+K26+K27+K28)/(F3+F4+F5+F6+F7+F8+F9+F10+F11+F12+F13+F14+F15+F16+F17+F18+F19+F20+F21+F22+F23+F24+F25+F26+F27+F28+J3+J4+J5+J6+J7+J8+J9+J10+J11+J12+J13+J14+J15+J16+J17+J18+J19+J20+J21+J22+J23+J24+J25+J26+J27+J28)) -> 11.334165
B29: =SUM(B27+7) -> 46377 | N29: =SUM(F29+J29) -> 0 | O29: =SUM(G29+K29) -> 0 | P29: =SUM(G29/F29) -> #DIV/0! | Q29: =SUM(K29/J29) -> #DIV/0! | R29: =SUM(O29/N29) -> #DIV/0! | S29: =SUM((G3+G4+G5+G6+G7+G8+G9+G10+G11+G12+G13+G14+G15+G16+G17+G18+G19+G20+G21+G22+G23+G24+G25+G26+G27+G28+G29+K3+K4+K5+K6+K7+K8+K9+K10+K11+K12+K13+K14+K15+K16+K17+K18+K19+K20+K21+K22+K23+K24+K25+K26+K27+K28+K29)/(F3+F4+F5+F6+F7+F8+F9+F10+F11+F12+F13+F14+F15+F16+F17+F18+F19+F20+F21+F22+F23+F24+F25+F26+F27+F28+F29+J3+J4+J5+J6+J7+J8+J9+J10+J11+J12+J13+J14+J15+J16+J17+J18+J19+J20+J21+J22+J23+J24+J25+J26+J27+J28+J29)) -> 11.334165
N30: =SUM(F30+J30) -> 0 | O30: =SUM(G30+K30) -> 0 | P30: =SUM(G30/F30) -> #DIV/0! | Q30: =SUM(K30/J30) -> #DIV/0! | R30: =SUM(O30/N30) -> #DIV/0! | S30: =SUM((G3+G4+G5+G6+G7+G8+G9+G10+G11+G12+G13+G14+G15+G16+G17+G18+G19+G20+G21+G22+G23+G24+G25+G26+G27+G28+G29+G30+K3+K4+K5+K6+K7+K8+K9+K10+K11+K12+K13+K14+K15+K16+K17+K18+K19+K20+K21+K22+K23+K24+K25+K26+K27+K28+K29+K30)/(F3+F4+F5+F6+F7+F8+F9+F10+F11+F12+F13+F14+F15+F16+F17+F18+F19+F20+F21+F22+F23+F24+F25+F26+F27+F28+F29+F30+J3+J4+J5+J6+J7+J8+J9+J10+J11+J12+J13+J14+J15+J16+J17+J18+J19+J20+J21+J22+J23+J24+J25+J26+J27+J28+J29+J30)) -> 11.334165
B31: =SUM(B29+7) -> 46384 | N31: =SUM(F31+J31) -> 0 | O31: =SUM(G31+K31) -> 0 | P31: =SUM(G31/F31) -> #DIV/0! | Q31: =SUM(K31/J31) -> #DIV/0! | R31: =SUM(O31/N31) -> #DIV/0! | S31: =SUM((G3+G4+G5+G6+G7+G8+G9+G10+G11+G12+G13+G14+G15+G16+G17+G18+G19+G20+G21+G22+G23+G24+G25+G26+G27+G28+G29+G30+G31+K3+K4+K5+K6+K7+K8+K9+K10+K11+K12+K13+K14+K15+K16+K17+K18+K19+K20+K21+K22+K23+K24+K25+K26+K27+K28+K29+K30+K31)/(F3+F4+F5+F6+F7+F8+F9+F10+F11+F12+F13+F14+F15+F16+F17+F18+F19+F20+F21+F22+F23+F24+F25+F26+F27+F28+F29+F30+F31+J3+J4+J5+J6+J7+J8+J9+J10+J11+J12+J13+J14+J15+J16+J17+J18+J19+J20+J21+J22+J23+J24+J25+J26+J27+J28+J29+J30+J31)) -> 11.334165
N32: =SUM(F32+J32) -> 0 | O32: =SUM(G32+K32) -> 0 | P32: =SUM(G32/F32) -> #DIV/0! | Q32: =SUM(K32/J32) -> #DIV/0! | R32: =SUM(O32/N32) -> #DIV/0! | S32: =SUM((G3+G4+G5+G6+G7+G8+G9+G10+G11+G12+G13+G14+G15+G16+G17+G18+G19+G20+G21+G22+G23+G24+G25+G26+G27+G28+G29+G30+G31+G32+K3+K4+K5+K6+K7+K8+K9+K10+K11+K12+K13+K14+K15+K16+K17+K18+K19+K20+K21+K22+K23+K24+K25+K26+K27+K28+K29+K30+K31+K32)/(F3+F4+F5+F6+F7+F8+F9+F10+F11+F12+F13+F14+F15+F16+F17+F18+F19+F20+F21+F22+F23+F24+F25+F26+F27+F28+F29+F30+F31+F32+J3+J4+J5+J6+J7+J8+J9+J10+J11+J12+J13+J14+J15+J16+J17+J18+J19+J20+J21+J22+J23+J24+J25+J26+J27+J28+J29+J30+J31+J32)) -> 11.334165
B33: =SUM(B31+7) -> 46391 | N33: =SUM(F33+J33) -> 0 | O33: =SUM(G33+K33) -> 0 | P33: =SUM(G33/F33) -> #DIV/0! | Q33: =SUM(K33/J33) -> #DIV/0! | R33: =SUM(O33/N33) -> #DIV/0! | S33: =SUM((G3+G4+G5+G6+G7+G8+G9+G10+G11+G12+G13+G14+G15+G16+G17+G18+G19+G20+G21+G22+G23+G24+G25+G26+G27+G28+G29+G30+G31+G32+G33+K3+K4+K5+K6+K7+K8+K9+K10+K11+K12+K13+K14+K15+K16+K17+K18+K19+K20+K21+K22+K23+K24+K25+K26+K27+K28+K29+K30+K31+K32+K33)/(F3+F4+F5+F6+F7+F8+F9+F10+F11+F12+F13+F14+F15+F16+F17+F18+F19+F20+F21+F22+F23+F24+F25+F26+F27+F28+F29+F30+F31+F32+F33+J3+J4+J5+J6+J7+J8+J9+J10+J11+J12+J13+J14+J15+J16+J17+J18+J19+J20+J21+J22+J23+J24+J25+J26+J27+J28+J29+J30+J31+J32+J33)) -> 11.334165
N34: =SUM(F34+J34) -> 0 | O34: =SUM(G34+K34) -> 0 | P34: =SUM(G34/F34) -> #DIV/0! | Q34: =SUM(K34/J34) -> #DIV/0! | R34: =SUM(O34/N34) -> #DIV/0! | S34: =SUM((G3+G4+G5+G6+G7+G8+G9+G10+G11+G12+G13+G14+G15+G16+G17+G18+G19+G20+G21+G22+G23+G24+G25+G26+G27+G28+G29+G30+G31+G32+G33+G34+K3+K4+K5+K6+K7+K8+K9+K10+K11+K12+K13+K14+K15+K16+K17+K18+K19+K20+K21+K22+K23+K24+K25+K26+K27+K28+K29+K30+K31+K32+K33+K34)/(F3+F4+F5+F6+F7+F8+F9+F10+F11+F12+F13+F14+F15+F16+F17+F18+F19+F20+F21+F22+F23+F24+F25+F26+F27+F28+F29+F30+F31+F32+F33+F34+J3+J4+J5+J6+J7+J8+J9+J10+J11+J12+J13+J14+J15+J16+J17+J18+J19+J20+J21+J22+J23+J24+J25+J26+J27+J28+J29+J30+J31+J32+J33+J34)) -> 11.334165
B35: =SUM(B33+7) -> 46398 | N35: =SUM(F35+J35) -> 0 | O35: =SUM(G35+K35) -> 0 | P35: =SUM(G35/F35) -> #DIV/0! | Q35: =SUM(K35/J35) -> #DIV/0! | R35: =SUM(O35/N35) -> #DIV/0! | S35: =SUM((G3+G4+G5+G6+G7+G8+G9+G10+G11+G12+G13+G14+G15+G16+G17+G18+G19+G20+G21+G22+G23+G24+G25+G26+G27+G28+G29+G30+G31+G32+G33+G34+G35+K3+K4+K5+K6+K7+K8+K9+K10+K11+K12+K13+K14+K15+K16+K17+K18+K19+K20+K21+K22+K23+K24+K25+K26+K27+K28+K29+K30+K31+K32+K33+K34+K35)/(F3+F4+F5+F6+F7+F8+F9+F10+F11+F12+F13+F14+F15+F16+F17+F18+F19+F20+F21+F22+F23+F24+F25+F26+F27+F28+F29+F30+F31+F32+F33+F34+F35+J3+J4+J5+J6+J7+J8+J9+J10+J11+J12+J13+J14+J15+J16+J17+J18+J19+J20+J21+J22+J23+J24+J25+J26+J27+J28+J29+J30+J31+J32+J33+J34+J35)) -> 11.334165
N36: =SUM(F36+J36) -> 0 | O36: =SUM(G36+K36) -> 0 | P36: =SUM(G36/F36) -> #DIV/0! | Q36: =SUM(K36/J36) -> #DIV/0! | R36: =SUM(O36/N36) -> #DIV/0! | S36: =SUM((G3+G4+G5+G6+G7+G8+G9+G10+G11+G12+G13+G14+G15+G16+G17+G18+G19+G20+G21+G22+G23+G24+G25+G26+G27+G28+G29+G30+G31+G32+G33+G34+G35+G36+K3+K4+K5+K6+K7+K8+K9+K10+K11+K12+K13+K14+K15+K16+K17+K18+K19+K20+K21+K22+K23+K24+K25+K26+K27+K28+K29+K30+K31+K32+K33+K34+K35+K36)/(F3+F4+F5+F6+F7+F8+F9+F10+F11+F12+F13+F14+F15+F16+F17+F18+F19+F20+F21+F22+F23+F24+F25+F26+F27+F28+F29+F30+F31+F32+F33+F34+F35+F36+J3+J4+J5+J6+J7+J8+J9+J10+J11+J12+J13+J14+J15+J16+J17+J18+J19+J20+J21+J22+J23+J24+J25+J26+J27+J28+J29+J30+J31+J32+J33+J34+J35+J36)) -> 11.334165
B37: =SUM(B35+7) -> 46405 | N37: =SUM(F37+J37) -> 0 | O37: =SUM(G37+K37) -> 0 | P37: =SUM(G37/F37) -> #DIV/0! | Q37: =SUM(K37/J37) -> #DIV/0! | R37: =SUM(O37/N37) -> #DIV/0! | S37: =SUM((G3+G4+G5+G6+G7+G8+G9+G10+G11+G12+G13+G14+G15+G16+G17+G18+G19+G20+G21+G22+G23+G24+G25+G26+G27+G28+G29+G30+G31+G32+G33+G34+G35+G36+G37+K3+K4+K5+K6+K7+K8+K9+K10+K11+K12+K13+K14+K15+K16+K17+K18+K19+K20+K21+K22+K23+K24+K25+K26+K27+K28+K29+K30+K31+K32+K33+K34+K35+K36+K37)/(F3+F4+F5+F6+F7+F8+F9+F10+F11+F12+F13+F14+F15+F16+F17+F18+F19+F20+F21+F22+F23+F24+F25+F26+F27+F28+F29+F30+F31+F32+F33+F34+F35+F36+F37+J3+J4+J5+J6+J7+J8+J9+J10+J11+J12+J13+J14+J15+J16+J17+J18+J19+J20+J21+J22+J23+J24+J25+J26+J27+J28+J29+J30+J31+J32+J33+J34+J35+J36+J37)) -> 11.334165
N38: =SUM(F38+J38) -> 0 | O38: =SUM(G38+K38) -> 0 | P38: =SUM(G38/F38) -> #DIV/0! | Q38: =SUM(K38/J38) -> #DIV/0! | R38: =SUM(O38/N38) -> #DIV/0! | S38: =SUM((G3+G4+G5+G6+G7+G8+G9+G10+G11+G12+G13+G14+G15+G16+G17+G18+G19+G20+G21+G22+G23+G24+G25+G26+G27+G28+G29+G30+G31+G32+G33+G34+G35+G36+G37+G38+K3+K4+K5+K6+K7+K8+K9+K10+K11+K12+K13+K14+K15+K16+K17+K18+K19+K20+K21+K22+K23+K24+K25+K26+K27+K28+K29+K30+K31+K32+K33+K34+K35+K36+K37+K38)/(F3+F4+F5+F6+F7+F8+F9+F10+F11+F12+F13+F14+F15+F16+F17+F18+F19+F20+F21+F22+F23+F24+F25+F26+F27+F28+F29+F30+F31+F32+F33+F34+F35+F36+F37+F38+J3+J4+J5+J6+J7+J8+J9+J10+J11+J12+J13+J14+J15+J16+J17+J18+J19+J20+J21+J22+J23+J24+J25+J26+J27+J28+J29+J30+J31+J32+J33+J34+J35+J36+J37+J38)) -> 11.334165
B39: =SUM(B37+7) -> 46412 | N39: =SUM(F39+J39) -> 0 | O39: =SUM(G39+K39) -> 0 | P39: =SUM(G39/F39) -> #DIV/0! | Q39: =SUM(K39/J39) -> #DIV/0! | R39: =SUM(O39/N39) -> #DIV/0! | S39: =SUM((G3+G4+G5+G6+G7+G8+G9+G10+G11+G12+G13+G14+G15+G16+G17+G18+G19+G20+G21+G22+G23+G24+G25+G26+G27+G28+G29+G30+G31+G32+G33+G34+G35+G36+G37+G38+G39+K3+K4+K5+K6+K7+K8+K9+K10+K11+K12+K13+K14+K15+K16+K17+K18+K19+K20+K21+K22+K23+K24+K25+K26+K27+K28+K29+K30+K31+K32+K33+K34+K35+K36+K37+K38+K39)/(F3+F4+F5+F6+F7+F8+F9+F10+F11+F12+F13+F14+F15+F16+F17+F18+F19+F20+F21+F22+F23+F24+F25+F26+F27+F28+F29+F30+F31+F32+F33+F34+F35+F36+F37+F38+F39+J3+J4+J5+J6+J7+J8+J9+J10+J11+J12+J13+J14+J15+J16+J17+J18+J19+J20+J21+J22+J23+J24+J25+J26+J27+J28+J29+J30+J31+J32+J33+J34+J35+J36+J37+J38+J39)) -> 11.334165
N40: =SUM(F40+J40) -> 0 | O40: =SUM(G40+K40) -> 0 | P40: =SUM(G40/F40) -> #DIV/0! | Q40: =SUM(K40/J40) -> #DIV/0! | R40: =SUM(O40/N40) -> #DIV/0! | S40: =SUM((G3+G4+G5+G6+G7+G8+G9+G10+G11+G12+G13+G14+G15+G16+G17+G18+G19+G20+G21+G22+G23+G24+G25+G26+G27+G28+G29+G30+G31+G32+G33+G34+G35+G36+G37+G38+G39+G40+K3+K4+K5+K6+K7+K8+K9+K10+K11+K12+K13+K14+K15+K16+K17+K18+K19+K20+K21+K22+K23+K24+K25+K26+K27+K28+K29+K30+K31+K32+K33+K34+K35+K36+K37+K38+K39+K40)/(F3+F4+F5+F6+F7+F8+F9+F10+F11+F12+F13+F14+F15+F16+F17+F18+F19+F20+F21+F22+F23+F24+F25+F26+F27+F28+F29+F30+F31+F32+F33+F34+F35+F36+F37+F38+F39+F40+J3+J4+J5+J6+J7+J8+J9+J10+J11+J12+J13+J14+J15+J16+J17+J18+J19+J20+J21+J22+J23+J24+J25+J26+J27+J28+J29+J30+J31+J32+J33+J34+J35+J36+J37+J38+J39+J40)) -> 11.334165
...

Sheet DRW
A1: NAME | B1: DATE | C1: SINGLES CRICKET | D1: WIN? | E1: LOSS? | F1: 501 DARTS THROWN | G1: 501 POINTS | H1: WIN? | I1: LOSS? | J1: 301 DARTS THROWN | K1: 301 POINTS | L1: WIN? | M1: LOSS? | N1: TOTAL DARTS THROWN | O1: TOTAL POINTS | P1: 501 AVERAGE | Q1: 301 AVERAGE | R1: MATCH AVERAGE | S1: WEEKLY AVERAGE
A2: Richard Whitmer
B3: 46286 | D3: X | F3: 30 | G3: 425 | I3: X | J3: 33 | K3: 293 | M3: X | N3: =SUM(F3+J3) -> 63 | O3: =SUM(G3+K3) -> 718 | P3: =SUM(G3/F3) -> 14.166667 | Q3: =SUM(K3/J3) -> 8.8787879 | R3: =SUM(O3/N3) -> 11.396825 | S3: =SUM((G3+K3)/(F3+J3)) -> 11.396825
F4: 83 | G4: 501 | H4: X | J4: 35 | K4: 301 | L4: X | N4: =SUM(F4+J4) -> 118 | O4: =SUM(G4+K4) -> 802 | P4: =SUM(G4/F4) -> 6.0361446 | Q4: =SUM(K4/J4) -> 8.6 | R4: =SUM(O4/N4) -> 6.7966102 | S4: =SUM((G3+G4+K3+K4)/(F3+F4+J3+J4)) -> 8.3977901
B5: =SUM(B3+7) -> 46293 | D5: X | F5: 33 | G5: 455 | I5: X | J5: 24 | K5: 295 | M5: X | N5: =SUM(F5+J5) -> 57 | O5: =SUM(G5+K5) -> 750 | P5: =SUM(G5/F5) -> 13.787879 | Q5: =SUM(K5/J5) -> 12.291667 | R5: =SUM(O5/N5) -> 13.157895 | S5: =SUM((G3+G4+G5+K3+K4+K5)/(F3+F4+F5+J3+J4+J5)) -> 9.5378151
F6: 42 | G6: 469 | I6: X | J6: 68 | K6: 301 | L6: X | N6: =SUM(F6+J6) -> 110 | O6: =SUM(G6+K6) -> 770 | P6: =SUM(G6/F6) -> 11.166667 | Q6: =SUM(K6/J6) -> 4.4264706 | R6: =SUM(O6/N6) -> 7 | S6: =SUM((G3+G4+G5+G6+K3+K4+K5+K6)/(F3+F4+F5+F6+J3+J4+J5+J6)) -> 8.7356322
B7: =SUM(B5+7) -> 46300 | E7: X | F7: 30 | G7: 501 | H7: X | J7: 33 | K7: 293 | M7: X | N7: =SUM(F7+J7) -> 63 | O7: =SUM(G7+K7) -> 794 | P7: =SUM(G7/F7) -> 16.7 | Q7: =SUM(K7/J7) -> 8.8787879 | R7: =SUM(O7/N7) -> 12.603175 | S7: =SUM((G3+G4+G5+G6+G7+K3+K4+K5+K6+K7)/(F3+F4+F5+F6+F7+J3+J4+J5+J6+J7)) -> 9.3284672
F8: 54 | G8: 493 | I8: X | J8: 42 | K8: 299 | M8: X | N8: =SUM(F8+J8) -> 96 | O8: =SUM(G8+K8) -> 792 | P8: =SUM(G8/F8) -> 9.1296296 | Q8: =SUM(K8/J8) -> 7.1190476 | R8: =SUM(O8/N8) -> 8.25 | S8: =SUM((G3+G4+G5+G6+G7+G8+K3+K4+K5+K6+K7+K8)/(F3+F4+F5+F6+F7+F8+J3+J4+J5+J6+J7+J8)) -> 9.1242604
B9: =SUM(B7+7) -> 46307 | E9: X | F9: 26 | G9: 501 | H9: X | J9: 21 | K9: 284 | M9: X | N9: =SUM(F9+J9) -> 47 | O9: =SUM(G9+K9) -> 785 | P9: =SUM(G9/F9) -> 19.269231 | Q9: =SUM(K9/J9) -> 13.52381 | R9: =SUM(O9/N9) -> 16.702128 | S9: =SUM((G3+G4+G5+G6+G7+G8+G9+K3+K4+K5+K6+K7+K8+K9)/(F3+F4+F5+F6+F7+F8+F9+J3+J4+J5+J6+J7+J8+J9)) -> 9.767148
F10: 27 | G10: 452 | I10: X | J10: 45 | K10: 297 | M10: X | N10: =SUM(F10+J10) -> 72 | O10: =SUM(G10+K10) -> 749 | P10: =SUM(G10/F10) -> 16.740741 | Q10: =SUM(K10/J10) -> 6.6 | R10: =SUM(O10/N10) -> 10.402778 | S10: =SUM((G3+G4+G5+G6+G7+G8+G9+G10+K3+K4+K5+K6+K7+K8+K9+K10)/(F3+F4+F5+F6+F7+F8+F9+F10+J3+J4+J5+J6+J7+J8+J9+J10)) -> 9.8402556
B11: =SUM(B9+7) -> 46314 | E11: X | F11: 30 | G11: 475 | I11: X | J11: 27 | K11: 299 | M11: X | N11: =SUM(F11+J11) -> 57 | O11: =SUM(G11+K11) -> 774 | P11: =SUM(G11/F11) -> 15.833333 | Q11: =SUM(K11/J11) -> 11.074074 | R11: =SUM(O11/N11) -> 13.578947 | S11: =SUM((G3+G4+G5+G6+G7+G8+G9+G10+G11+K3+K4+K5+K6+K7+K8+K9+K10+K11)/(F3+F4+F5+F6+F7+F8+F9+F10+F11+J3+J4+J5+J6+J7+J8+J9+J10+J11)) -> 10.152269
F12: 35 | G12: 501 | H12: X | J12: 26 | K12: 301 | L12: X | N12: =SUM(F12+J12) -> 61 | O12: =SUM(G12+K12) -> 802 | P12: =SUM(G12/F12) -> 14.314286 | Q12: =SUM(K12/J12) -> 11.576923 | R12: =SUM(O12/N12) -> 13.147541 | S12: =SUM((G3+G4+G5+G6+G7+G8+G9+G10+G11+G12+K3+K4+K5+K6+K7+K8+K9+K10+K11+K12)/(F3+F4+F5+F6+F7+F8+F9+F10+F11+F12+J3+J4+J5+J6+J7+J8+J9+J10+J11+J12)) -> 10.397849
B13: =SUM(B11+7) -> 46321 | D13: X | F13: 27 | G13: 266 | I13: X | J13: 18 | K13: 102 | M13: X | N13: =SUM(F13+J13) -> 45 | O13: =SUM(G13+K13) -> 368 | P13: =SUM(G13/F13) -> 9.8518519 | Q13: =SUM(K13/J13) -> 5.6666667 | R13: =SUM(O13/N13) -> 8.1777778 | S13: =SUM((G3+G4+G5+G6+G7+G8+G9+G10+G11+G12+G13+K3+K4+K5+K6+K7+K8+K9+K10+K11+K12+K13)/(F3+F4+F5+F6+F7+F8+F9+F10+F11+F12+F13+J3+J4+J5+J6+J7+J8+J9+J10+J11+J12+J13)) -> 10.271229
F14: 31 | G14: 501 | H14: X | J14: 41 | K14: 301 | L14: X | N14: =SUM(F14+J14) -> 72 | O14: =SUM(G14+K14) -> 802 | P14: =SUM(G14/F14) -> 16.16129 | Q14: =SUM(K14/J14) -> 7.3414634 | R14: =SUM(O14/N14) -> 11.138889 | S14: =SUM((G3+G4+G5+G6+G7+G8+G9+G10+G11+G12+G13+G14+K3+K4+K5+K6+K7+K8+K9+K10+K11+K12+K13+K14)/(F3+F4+F5+F6+F7+F8+F9+F10+F11+F12+F13+F14+J3+J4+J5+J6+J7+J8+J9+J10+J11+J12+J13+J14)) -> 10.343786
B15: =SUM(B13+7) -> 46328 | N15: =SUM(F15+J15) -> 0 | O15: =SUM(G15+K15) -> 0 | P15: =SUM(G15/F15) -> #DIV/0! | Q15: =SUM(K15/J15) -> #DIV/0! | R15: =SUM(O15/N15) -> #DIV/0! | S15: =SUM((G3+G4+G5+G6+G7+G8+G9+G10+G11+G12+G13+G14+G15+K3+K4+K5+K6+K7+K8+K9+K10+K11+K12+K13+K14+K15)/(F3+F4+F5+F6+F7+F8+F9+F10+F11+F12+F13+F14+F15+J3+J4+J5+J6+J7+J8+J9+J10+J11+J12+J13+J14+J15)) -> 10.343786
N16: =SUM(F16+J16) -> 0 | O16: =SUM(G16+K16) -> 0 | P16: =SUM(G16/F16) -> #DIV/0! | Q16: =SUM(K16/J16) -> #DIV/0! | R16: =SUM(O16/N16) -> #DIV/0! | S16: =SUM((G3+G4+G5+G6+G7+G8+G9+G10+G11+G12+G13+G14+G15+G16+K3+K4+K5+K6+K7+K8+K9+K10+K11+K12+K13+K14+K15+K16)/(F3+F4+F5+F6+F7+F8+F9+F10+F11+F12+F13+F14+F15+F16+J3+J4+J5+J6+J7+J8+J9+J10+J11+J12+J13+J14+J15+J16)) -> 10.343786
B17: =SUM(B15+7) -> 46335 | N17: =SUM(F17+J17) -> 0 | O17: =SUM(G17+K17) -> 0 | P17: =SUM(G17/F17) -> #DIV/0! | Q17: =SUM(K17/J17) -> #DIV/0! | R17: =SUM(O17/N17) -> #DIV/0! | S17: =SUM((G3+G4+G5+G6+G7+G8+G9+G10+G11+G12+G13+G14+G15+G16+G17+K3+K4+K5+K6+K7+K8+K9+K10+K11+K12+K13+K14+K15+K16+K17)/(F3+F4+F5+F6+F7+F8+F9+F10+F11+F12+F13+F14+F15+F16+F17+J3+J4+J5+J6+J7+J8+J9+J10+J11+J12+J13+J14+J15+J16+J17)) -> 10.343786
N18: =SUM(F18+J18) -> 0 | O18: =SUM(G18+K18) -> 0 | P18: =SUM(G18/F18) -> #DIV/0! | Q18: =SUM(K18/J18) -> #DIV/0! | R18: =SUM(O18/N18) -> #DIV/0! | S18: =SUM((G3+G4+G5+G6+G7+G8+G9+G10+G11+G12+G13+G14+G15+G16+G17+G18+K3+K4+K5+K6+K7+K8+K9+K10+K11+K12+K13+K14+K15+K16+K17+K18)/(F3+F4+F5+F6+F7+F8+F9+F10+F11+F12+F13+F14+F15+F16+F17+F18+J3+J4+J5+J6+J7+J8+J9+J10+J11+J12+J13+J14+J15+J16+J17+J18)) -> 10.343786
B19: =SUM(B17+7) -> 46342 | N19: =SUM(F19+J19) -> 0 | O19: =SUM(G19+K19) -> 0 | P19: =SUM(G19/F19) -> #DIV/0! | Q19: =SUM(K19/J19) -> #DIV/0! | R19: =SUM(O19/N19) -> #DIV/0! | S19: =SUM((G3+G4+G5+G6+G7+G8+G9+G10+G11+G12+G13+G14+G15+G16+G17+G18+G19+K3+K4+K5+K6+K7+K8+K9+K10+K11+K12+K13+K14+K15+K16+K17+K18+K19)/(F3+F4+F5+F6+F7+F8+F9+F10+F11+F12+F13+F14+F15+F16+F17+F18+F19+J3+J4+J5+J6+J7+J8+J9+J10+J11+J12+J13+J14+J15+J16+J17+J18+J19)) -> 10.343786
N20: =SUM(F20+J20) -> 0 | O20: =SUM(G20+K20) -> 0 | P20: =SUM(G20/F20) -> #DIV/0! | Q20: =SUM(K20/J20) -> #DIV/0! | R20: =SUM(O20/N20) -> #DIV/0! | S20: =SUM((G3+G4+G5+G6+G7+G8+G9+G10+G11+G12+G13+G14+G15+G16+G17+G18+G19+G20+K3+K4+K5+K6+K7+K8+K9+K10+K11+K12+K13+K14+K15+K16+K17+K18+K19+K20)/(F3+F4+F5+F6+F7+F8+F9+F10+F11+F12+F13+F14+F15+F16+F17+F18+F19+F20+J3+J4+J5+J6+J7+J8+J9+J10+J11+J12+J13+J14+J15+J16+J17+J18+J19+J20)) -> 10.343786
B21: =SUM(B19+7) -> 46349 | N21: =SUM(F21+J21) -> 0 | O21: =SUM(G21+K21) -> 0 | P21: =SUM(G21/F21) -> #DIV/0! | Q21: =SUM(K21/J21) -> #DIV/0! | R21: =SUM(O21/N21) -> #DIV/0! | S21: =SUM((G3+G4+G5+G6+G7+G8+G9+G10+G11+G12+G13+G14+G15+G16+G17+G18+G19+G20+G21+K3+K4+K5+K6+K7+K8+K9+K10+K11+K12+K13+K14+K15+K16+K17+K18+K19+K20+K21)/(F3+F4+F5+F6+F7+F8+F9+F10+F11+F12+F13+F14+F15+F16+F17+F18+F19+F20+F21+J3+J4+J5+J6+J7+J8+J9+J10+J11+J12+J13+J14+J15+J16+J17+J18+J19+J20+J21)) -> 10.343786
N22: =SUM(F22+J22) -> 0 | O22: =SUM(G22+K22) -> 0 | P22: =SUM(G22/F22) -> #DIV/0! | Q22: =SUM(K22/J22) -> #DIV/0! | R22: =SUM(O22/N22) -> #DIV/0! | S22: =SUM((G3+G4+G5+G6+G7+G8+G9+G10+G11+G12+G13+G14+G15+G16+G17+G18+G19+G20+G21+G22+K3+K4+K5+K6+K7+K8+K9+K10+K11+K12+K13+K14+K15+K16+K17+K18+K19+K20+K21+K22)/(F3+F4+F5+F6+F7+F8+F9+F10+F11+F12+F13+F14+F15+F16+F17+F18+F19+F20+F21+F22+J3+J4+J5+J6+J7+J8+J9+J10+J11+J12+J13+J14+J15+J16+J17+J18+J19+J20+J21+J22)) -> 10.343786
B23: =SUM(B21+7) -> 46356 | N23: =SUM(F23+J23) -> 0 | O23: =SUM(G23+K23) -> 0 | P23: =SUM(G23/F23) -> #DIV/0! | Q23: =SUM(K23/J23) -> #DIV/0! | R23: =SUM(O23/N23) -> #DIV/0! | S23: =SUM((G3+G4+G5+G6+G7+G8+G9+G10+G11+G12+G13+G14+G15+G16+G17+G18+G19+G20+G21+G22+G23+K3+K4+K5+K6+K7+K8+K9+K10+K11+K12+K13+K14+K15+K16+K17+K18+K19+K20+K21+K22+K23)/(F3+F4+F5+F6+F7+F8+F9+F10+F11+F12+F13+F14+F15+F16+F17+F18+F19+F20+F21+F22+F23+J3+J4+J5+J6+J7+J8+J9+J10+J11+J12+J13+J14+J15+J16+J17+J18+J19+J20+J21+J22+J23)) -> 10.343786
N24: =SUM(F24+J24) -> 0 | O24: =SUM(G24+K24) -> 0 | P24: =SUM(G24/F24) -> #DIV/0! | Q24: =SUM(K24/J24) -> #DIV/0! | R24: =SUM(O24/N24) -> #DIV/0! | S24: =SUM((G3+G4+G5+G6+G7+G8+G9+G10+G11+G12+G13+G14+G15+G16+G17+G18+G19+G20+G21+G22+G23+G24+K3+K4+K5+K6+K7+K8+K9+K10+K11+K12+K13+K14+K15+K16+K17+K18+K19+K20+K21+K22+K23+K24)/(F3+F4+F5+F6+F7+F8+F9+F10+F11+F12+F13+F14+F15+F16+F17+F18+F19+F20+F21+F22+F23+F24+J3+J4+J5+J6+J7+J8+J9+J10+J11+J12+J13+J14+J15+J16+J17+J18+J19+J20+J21+J22+J23+J24)) -> 10.343786
B25: =SUM(B23+7) -> 46363 | N25: =SUM(F25+J25) -> 0 | O25: =SUM(G25+K25) -> 0 | P25: =SUM(G25/F25) -> #DIV/0! | Q25: =SUM(K25/J25) -> #DIV/0! | R25: =SUM(O25/N25) -> #DIV/0! | S25: =SUM((G3+G4+G5+G6+G7+G8+G9+G10+G11+G12+G13+G14+G15+G16+G17+G18+G19+G20+G21+G22+G23+G24+G25+K3+K4+K5+K6+K7+K8+K9+K10+K11+K12+K13+K14+K15+K16+K17+K18+K19+K20+K21+K22+K23+K24+K25)/(F3+F4+F5+F6+F7+F8+F9+F10+F11+F12+F13+F14+F15+F16+F17+F18+F19+F20+F21+F22+F23+F24+F25+J3+J4+J5+J6+J7+J8+J9+J10+J11+J12+J13+J14+J15+J16+J17+J18+J19+J20+J21+J22+J23+J24+J25)) -> 10.343786
N26: =SUM(F26+J26) -> 0 | O26: =SUM(G26+K26) -> 0 | P26: =SUM(G26/F26) -> #DIV/0! | Q26: =SUM(K26/J26) -> #DIV/0! | R26: =SUM(O26/N26) -> #DIV/0! | S26: =SUM((G3+G4+G5+G6+G7+G8+G9+G10+G11+G12+G13+G14+G15+G16+G17+G18+G19+G20+G21+G22+G23+G24+G25+G26+K3+K4+K5+K6+K7+K8+K9+K10+K11+K12+K13+K14+K15+K16+K17+K18+K19+K20+K21+K22+K23+K24+K25+K26)/(F3+F4+F5+F6+F7+F8+F9+F10+F11+F12+F13+F14+F15+F16+F17+F18+F19+F20+F21+F22+F23+F24+F25+F26+J3+J4+J5+J6+J7+J8+J9+J10+J11+J12+J13+J14+J15+J16+J17+J18+J19+J20+J21+J22+J23+J24+J25+J26)) -> 10.343786
B27: =SUM(B25+7) -> 46370 | N27: =SUM(F27+J27) -> 0 | O27: =SUM(G27+K27) -> 0 | P27: =SUM(G27/F27) -> #DIV/0! | Q27: =SUM(K27/J27) -> #DIV/0! | R27: =SUM(O27/N27) -> #DIV/0! | S27: =SUM((G3+G4+G5+G6+G7+G8+G9+G10+G11+G12+G13+G14+G15+G16+G17+G18+G19+G20+G21+G22+G23+G24+G25+G26+G27+K3+K4+K5+K6+K7+K8+K9+K10+K11+K12+K13+K14+K15+K16+K17+K18+K19+K20+K21+K22+K23+K24+K25+K26+K27)/(F3+F4+F5+F6+F7+F8+F9+F10+F11+F12+F13+F14+F15+F16+F17+F18+F19+F20+F21+F22+F23+F24+F25+F26+F27+J3+J4+J5+J6+J7+J8+J9+J10+J11+J12+J13+J14+J15+J16+J17+J18+J19+J20+J21+J22+J23+J24+J25+J26+J27)) -> 10.343786
N28: =SUM(F28+J28) -> 0 | O28: =SUM(G28+K28) -> 0 | P28: =SUM(G28/F28) -> #DIV/0! | Q28: =SUM(K28/J28) -> #DIV/0! | R28: =SUM(O28/N28) -> #DIV/0! | S28: =SUM((G3+G4+G5+G6+G7+G8+G9+G10+G11+G12+G13+G14+G15+G16+G17+G18+G19+G20+G21+G22+G23+G24+G25+G26+G27+G28+K3+K4+K5+K6+K7+K8+K9+K10+K11+K12+K13+K14+K15+K16+K17+K18+K19+K20+K21+K22+K23+K24+K25+K26+K27+K28)/(F3+F4+F5+F6+F7+F8+F9+F10+F11+F12+F13+F14+F15+F16+F17+F18+F19+F20+F21+F22+F23+F24+F25+F26+F27+F28+J3+J4+J5+J6+J7+J8+J9+J10+J11+J12+J13+J14+J15+J16+J17+J18+J19+J20+J21+J22+J23+J24+J25+J26+J27+J28)) -> 10.343786
B29: =SUM(B27+7) -> 46377 | N29: =SUM(F29+J29) -> 0 | O29: =SUM(G29+K29) -> 0 | P29: =SUM(G29/F29) -> #DIV/0! | Q29: =SUM(K29/J29) -> #DIV/0! | R29: =SUM(O29/N29) -> #DIV/0! | S29: =SUM((G3+G4+G5+G6+G7+G8+G9+G10+G11+G12+G13+G14+G15+G16+G17+G18+G19+G20+G21+G22+G23+G24+G25+G26+G27+G28+G29+K3+K4+K5+K6+K7+K8+K9+K10+K11+K12+K13+K14+K15+K16+K17+K18+K19+K20+K21+K22+K23+K24+K25+K26+K27+K28+K29)/(F3+F4+F5+F6+F7+F8+F9+F10+F11+F12+F13+F14+F15+F16+F17+F18+F19+F20+F21+F22+F23+F24+F25+F26+F27+F28+F29+J3+J4+J5+J6+J7+J8+J9+J10+J11+J12+J13+J14+J15+J16+J17+J18+J19+J20+J21+J22+J23+J24+J25+J26+J27+J28+J29)) -> 10.343786
N30: =SUM(F30+J30) -> 0 | O30: =SUM(G30+K30) -> 0 | P30: =SUM(G30/F30) -> #DIV/0! | Q30: =SUM(K30/J30) -> #DIV/0! | R30: =SUM(O30/N30) -> #DIV/0! | S30: =SUM((G3+G4+G5+G6+G7+G8+G9+G10+G11+G12+G13+G14+G15+G16+G17+G18+G19+G20+G21+G22+G23+G24+G25+G26+G27+G28+G29+G30+K3+K4+K5+K6+K7+K8+K9+K10+K11+K12+K13+K14+K15+K16+K17+K18+K19+K20+K21+K22+K23+K24+K25+K26+K27+K28+K29+K30)/(F3+F4+F5+F6+F7+F8+F9+F10+F11+F12+F13+F14+F15+F16+F17+F18+F19+F20+F21+F22+F23+F24+F25+F26+F27+F28+F29+F30+J3+J4+J5+J6+J7+J8+J9+J10+J11+J12+J13+J14+J15+J16+J17+J18+J19+J20+J21+J22+J23+J24+J25+J26+J27+J28+J29+J30)) -> 10.343786
B31: =SUM(B29+7) -> 46384 | N31: =SUM(F31+J31) -> 0 | O31: =SUM(G31+K31) -> 0 | P31: =SUM(G31/F31) -> #DIV/0! | Q31: =SUM(K31/J31) -> #DIV/0! | R31: =SUM(O31/N31) -> #DIV/0! | S31: =SUM((G3+G4+G5+G6+G7+G8+G9+G10+G11+G12+G13+G14+G15+G16+G17+G18+G19+G20+G21+G22+G23+G24+G25+G26+G27+G28+G29+G30+G31+K3+K4+K5+K6+K7+K8+K9+K10+K11+K12+K13+K14+K15+K16+K17+K18+K19+K20+K21+K22+K23+K24+K25+K26+K27+K28+K29+K30+K31)/(F3+F4+F5+F6+F7+F8+F9+F10+F11+F12+F13+F14+F15+F16+F17+F18+F19+F20+F21+F22+F23+F24+F25+F26+F27+F28+F29+F30+F31+J3+J4+J5+J6+J7+J8+J9+J10+J11+J12+J13+J14+J15+J16+J17+J18+J19+J20+J21+J22+J23+J24+J25+J26+J27+J28+J29+J30+J31)) -> 10.343786
N32: =SUM(F32+J32) -> 0 | O32: =SUM(G32+K32) -> 0 | P32: =SUM(G32/F32) -> #DIV/0! | Q32: =SUM(K32/J32) -> #DIV/0! | R32: =SUM(O32/N32) -> #DIV/0! | S32: =SUM((G3+G4+G5+G6+G7+G8+G9+G10+G11+G12+G13+G14+G15+G16+G17+G18+G19+G20+G21+G22+G23+G24+G25+G26+G27+G28+G29+G30+G31+G32+K3+K4+K5+K6+K7+K8+K9+K10+K11+K12+K13+K14+K15+K16+K17+K18+K19+K20+K21+K22+K23+K24+K25+K26+K27+K28+K29+K30+K31+K32)/(F3+F4+F5+F6+F7+F8+F9+F10+F11+F12+F13+F14+F15+F16+F17+F18+F19+F20+F21+F22+F23+F24+F25+F26+F27+F28+F29+F30+F31+F32+J3+J4+J5+J6+J7+J8+J9+J10+J11+J12+J13+J14+J15+J16+J17+J18+J19+J20+J21+J22+J23+J24+J25+J26+J27+J28+J29+J30+J31+J32)) -> 10.343786
B33: =SUM(B31+7) -> 46391 | N33: =SUM(F33+J33) -> 0 | O33: =SUM(G33+K33) -> 0 | P33: =SUM(G33/F33) -> #DIV/0! | Q33: =SUM(K33/J33) -> #DIV/0! | R33: =SUM(O33/N33) -> #DIV/0! | S33: =SUM((G3+G4+G5+G6+G7+G8+G9+G10+G11+G12+G13+G14+G15+G16+G17+G18+G19+G20+G21+G22+G23+G24+G25+G26+G27+G28+G29+G30+G31+G32+G33+K3+K4+K5+K6+K7+K8+K9+K10+K11+K12+K13+K14+K15+K16+K17+K18+K19+K20+K21+K22+K23+K24+K25+K26+K27+K28+K29+K30+K31+K32+K33)/(F3+F4+F5+F6+F7+F8+F9+F10+F11+F12+F13+F14+F15+F16+F17+F18+F19+F20+F21+F22+F23+F24+F25+F26+F27+F28+F29+F30+F31+F32+F33+J3+J4+J5+J6+J7+J8+J9+J10+J11+J12+J13+J14+J15+J16+J17+J18+J19+J20+J21+J22+J23+J24+J25+J26+J27+J28+J29+J30+J31+J32+J33)) -> 10.343786
N34: =SUM(F34+J34) -> 0 | O34: =SUM(G34+K34) -> 0 | P34: =SUM(G34/F34) -> #DIV/0! | Q34: =SUM(K34/J34) -> #DIV/0! | R34: =SUM(O34/N34) -> #DIV/0! | S34: =SUM((G3+G4+G5+G6+G7+G8+G9+G10+G11+G12+G13+G14+G15+G16+G17+G18+G19+G20+G21+G22+G23+G24+G25+G26+G27+G28+G29+G30+G31+G32+G33+G34+K3+K4+K5+K6+K7+K8+K9+K10+K11+K12+K13+K14+K15+K16+K17+K18+K19+K20+K21+K22+K23+K24+K25+K26+K27+K28+K29+K30+K31+K32+K33+K34)/(F3+F4+F5+F6+F7+F8+F9+F10+F11+F12+F13+F14+F15+F16+F17+F18+F19+F20+F21+F22+F23+F24+F25+F26+F27+F28+F29+F30+F31+F32+F33+F34+J3+J4+J5+J6+J7+J8+J9+J10+J11+J12+J13+J14+J15+J16+J17+J18+J19+J20+J21+J22+J23+J24+J25+J26+J27+J28+J29+J30+J31+J32+J33+J34)) -> 10.343786
B35: =SUM(B33+7) -> 46398 | N35: =SUM(F35+J35) -> 0 | O35: =SUM(G35+K35) -> 0 | P35: =SUM(G35/F35) -> #DIV/0! | Q35: =SUM(K35/J35) -> #DIV/0! | R35: =SUM(O35/N35) -> #DIV/0! | S35: =SUM((G3+G4+G5+G6+G7+G8+G9+G10+G11+G12+G13+G14+G15+G16+G17+G18+G19+G20+G21+G22+G23+G24+G25+G26+G27+G28+G29+G30+G31+G32+G33+G34+G35+K3+K4+K5+K6+K7+K8+K9+K10+K11+K12+K13+K14+K15+K16+K17+K18+K19+K20+K21+K22+K23+K24+K25+K26+K27+K28+K29+K30+K31+K32+K33+K34+K35)/(F3+F4+F5+F6+F7+F8+F9+F10+F11+F12+F13+F14+F15+F16+F17+F18+F19+F20+F21+F22+F23+F24+F25+F26+F27+F28+F29+F30+F31+F32+F33+F34+F35+J3+J4+J5+J6+J7+J8+J9+J10+J11+J12+J13+J14+J15+J16+J17+J18+J19+J20+J21+J22+J23+J24+J25+J26+J27+J28+J29+J30+J31+J32+J33+J34+J35)) -> 10.343786
N36: =SUM(F36+J36) -> 0 | O36: =SUM(G36+K36) -> 0 | P36: =SUM(G36/F36) -> #DIV/0! | Q36: =SUM(K36/J36) -> #DIV/0! | R36: =SUM(O36/N36) -> #DIV/0! | S36: =SUM((G3+G4+G5+G6+G7+G8+G9+G10+G11+G12+G13+G14+G15+G16+G17+G18+G19+G20+G21+G22+G23+G24+G25+G26+G27+G28+G29+G30+G31+G32+G33+G34+G35+G36+K3+K4+K5+K6+K7+K8+K9+K10+K11+K12+K13+K14+K15+K16+K17+K18+K19+K20+K21+K22+K23+K24+K25+K26+K27+K28+K29+K30+K31+K32+K33+K34+K35+K36)/(F3+F4+F5+F6+F7+F8+F9+F10+F11+F12+F13+F14+F15+F16+F17+F18+F19+F20+F21+F22+F23+F24+F25+F26+F27+F28+F29+F30+F31+F32+F33+F34+F35+F36+J3+J4+J5+J6+J7+J8+J9+J10+J11+J12+J13+J14+J15+J16+J17+J18+J19+J20+J21+J22+J23+J24+J25+J26+J27+J28+J29+J30+J31+J32+J33+J34+J35+J36)) -> 10.343786
B37: =SUM(B35+7) -> 46405 | N37: =SUM(F37+J37) -> 0 | O37: =SUM(G37+K37) -> 0 | P37: =SUM(G37/F37) -> #DIV/0! | Q37: =SUM(K37/J37) -> #DIV/0! | R37: =SUM(O37/N37) -> #DIV/0! | S37: =SUM((G3+G4+G5+G6+G7+G8+G9+G10+G11+G12+G13+G14+G15+G16+G17+G18+G19+G20+G21+G22+G23+G24+G25+G26+G27+G28+G29+G30+G31+G32+G33+G34+G35+G36+G37+K3+K4+K5+K6+K7+K8+K9+K10+K11+K12+K13+K14+K15+K16+K17+K18+K19+K20+K21+K22+K23+K24+K25+K26+K27+K28+K29+K30+K31+K32+K33+K34+K35+K36+K37)/(F3+F4+F5+F6+F7+F8+F9+F10+F11+F12+F13+F14+F15+F16+F17+F18+F19+F20+F21+F22+F23+F24+F25+F26+F27+F28+F29+F30+F31+F32+F33+F34+F35+F36+F37+J3+J4+J5+J6+J7+J8+J9+J10+J11+J12+J13+J14+J15+J16+J17+J18+J19+J20+J21+J22+J23+J24+J25+J26+J27+J28+J29+J30+J31+J32+J33+J34+J35+J36+J37)) -> 10.343786
N38: =SUM(F38+J38) -> 0 | O38: =SUM(G38+K38) -> 0 | P38: =SUM(G38/F38) -> #DIV/0! | Q38: =SUM(K38/J38) -> #DIV/0! | R38: =SUM(O38/N38) -> #DIV/0! | S38: =SUM((G3+G4+G5+G6+G7+G8+G9+G10+G11+G12+G13+G14+G15+G16+G17+G18+G19+G20+G21+G22+G23+G24+G25+G26+G27+G28+G29+G30+G31+G32+G33+G34+G35+G36+G37+G38+K3+K4+K5+K6+K7+K8+K9+K10+K11+K12+K13+K14+K15+K16+K17+K18+K19+K20+K21+K22+K23+K24+K25+K26+K27+K28+K29+K30+K31+K32+K33+K34+K35+K36+K37+K38)/(F3+F4+F5+F6+F7+F8+F9+F10+F11+F12+F13+F14+F15+F16+F17+F18+F19+F20+F21+F22+F23+F24+F25+F26+F27+F28+F29+F30+F31+F32+F33+F34+F35+F36+F37+F38+J3+J4+J5+J6+J7+J8+J9+J10+J11+J12+J13+J14+J15+J16+J17+J18+J19+J20+J21+J22+J23+J24+J25+J26+J27+J28+J29+J30+J31+J32+J33+J34+J35+J36+J37+J38)) -> 10.343786
B39: =SUM(B37+7) -> 46412 | N39: =SUM(F39+J39) -> 0 | O39: =SUM(G39+K39) -> 0 | P39: =SUM(G39/F39) -> #DIV/0! | Q39: =SUM(K39/J39) -> #DIV/0! | R39: =SUM(O39/N39) -> #DIV/0! | S39: =SUM((G3+G4+G5+G6+G7+G8+G9+G10+G11+G12+G13+G14+G15+G16+G17+G18+G19+G20+G21+G22+G23+G24+G25+G26+G27+G28+G29+G30+G31+G32+G33+G34+G35+G36+G37+G38+G39+K3+K4+K5+K6+K7+K8+K9+K10+K11+K12+K13+K14+K15+K16+K17+K18+K19+K20+K21+K22+K23+K24+K25+K26+K27+K28+K29+K30+K31+K32+K33+K34+K35+K36+K37+K38+K39)/(F3+F4+F5+F6+F7+F8+F9+F10+F11+F12+F13+F14+F15+F16+F17+F18+F19+F20+F21+F22+F23+F24+F25+F26+F27+F28+F29+F30+F31+F32+F33+F34+F35+F36+F37+F38+F39+J3+J4+J5+J6+J7+J8+J9+J10+J11+J12+J13+J14+J15+J16+J17+J18+J19+J20+J21+J22+J23+J24+J25+J26+J27+J28+J29+J30+J31+J32+J33+J34+J35+J36+J37+J38+J39)) -> 10.343786
N40: =SUM(F40+J40) -> 0 | O40: =SUM(G40+K40) -> 0 | P40: =SUM(G40/F40) -> #DIV/0! | Q40: =SUM(K40/J40) -> #DIV/0! | R40: =SUM(O40/N40) -> #DIV/0! | S40: =SUM((G3+G4+G5+G6+G7+G8+G9+G10+G11+G12+G13+G14+G15+G16+G17+G18+G19+G20+G21+G22+G23+G24+G25+G26+G27+G28+G29+G30+G31+G32+G33+G34+G35+G36+G37+G38+G39+G40+K3+K4+K5+K6+K7+K8+K9+K10+K11+K12+K13+K14+K15+K16+K17+K18+K19+K20+K21+K22+K23+K24+K25+K26+K27+K28+K29+K30+K31+K32+K33+K34+K35+K36+K37+K38+K39+K40)/(F3+F4+F5+F6+F7+F8+F9+F10+F11+F12+F13+F14+F15+F16+F17+F18+F19+F20+F21+F22+F23+F24+F25+F26+F27+F28+F29+F30+F31+F32+F33+F34+F35+F36+F37+F38+F39+F40+J3+J4+J5+J6+J7+J8+J9+J10+J11+J12+J13+J14+J15+J16+J17+J18+J19+J20+J21+J22+J23+J24+J25+J26+J27+J28+J29+J30+J31+J32+J33+J34+J35+J36+J37+J38+J39+J40)) -> 10.343786
...

Sheet Firing Squad
A1: NAME | B1: DATE | C1: SINGLES CRICKET | D1: WIN? | E1: LOSS? | F1: 501 DARTS THROWN | G1: 501 POINTS | H1: WIN? | I1: LOSS? | J1: 301 DARTS THROWN | K1: 301 POINTS | L1: WIN? | M1: LOSS? | N1: TOTAL DARTS THROWN | O1: TOTAL POINTS | P1: 501 AVERAGE | Q1: 301 AVERAGE | R1: MATCH AVERAGE | S1: WEEKLY AVERAGE
A2: Matt Blades
B3: 46286 | N3: =SUM(F3+J3) -> 0 | O3: =SUM(G3+K3) -> 0 | P3: =SUM(G3/F3) -> #DIV/0! | Q3: =SUM(K3/J3) -> #DIV/0! | R3: =SUM(O3/N3) -> #DIV/0! | S3: =SUM((G3+K3)/(F3+J3)) -> #DIV/0!
N4: =SUM(F4+J4) -> 0 | O4: =SUM(G4+K4) -> 0 | P4: =SUM(G4/F4) -> #DIV/0! | Q4: =SUM(K4/J4) -> #DIV/0! | R4: =SUM(O4/N4) -> #DIV/0! | S4: =SUM((G3+G4+K3+K4)/(F3+F4+J3+J4)) -> #DIV/0!
B5: =SUM(B3+7) -> 46293 | E5: X | F5: 34 | G5: 501 | H5: X | J5: 25 | K5: 301 | L5: X | N5: =SUM(F5+J5) -> 59 | O5: =SUM(G5+K5) -> 802 | P5: =SUM(G5/F5) -> 14.735294 | Q5: =SUM(K5/J5) -> 12.04 | R5: =SUM(O5/N5) -> 13.59322 | S5: =SUM((G3+G4+G5+K3+K4+K5)/(F3+F4+F5+J3+J4+J5)) -> 13.59322
F6: 33 | G6: 420 | I6: X | J6: 24 | K6: 301 | L6: X | N6: =SUM(F6+J6) -> 57 | O6: =SUM(G6+K6) -> 721 | P6: =SUM(G6/F6) -> 12.727273 | Q6: =SUM(K6/J6) -> 12.541667 | R6: =SUM(O6/N6) -> 12.649123 | S6: =SUM((G3+G4+G5+G6+K3+K4+K5+K6)/(F3+F4+F5+F6+J3+J4+J5+J6)) -> 13.12931
B7: =SUM(B5+7) -> 46300 | E7: X | F7: 31 | G7: 501 | H7: X | J7: 36 | K7: 299 | M7: X | N7: =SUM(F7+J7) -> 67 | O7: =SUM(G7+K7) -> 800 | P7: =SUM(G7/F7) -> 16.16129 | Q7: =SUM(K7/J7) -> 8.3055556 | R7: =SUM(O7/N7) -> 11.940299 | S7: =SUM((G3+G4+G5+G6+G7+K3+K4+K5+K6+K7)/(F3+F4+F5+F6+F7+J3+J4+J5+J6+J7)) -> 12.693989
F8: 55 | G8: 501 | H8: X | J8: 51 | K8: 299 | M8: X | N8: =SUM(F8+J8) -> 106 | O8: =SUM(G8+K8) -> 800 | P8: =SUM(G8/F8) -> 9.1090909 | Q8: =SUM(K8/J8) -> 5.8627451 | R8: =SUM(O8/N8) -> 7.5471698 | S8: =SUM((G3+G4+G5+G6+G7+G8+K3+K4+K5+K6+K7+K8)/(F3+F4+F5+F6+F7+F8+J3+J4+J5+J6+J7+J8)) -> 10.806228
B9: =SUM(B7+7) -> 46307 | E9: X | F9: 45 | G9: 499 | I9: X | J9: 37 | K9: 301 | L9: X | N9: =SUM(F9+J9) -> 82 | O9: =SUM(G9+K9) -> 800 | P9: =SUM(G9/F9) -> 11.088889 | Q9: =SUM(K9/J9) -> 8.1351351 | R9: =SUM(O9/N9) -> 9.7560976 | S9: =SUM((G3+G4+G5+G6+G7+G8+G9+K3+K4+K5+K6+K7+K8+K9)/(F3+F4+F5+F6+F7+F8+F9+J3+J4+J5+J6+J7+J8+J9)) -> 10.574124
F10: 48 | G10: 499 | I10: X | J10: 30 | K10: 269 | M10: X | N10: =SUM(F10+J10) -> 78 | O10: =SUM(G10+K10) -> 768 | P10: =SUM(G10/F10) -> 10.395833 | Q10: =SUM(K10/J10) -> 8.9666667 | R10: =SUM(O10/N10) -> 9.8461538 | S10: =SUM((G3+G4+G5+G6+G7+G8+G9+G10+K3+K4+K5+K6+K7+K8+K9+K10)/(F3+F4+F5+F6+F7+F8+F9+F10+J3+J4+J5+J6+J7+J8+J9+J10)) -> 10.447661
