Workbook

Sheet Dart Busters
A1: NAME | B1: DATE | C1: SINGLES CRICKET | D1: WIN? | E1: LOSS? | F1: 501 DARTS THROWN | G1: 501 POINTS | H1: WIN? | I1: LOSS? | J1: 301 DARTS THROWN | K1: 301 POINTS | L1: WIN? | M1: LOSS? | N1: TOTAL DARTS THROWN | O1: TOTAL POINTS | P1: 501 AVERAGE | Q1: 301 AVERAGE | R1: MATCH AVERAGE | S1: WEEKLY AVERAGE
A2: Shawn Caselman
B3: 46286 | N3: =SUM(F3+J3) -> 0 | O3: =SUM(G3+K3) -> 0 | P3: =SUM(G3/F3) -> #DIV/0! | Q3: =SUM(K3/J3) -> #DIV/0! | R3: =SUM(O3/N3) -> #DIV/0! | S3: =SUM((G3+K3)/(F3+J3)) -> #DIV/0!
N4: =SUM(F4+J4) -> 0 | O4: =SUM(G4+K4) -> 0 | P4: =SUM(G4/F4) -> #DIV/0! | Q4: =SUM(K4/J4) -> #DIV/0! | R4: =SUM(O4/N4) -> #DIV/0! | S4: =SUM((G3+G4+K3+K4)/(F3+F4+J3+J4)) -> #DIV/0!
B5: =SUM(B3+7) -> 46293 | D5: X | F5: 22 | G5: 501 | H5: X | J5: 22 | K5: 301 | L5: X | N5: =SUM(F5+J5) -> 44 | O5: =SUM(G5+K5) -> 802 | P5: =SUM(G5/F5) -> 22.772727 | Q5: =SUM(K5/J5) -> 13.681818 | R5: =SUM(O5/N5) -> 18.227273 | S5: =SUM((G3+G4+G5+K3+K4+K5)/(F3+F4+F5+J3+J4+J5)) -> 18.227273
F6: 37 | G6: 501 | H6: X | J6: 21 | K6: 295 | M6: X | N6: =SUM(F6+J6) -> 58 | O6: =SUM(G6+K6) -> 796 | P6: =SUM(G6/F6) -> 13.540541 | Q6: =SUM(K6/J6) -> 14.047619 | R6: =SUM(O6/N6) -> 13.724138 | S6: =SUM((G3+G4+G5+G6+K3+K4+K5+K6)/(F3+F4+F5+F6+J3+J4+J5+J6)) -> 15.666667
B7: =SUM(B5+7) -> 46300 | D7: X | F7: 33 | G7: 441 | I7: X | J7: 27 | K7: 296 | M7: X | N7: =SUM(F7+J7) -> 60 | O7: =SUM(G7+K7) -> 737 | P7: =SUM(G7/F7) -> 13.363636 | Q7: =SUM(K7/J7) -> 10.962963 | R7: =SUM(O7/N7) -> 12.283333 | S7: =SUM((G3+G4+G5+G6+G7+K3+K4+K5+K6+K7)/(F3+F4+F5+F6+F7+J3+J4+J5+J6+J7)) -> 14.41358
F8: 42 | G8: 501 | H8: X | J8: 27 | K8: 76 | M8: X | N8: =SUM(F8+J8) -> 69 | O8: =SUM(G8+K8) -> 577 | P8: =SUM(G8/F8) -> 11.928571 | Q8: =SUM(K8/J8) -> 2.8148148 | R8: =SUM(O8/N8) -> 8.3623188 | S8: =SUM((G3+G4+G5+G6+G7+G8+K3+K4+K5+K6+K7+K8)/(F3+F4+F5+F6+F7+F8+J3+J4+J5+J6+J7+J8)) -> 12.606061
B9: =SUM(B7+7) -> 46307 | D9: X | F9: 24 | G9: 501 | H9: X | J9: 30 | K9: 301 | L9: X | N9: =SUM(F9+J9) -> 54 | O9: =SUM(G9+K9) -> 802 | P9: =SUM(G9/F9) -> 20.875 | Q9: =SUM(K9/J9) -> 10.033333 | R9: =SUM(O9/N9) -> 14.851852 | S9: =SUM((G3+G4+G5+G6+G7+G8+G9+K3+K4+K5+K6+K7+K8+K9)/(F3+F4+F5+F6+F7+F8+F9+J3+J4+J5+J6+J7+J8+J9)) -> 13.031579
F10: 30 | G10: 501 | H10: X | J10: 43 | K10: 301 | L10: X | N10: =SUM(F10+J10) -> 73 | O10: =SUM(G10+K10) -> 802 | P10: =SUM(G10/F10) -> 16.7 | Q10: =SUM(K10/J10) -> 7 | R10: =SUM(O10/N10) -> 10.986301 | S10: =SUM((G3+G4+G5+G6+G7+G8+G9+G10+K3+K4+K5+K6+K7+K8+K9+K10)/(F3+F4+F5+F6+F7+F8+F9+F10+J3+J4+J5+J6+J7+J8+J9+J10)) -> 12.614525
B11: =SUM(B9+7) -> 46314 | D11: X | F11: 40 | G11: 501 | H11: X | J11: 23 | K11: 301 | L11: X | N11: =SUM(F11+J11) -> 63 | O11: =SUM(G11+K11) -> 802 | P11: =SUM(G11/F11) -> 12.525 | Q11: =SUM(K11/J11) -> 13.086957 | R11: =SUM(O11/N11) -> 12.730159 | S11: =SUM((G3+G4+G5+G6+G7+G8+G9+G10+G11+K3+K4+K5+K6+K7+K8+K9+K10+K11)/(F3+F4+F5+F6+F7+F8+F9+F10+F11+J3+J4+J5+J6+J7+J8+J9+J10+J11)) -> 12.631829
F12: 26 | G12: 501 | H12: X | J12: 19 | K12: 301 | L12: X | N12: =SUM(F12+J12) -> 45 | O12: =SUM(G12+K12) -> 802 | P12: =SUM(G12/F12) -> 19.269231 | Q12: =SUM(K12/J12) -> 15.842105 | R12: =SUM(O12/N12) -> 17.822222 | S12: =SUM((G3+G4+G5+G6+G7+G8+G9+G10+G11+G12+K3+K4+K5+K6+K7+K8+K9+K10+K11+K12)/(F3+F4+F5+F6+F7+F8+F9+F10+F11+F12+J3+J4+J5+J6+J7+J8+J9+J10+J11+J12)) -> 13.133047
B13: =SUM(B11+7) -> 46321 | D13: X | F13: 37 | G13: 501 | H13: X | J13: 33 | K13: 299 | M13: X | N13: =SUM(F13+J13) -> 70 | O13: =SUM(G13+K13) -> 800 | P13: =SUM(G13/F13) -> 13.540541 | Q13: =SUM(K13/J13) -> 9.0606061 | R13: =SUM(O13/N13) -> 11.428571 | S13: =SUM((G3+G4+G5+G6+G7+G8+G9+G10+G11+G12+G13+K3+K4+K5+K6+K7+K8+K9+K10+K11+K12+K13)/(F3+F4+F5+F6+F7+F8+F9+F10+F11+F12+F13+J3+J4+J5+J6+J7+J8+J9+J10+J11+J12+J13)) -> 12.910448
F14: 36 | G14: 491 | I14: X | J14: 21 | K14: 285 | M14: X | N14: =SUM(F14+J14) -> 57 | O14: =SUM(G14+K14) -> 776 | P14: =SUM(G14/F14) -> 13.638889 | Q14: =SUM(K14/J14) -> 13.571429 | R14: =SUM(O14/N14) -> 13.614035 | S14: =SUM((G3+G4+G5+G6+G7+G8+G9+G10+G11+G12+G13+G14+K3+K4+K5+K6+K7+K8+K9+K10+K11+K12+K13+K14)/(F3+F4+F5+F6+F7+F8+F9+F10+F11+F12+F13+F14+J3+J4+J5+J6+J7+J8+J9+J10+J11+J12+J13+J14)) -> 12.978078
B15: =SUM(B13+7) -> 46328 | N15: =SUM(F15+J15) -> 0 | O15: =SUM(G15+K15) -> 0 | P15: =SUM(G15/F15) -> #DIV/0! | Q15: =SUM(K15/J15) -> #DIV/0! | R15: =SUM(O15/N15) -> #DIV/0! | S15: =SUM((G3+G4+G5+G6+G7+G8+G9+G10+G11+G12+G13+G14+G15+K3+K4+K5+K6+K7+K8+K9+K10+K11+K12+K13+K14+K15)/(F3+F4+F5+F6+F7+F8+F9+F10+F11+F12+F13+F14+F15+J3+J4+J5+J6+J7+J8+J9+J10+J11+J12+J13+J14+J15)) -> 12.978078
N16: =SUM(F16+J16) -> 0 | O16: =SUM(G16+K16) -> 0 | P16: =SUM(G16/F16) -> #DIV/0! | Q16: =SUM(K16/J16) -> #DIV/0! | R16: =SUM(O16/N16) -> #DIV/0! | S16: =SUM((G3+G4+G5+G6+G7+G8+G9+G10+G11+G12+G13+G14+G15+G16+K3+K4+K5+K6+K7+K8+K9+K10+K11+K12+K13+K14+K15+K16)/(F3+F4+F5+F6+F7+F8+F9+F10+F11+F12+F13+F14+F15+F16+J3+J4+J5+J6+J7+J8+J9+J10+J11+J12+J13+J14+J15+J16)) -> 12.978078
B17: =SUM(B15+7) -> 46335 | N17: =SUM(F17+J17) -> 0 | O17: =SUM(G17+K17) -> 0 | P17: =SUM(G17/F17) -> #DIV/0! | Q17: =SUM(K17/J17) -> #DIV/0! | R17: =SUM(O17/N17) -> #DIV/0! | S17: =SUM((G3+G4+G5+G6+G7+G8+G9+G10+G11+G12+G13+G14+G15+G16+G17+K3+K4+K5+K6+K7+K8+K9+K10+K11+K12+K13+K14+K15+K16+K17)/(F3+F4+F5+F6+F7+F8+F9+F10+F11+F12+F13+F14+F15+F16+F17+J3+J4+J5+J6+J7+J8+J9+J10+J11+J12+J13+J14+J15+J16+J17)) -> 12.978078
N18: =SUM(F18+J18) -> 0 | O18: =SUM(G18+K18) -> 0 | P18: =SUM(G18/F18) -> #DIV/0! | Q18: =SUM(K18/J18) -> #DIV/0! | R18: =SUM(O18/N18) -> #DIV/0! | S18: =SUM((G3+G4+G5+G6+G7+G8+G9+G10+G11+G12+G13+G14+G15+G16+G17+G18+K3+K4+K5+K6+K7+K8+K9+K10+K11+K12+K13+K14+K15+K16+K17+K18)/(F3+F4+F5+F6+F7+F8+F9+F10+F11+F12+F13+F14+F15+F16+F17+F18+J3+J4+J5+J6+J7+J8+J9+J10+J11+J12+J13+J14+J15+J16+J17+J18)) -> 12.978078
B19: =SUM(B17+7) -> 46342 | N19: =SUM(F19+J19) -> 0 | O19: =SUM(G19+K19) -> 0 | P19: =SUM(G19/F19) -> #DIV/0! | Q19: =SUM(K19/J19) -> #DIV/0! | R19: =SUM(O19/N19) -> #DIV/0! | S19: =SUM((G3+G4+G5+G6+G7+G8+G9+G10+G11+G12+G13+G14+G15+G16+G17+G18+G19+K3+K4+K5+K6+K7+K8+K9+K10+K11+K12+K13+K14+K15+K16+K17+K18+K19)/(F3+F4+F5+F6+F7+F8+F9+F10+F11+F12+F13+F14+F15+F16+F17+F18+F19+J3+J4+J5+J6+J7+J8+J9+J10+J11+J12+J13+J14+J15+J16+J17+J18+J19)) -> 12.978078
N20: =SUM(F20+J20) -> 0 | O20: =SUM(G20+K20) -> 0 | P20: =SUM(G20/F20) -> #DIV/0! | Q20: =SUM(K20/J20) -> #DIV/0! | R20: =SUM(O20/N20) -> #DIV/0! | S20: =SUM((G3+G4+G5+G6+G7+G8+G9+G10+G11+G12+G13+G14+G15+G16+G17+G18+G19+G20+K3+K4+K5+K6+K7+K8+K9+K10+K11+K12+K13+K14+K15+K16+K17+K18+K19+K20)/(F3+F4+F5+F6+F7+F8+F9+F10+F11+F12+F13+F14+F15+F16+F17+F18+F19+F20+J3+J4+J5+J6+J7+J8+J9+J10+J11+J12+J13+J14+J15+J16+J17+J18+J19+J20)) -> 12.978078
B21: =SUM(B19+7) -> 46349 | N21: =SUM(F21+J21) -> 0 | O21: =SUM(G21+K21) -> 0 | P21: =SUM(G21/F21) -> #DIV/0! | Q21: =SUM(K21/J21) -> #DIV/0! | R21: =SUM(O21/N21) -> #DIV/0! | S21: =SUM((G3+G4+G5+G6+G7+G8+G9+G10+G11+G12+G13+G14+G15+G16+G17+G18+G19+G20+G21+K3+K4+K5+K6+K7+K8+K9+K10+K11+K12+K13+K14+K15+K16+K17+K18+K19+K20+K21)/(F3+F4+F5+F6+F7+F8+F9+F10+F11+F12+F13+F14+F15+F16+F17+F18+F19+F20+F21+J3+J4+J5+J6+J7+J8+J9+J10+J11+J12+J13+J14+J15+J16+J17+J18+J19+J20+J21)) -> 12.978078
N22: =SUM(F22+J22) -> 0 | O22: =SUM(G22+K22) -> 0 | P22: =SUM(G22/F22) -> #DIV/0! | Q22: =SUM(K22/J22) -> #DIV/0! | R22: =SUM(O22/N22) -> #DIV/0! | S22: =SUM((G3+G4+G5+G6+G7+G8+G9+G10+G11+G12+G13+G14+G15+G16+G17+G18+G19+G20+G21+G22+K3+K4+K5+K6+K7+K8+K9+K10+K11+K12+K13+K14+K15+K16+K17+K18+K19+K20+K21+K22)/(F3+F4+F5+F6+F7+F8+F9+F10+F11+F12+F13+F14+F15+F16+F17+F18+F19+F20+F21+F22+J3+J4+J5+J6+J7+J8+J9+J10+J11+J12+J13+J14+J15+J16+J17+J18+J19+J20+J21+J22)) -> 12.978078
B23: =SUM(B21+7) -> 46356 | N23: =SUM(F23+J23) -> 0 | O23: =SUM(G23+K23) -> 0 | P23: =SUM(G23/F23) -> #DIV/0! | Q23: =SUM(K23/J23) -> #DIV/0! | R23: =SUM(O23/N23) -> #DIV/0! | S23: =SUM((G3+G4+G5+G6+G7+G8+G9+G10+G11+G12+G13+G14+G15+G16+G17+G18+G19+G20+G21+G22+G23+K3+K4+K5+K6+K7+K8+K9+K10+K11+K12+K13+K14+K15+K16+K17+K18+K19+K20+K21+K22+K23)/(F3+F4+F5+F6+F7+F8+F9+F10+F11+F12+F13+F14+F15+F16+F17+F18+F19+F20+F21+F22+F23+J3+J4+J5+J6+J7+J8+J9+J10+J11+J12+J13+J14+J15+J16+J17+J18+J19+J20+J21+J22+J23)) -> 12.978078
N24: =SUM(F24+J24) -> 0 | O24: =SUM(G24+K24) -> 0 | P24: =SUM(G24/F24) -> #DIV/0! | Q24: =SUM(K24/J24) -> #DIV/0! | R24: =SUM(O24/N24) -> #DIV/0! | S24: =SUM((G3+G4+G5+G6+G7+G8+G9+G10+G11+G12+G13+G14+G15+G16+G17+G18+G19+G20+G21+G22+G23+G24+K3+K4+K5+K6+K7+K8+K9+K10+K11+K12+K13+K14+K15+K16+K17+K18+K19+K20+K21+K22+K23+K24)/(F3+F4+F5+F6+F7+F8+F9+F10+F11+F12+F13+F14+F15+F16+F17+F18+F19+F20+F21+F22+F23+F24+J3+J4+J5+J6+J7+J8+J9+J10+J11+J12+J13+J14+J15+J16+J17+J18+J19+J20+J21+J22+J23+J24)) -> 12.978078
B25: =SUM(B23+7) -> 46363 | N25: =SUM(F25+J25) -> 0 | O25: =SUM(G25+K25) -> 0 | P25: =SUM(G25/F25) -> #DIV/0! | Q25: =SUM(K25/J25) -> #DIV/0! | R25: =SUM(O25/N25) -> #DIV/0! | S25: =SUM((G3+G4+G5+G6+G7+G8+G9+G10+G11+G12+G13+G14+G15+G16+G17+G18+G19+G20+G21+G22+G23+G24+G25+K3+K4+K5+K6+K7+K8+K9+K10+K11+K12+K13+K14+K15+K16+K17+K18+K19+K20+K21+K22+K23+K24+K25)/(F3+F4+F5+F6+F7+F8+F9+F10+F11+F12+F13+F14+F15+F16+F17+F18+F19+F20+F21+F22+F23+F24+F25+J3+J4+J5+J6+J7+J8+J9+J10+J11+J12+J13+J14+J15+J16+J17+J18+J19+J20+J21+J22+J23+J24+J25)) -> 12.978078
N26: =SUM(F26+J26) -> 0 | O26: =SUM(G26+K26) -> 0 | P26: =SUM(G26/F26) -> #DIV/0! | Q26: =SUM(K26/J26) -> #DIV/0! | R26: =SUM(O26/N26) -> #DIV/0! | S26: =SUM((G3+G4+G5+G6+G7+G8+G9+G10+G11+G12+G13+G14+G15+G16+G17+G18+G19+G20+G21+G22+G23+G24+G25+G26+K3+K4+K5+K6+K7+K8+K9+K10+K11+K12+K13+K14+K15+K16+K17+K18+K19+K20+K21+K22+K23+K24+K25+K26)/(F3+F4+F5+F6+F7+F8+F9+F10+F11+F12+F13+F14+F15+F16+F17+F18+F19+F20+F21+F22+F23+F24+F25+F26+J3+J4+J5+J6+J7+J8+J9+J10+J11+J12+J13+J14+J15+J16+J17+J18+J19+J20+J21+J22+J23+J24+J25+J26)) -> 12.978078
B27: =SUM(B25+7) -> 46370 | N27: =SUM(F27+J27) -> 0 | O27: =SUM(G27+K27) -> 0 | P27: =SUM(G27/F27) -> #DIV/0! | Q27: =SUM(K27/J27) -> #DIV/0! | R27: =SUM(O27/N27) -> #DIV/0! | S27: =SUM((G3+G4+G5+G6+G7+G8+G9+G10+G11+G12+G13+G14+G15+G16+G17+G18+G19+G20+G21+G22+G23+G24+G25+G26+G27+K3+K4+K5+K6+K7+K8+K9+K10+K11+K12+K13+K14+K15+K16+K17+K18+K19+K20+K21+K22+K23+K24+K25+K26+K27)/(F3+F4+F5+F6+F7+F8+F9+F10+F11+F12+F13+F14+F15+F16+F17+F18+F19+F20+F21+F22+F23+F24+F25+F26+F27+J3+J4+J5+J6+J7+J8+J9+J10+J11+J12+J13+J14+J15+J16+J17+J18+J19+J20+J21+J22+J23+J24+J25+J26+J27)) -> 12.978078
N28: =SUM(F28+J28) -> 0 | O28: =SUM(G28+K28) -> 0 | P28: =SUM(G28/F28) -> #DIV/0! | Q28: =SUM(K28/J28) -> #DIV/0! | R28: =SUM(O28/N28) -> #DIV/0! | S28: =SUM((G3+G4+G5+G6+G7+G8+G9+G10+G11+G12+G13+G14+G15+G16+G17+G18+G19+G20+G21+G22+G23+G24+G25+G26+G27+G28+K3+K4+K5+K6+K7+K8+K9+K10+K11+K12+K13+K14+K15+K16+K17+K18+K19+K20+K21+K22+K23+K24+K25+K26+K27+K28)/(F3+F4+F5+F6+F7+F8+F9+F10+F11+F12+F13+F14+F15+F16+F17+F18+F19+F20+F21+F22+F23+F24+F25+F26+F27+F28+J3+J4+J5+J6+J7+J8+J9+J10+J11+J12+J13+J14+J15+J16+J17+J18+J19+J20+J21+J22+J23+J24+J25+J26+J27+J28)) -> 12.978078
B29: =SUM(B27+7) -> 46377 | N29: =SUM(F29+J29) -> 0 | O29: =SUM(G29+K29) -> 0 | P29: =SUM(G29/F29) -> #DIV/0! | Q29: =SUM(K29/J29) -> #DIV/0! | R29: =SUM(O29/N29) -> #DIV/0! | S29: =SUM((G3+G4+G5+G6+G7+G8+G9+G10+G11+G12+G13+G14+G15+G16+G17+G18+G19+G20+G21+G22+G23+G24+G25+G26+G27+G28+G29+K3+K4+K5+K6+K7+K8+K9+K10+K11+K12+K13+K14+K15+K16+K17+K18+K19+K20+K21+K22+K23+K24+K25+K26+K27+K28+K29)/(F3+F4+F5+F6+F7+F8+F9+F10+F11+F12+F13+F14+F15+F16+F17+F18+F19+F20+F21+F22+F23+F24+F25+F26+F27+F28+F29+J3+J4+J5+J6+J7+J8+J9+J10+J11+J12+J13+J14+J15+J16+J17+J18+J19+J20+J21+J22+J23+J24+J25+J26+J27+J28+J29)) -> 12.978078
N30: =SUM(F30+J30) -> 0 | O30: =SUM(G30+K30) -> 0 | P30: =SUM(G30/F30) -> #DIV/0! | Q30: =SUM(K30/J30) -> #DIV/0! | R30: =SUM(O30/N30) -> #DIV/0! | S30: =SUM((G3+G4+G5+G6+G7+G8+G9+G10+G11+G12+G13+G14+G15+G16+G17+G18+G19+G20+G21+G22+G23+G24+G25+G26+G27+G28+G29+G30+K3+K4+K5+K6+K7+K8+K9+K10+K11+K12+K13+K14+K15+K16+K17+K18+K19+K20+K21+K22+K23+K24+K25+K26+K27+K28+K29+K30)/(F3+F4+F5+F6+F7+F8+F9+F10+F11+F12+F13+F14+F15+F16+F17+F18+F19+F20+F21+F22+F23+F24+F25+F26+F27+F28+F29+F30+J3+J4+J5+J6+J7+J8+J9+J10+J11+J12+J13+J14+J15+J16+J17+J18+J19+J20+J21+J22+J23+J24+J25+J26+J27+J28+J29+J30)) -> 12.978078
B31: =SUM(B29+7) -> 46384 | N31: =SUM(F31+J31) -> 0 | O31: =SUM(G31+K31) -> 0 | P31: =SUM(G31/F31) -> #DIV/0! | Q31: =SUM(K31/J31) -> #DIV/0! | R31: =SUM(O31/N31) -> #DIV/0! | S31: =SUM((G3+G4+G5+G6+G7+G8+G9+G10+G11+G12+G13+G14+G15+G16+G17+G18+G19+G20+G21+G22+G23+G24+G25+G26+G27+G28+G29+G30+G31+K3+K4+K5+K6+K7+K8+K9+K10+K11+K12+K13+K14+K15+K16+K17+K18+K19+K20+K21+K22+K23+K24+K25+K26+K27+K28+K29+K30+K31)/(F3+F4+F5+F6+F7+F8+F9+F10+F11+F12+F13+F14+F15+F16+F17+F18+F19+F20+F21+F22+F23+F24+F25+F26+F27+F28+F29+F30+F31+J3+J4+J5+J6+J7+J8+J9+J10+J11+J12+J13+J14+J15+J16+J17+J18+J19+J20+J21+J22+J23+J24+J25+J26+J27+J28+J29+J30+J31)) -> 12.978078
N32: =SUM(F32+J32) -> 0 | O32: =SUM(G32+K32) -> 0 | P32: =SUM(G32/F32) -> #DIV/0! | Q32: =SUM(K32/J32) -> #DIV/0! | R32: =SUM(O32/N32) -> #DIV/0! | S32: =SUM((G3+G4+G5+G6+G7+G8+G9+G10+G11+G12+G13+G14+G15+G16+G17+G18+G19+G20+G21+G22+G23+G24+G25+G26+G27+G28+G29+G30+G31+G32+K3+K4+K5+K6+K7+K8+K9+K10+K11+K12+K13+K14+K15+K16+K17+K18+K19+K20+K21+K22+K23+K24+K25+K26+K27+K28+K29+K30+K31+K32)/(F3+F4+F5+F6+F7+F8+F9+F10+F11+F12+F13+F14+F15+F16+F17+F18+F19+F20+F21+F22+F23+F24+F25+F26+F27+F28+F29+F30+F31+F32+J3+J4+J5+J6+J7+J8+J9+J10+J11+J12+J13+J14+J15+J16+J17+J18+J19+J20+J21+J22+J23+J24+J25+J26+J27+J28+J29+J30+J31+J32)) -> 12.978078
B33: =SUM(B31+7) -> 46391 | N33: =SUM(F33+J33) -> 0 | O33: =SUM(G33+K33) -> 0 | P33: =SUM(G33/F33) -> #DIV/0! | Q33: =SUM(K33/J33) -> #DIV/0! | R33: =SUM(O33/N33) -> #DIV/0! | S33: =SUM((G3+G4+G5+G6+G7+G8+G9+G10+G11+G12+G13+G14+G15+G16+G17+G18+G19+G20+G21+G22+G23+G24+G25+G26+G27+G28+G29+G30+G31+G32+G33+K3+K4+K5+K6+K7+K8+K9+K10+K11+K12+K13+K14+K15+K16+K17+K18+K19+K20+K21+K22+K23+K24+K25+K26+K27+K28+K29+K30+K31+K32+K33)/(F3+F4+F5+F6+F7+F8+F9+F10+F11+F12+F13+F14+F15+F16+F17+F18+F19+F20+F21+F22+F23+F24+F25+F26+F27+F28+F29+F30+F31+F32+F33+J3+J4+J5+J6+J7+J8+J9+J10+J11+J12+J13+J14+J15+J16+J17+J18+J19+J20+J21+J22+J23+J24+J25+J26+J27+J28+J29+J30+J31+J32+J33)) -> 12.978078
N34: =SUM(F34+J34) -> 0 | O34: =SUM(G34+K34) -> 0 | P34: =SUM(G34/F34) -> #DIV/0! | Q34: =SUM(K34/J34) -> #DIV/0! | R34: =SUM(O34/N34) -> #DIV/0! | S34: =SUM((G3+G4+G5+G6+G7+G8+G9+G10+G11+G12+G13+G14+G15+G16+G17+G18+G19+G20+G21+G22+G23+G24+G25+G26+G27+G28+G29+G30+G31+G32+G33+G34+K3+K4+K5+K6+K7+K8+K9+K10+K11+K12+K13+K14+K15+K16+K17+K18+K19+K20+K21+K22+K23+K24+K25+K26+K27+K28+K29+K30+K31+K32+K33+K34)/(F3+F4+F5+F6+F7+F8+F9+F10+F11+F12+F13+F14+F15+F16+F17+F18+F19+F20+F21+F22+F23+F24+F25+F26+F27+F28+F29+F30+F31+F32+F33+F34+J3+J4+J5+J6+J7+J8+J9+J10+J11+J12+J13+J14+J15+J16+J17+J18+J19+J20+J21+J22+J23+J24+J25+J26+J27+J28+J29+J30+J31+J32+J33+J34)) -> 12.978078
B35: =SUM(B33+7) -> 46398 | N35: =SUM(F35+J35) -> 0 | O35: =SUM(G35+K35) -> 0 | P35: =SUM(G35/F35) -> #DIV/0! | Q35: =SUM(K35/J35) -> #DIV/0! | R35: =SUM(O35/N35) -> #DIV/0! | S35: =SUM((G3+G4+G5+G6+G7+G8+G9+G10+G11+G12+G13+G14+G15+G16+G17+G18+G19+G20+G21+G22+G23+G24+G25+G26+G27+G28+G29+G30+G31+G32+G33+G34+G35+K3+K4+K5+K6+K7+K8+K9+K10+K11+K12+K13+K14+K15+K16+K17+K18+K19+K20+K21+K22+K23+K24+K25+K26+K27+K28+K29+K30+K31+K32+K33+K34+K35)/(F3+F4+F5+F6+F7+F8+F9+F10+F11+F12+F13+F14+F15+F16+F17+F18+F19+F20+F21+F22+F23+F24+F25+F26+F27+F28+F29+F30+F31+F32+F33+F34+F35+J3+J4+J5+J6+J7+J8+J9+J10+J11+J12+J13+J14+J15+J16+J17+J18+J19+J20+J21+J22+J23+J24+J25+J26+J27+J28+J29+J30+J31+J32+J33+J34+J35)) -> 12.978078
N36: =SUM(F36+J36) -> 0 | O36: =SUM(G36+K36) -> 0 | P36: =SUM(G36/F36) -> #DIV/0! | Q36: =SUM(K36/J36) -> #DIV/0! | R36: =SUM(O36/N36) -> #DIV/0! | S36: =SUM((G3+G4+G5+G6+G7+G8+G9+G10+G11+G12+G13+G14+G15+G16+G17+G18+G19+G20+G21+G22+G23+G24+G25+G26+G27+G28+G29+G30+G31+G32+G33+G34+G35+G36+K3+K4+K5+K6+K7+K8+K9+K10+K11+K12+K13+K14+K15+K16+K17+K18+K19+K20+K21+K22+K23+K24+K25+K26+K27+K28+K29+K30+K31+K32+K33+K34+K35+K36)/(F3+F4+F5+F6+F7+F8+F9+F10+F11+F12+F13+F14+F15+F16+F17+F18+F19+F20+F21+F22+F23+F24+F25+F26+F27+F28+F29+F30+F31+F32+F33+F34+F35+F36+J3+J4+J5+J6+J7+J8+J9+J10+J11+J12+J13+J14+J15+J16+J17+J18+J19+J20+J21+J22+J23+J24+J25+J26+J27+J28+J29+J30+J31+J32+J33+J34+J35+J36)) -> 12.978078
B37: =SUM(B35+7) -> 46405 | N37: =SUM(F37+J37) -> 0 | O37: =SUM(G37+K37) -> 0 | P37: =SUM(G37/F37) -> #DIV/0! | Q37: =SUM(K37/J37) -> #DIV/0! | R37: =SUM(O37/N37) -> #DIV/0! | S37: =SUM((G3+G4+G5+G6+G7+G8+G9+G10+G11+G12+G13+G14+G15+G16+G17+G18+G19+G20+G21+G22+G23+G24+G25+G26+G27+G28+G29+G30+G31+G32+G33+G34+G35+G36+G37+K3+K4+K5+K6+K7+K8+K9+K10+K11+K12+K13+K14+K15+K16+K17+K18+K19+K20+K21+K22+K23+K24+K25+K26+K27+K28+K29+K30+K31+K32+K33+K34+K35+K36+K37)/(F3+F4+F5+F6+F7+F8+F9+F10+F11+F12+F13+F14+F15+F16+F17+F18+F19+F20+F21+F22+F23+F24+F25+F26+F27+F28+F29+F30+F31+F32+F33+F34+F35+F36+F37+J3+J4+J5+J6+J7+J8+J9+J10+J11+J12+J13+J14+J15+J16+J17+J18+J19+J20+J21+J22+J23+J24+J25+J26+J27+J28+J29+J30+J31+J32+J33+J34+J35+J36+J37)) -> 12.978078
N38: =SUM(F38+J38) -> 0 | O38: =SUM(G38+K38) -> 0 | P38: =SUM(G38/F38) -> #DIV/0! | Q38: =SUM(K38/J38) -> #DIV/0! | R38: =SUM(O38/N38) -> #DIV/0! | S38: =SUM((G3+G4+G5+G6+G7+G8+G9+G10+G11+G12+G13+G14+G15+G16+G17+G18+G19+G20+G21+G22+G23+G24+G25+G26+G27+G28+G29+G30+G31+G32+G33+G34+G35+G36+G37+G38+K3+K4+K5+K6+K7+K8+K9+K10+K11+K12+K13+K14+K15+K16+K17+K18+K19+K20+K21+K22+K23+K24+K25+K26+K27+K28+K29+K30+K31+K32+K33+K34+K35+K36+K37+K38)/(F3+F4+F5+F6+F7+F8+F9+F10+F11+F12+F13+F14+F15+F16+F17+F18+F19+F20+F21+F22+F23+F24+F25+F26+F27+F28+F29+F30+F31+F32+F33+F34+F35+F36+F37+F38+J3+J4+J5+J6+J7+J8+J9+J10+J11+J12+J13+J14+J15+J16+J17+J18+J19+J20+J21+J22+J23+J24+J25+J26+J27+J28+J29+J30+J31+J32+J33+J34+J35+J36+J37+J38)) -> 12.978078
B39: =SUM(B37+7) -> 46412 | N39: =SUM(F39+J39) -> 0 | O39: =SUM(G39+K39) -> 0 | P39: =SUM(G39/F39) -> #DIV/0! | Q39: =SUM(K39/J39) -> #DIV/0! | R39: =SUM(O39/N39) -> #DIV/0! | S39: =SUM((G3+G4+G5+G6+G7+G8+G9+G10+G11+G12+G13+G14+G15+G16+G17+G18+G19+G20+G21+G22+G23+G24+G25+G26+G27+G28+G29+G30+G31+G32+G33+G34+G35+G36+G37+G38+G39+K3+K4+K5+K6+K7+K8+K9+K10+K11+K12+K13+K14+K15+K16+K17+K18+K19+K20+K21+K22+K23+K24+K25+K26+K27+K28+K29+K30+K31+K32+K33+K34+K35+K36+K37+K38+K39)/(F3+F4+F5+F6+F7+F8+F9+F10+F11+F12+F13+F14+F15+F16+F17+F18+F19+F20+F21+F22+F23+F24+F25+F26+F27+F28+F29+F30+F31+F32+F33+F34+F35+F36+F37+F38+F39+J3+J4+J5+J6+J7+J8+J9+J10+J11+J12+J13+J14+J15+J16+J17+J18+J19+J20+J21+J22+J23+J24+J25+J26+J27+J28+J29+J30+J31+J32+J33+J34+J35+J36+J37+J38+J39)) -> 12.978078
N40: =SUM(F40+J40) -> 0 | O40: =SUM(G40+K40) -> 0 | P40: =SUM(G40/F40) -> #DIV/0! | Q40: =SUM(K40/J40) -> #DIV/0! | R40: =SUM(O40/N40) -> #DIV/0! | S40: =SUM((G3+G4+G5+G6+G7+G8+G9+G10+G11+G12+G13+G14+G15+G16+G17+G18+G19+G20+G21+G22+G23+G24+G25+G26+G27+G28+G29+G30+G31+G32+G33+G34+G35+G36+G37+G38+G39+G40+K3+K4+K5+K6+K7+K8+K9+K10+K11+K12+K13+K14+K15+K16+K17+K18+K19+K20+K21+K22+K23+K24+K25+K26+K27+K28+K29+K30+K31+K32+K33+K34+K35+K36+K37+K38+K39+K40)/(F3+F4+F5+F6+F7+F8+F9+F10+F11+F12+F13+F14+F15+F16+F17+F18+F19+F20+F21+F22+F23+F24+F25+F26+F27+F28+F29+F30+F31+F32+F33+F34+F35+F36+F37+F38+F39+F40+J3+J4+J5+J6+J7+J8+J9+J10+J11+J12+J13+J14+J15+J16+J17+J18+J19+J20+J21+J22+J23+J24+J25+J26+J27+J28+J29+J30+J31+J32+J33+J34+J35+J36+J37+J38+J39+J40)) -> 12.978078
B41: =SUM(B39+7) -> 46419 | N41: =SUM(F41+J41) -> 0 | O41: =SUM(G41+K41) -> 0 | P41: =SUM(G41/F41) -> #DIV/0! | Q41: =SUM(K41/J41) -> #DIV/0! | R41: =SUM(O41/N41) -> #DIV/0! | S41: =SUM((G3+G4+G5+G6+G7+G8+G9+G10+G11+G12+G13+G14+G15+G16+G17+G18+G19+G20+G21+G22+G23+G24+G25+G26+G27+G28+G29+G30+G31+G32+G33+G34+G35+G36+G37+G38+G39+G40+G41+K3+K4+K5+K6+K7+K8+K9+K10+K11+K12+K13+K14+K15+K16+K17+K18+K19+K20+K21+K22+K23+K24+K25+K26+K27+K28+K29+K30+K31+K32+K33+K34+K35+K36+K37+K38+K39+K40+K41)/(F3+F4+F5+F6+F7+F8+F9+F10+F11+F12+F13+F14+F15+F16+F17+F18+F19+F20+F21+F22+F23+F24+F25+F26+F27+F28+F29+F30+F31+F32+F33+F34+F35+F36+F37+F38+F39+F40+F41+J3+J4+J5+J6+J7+J8+J9+J10+J11+J12+J13+J14+J15+J16+J17+J18+J19+J20+J21+J22+J23+J24+J25+J26+J27+J28+J29+J30+J31+J32+J33+J34+J35+J36+J37+J38+J39+J40+J41)) -> 12.978078
N42: =SUM(F42+J42) -> 0 | O42: =SUM(G42+K42) -> 0 | P42: =SUM(G42/F42) -> #DIV/0! | Q42: =SUM(K42/J42) -> #DIV/0! | R42: =SUM(O42/N42) -> #DIV/0! | S42: =SUM((G3+G4+G5+G6+G7+G8+G9+G10+G11+G12+G13+G14+G15+G16+G17+G18+G19+G20+G21+G22+G23+G24+G25+G26+G27+G28+G29+G30+G31+G32+G33+G34+G35+G36+G37+G38+G39+G40+G41+G42+K3+K4+K5+K6+K7+K8+K9+K10+K11+K12+K13+K14+K15+K16+K17+K18+K19+K20+K21+K22+K23+K24+K25+K26+K27+K28+K29+K30+K31+K32+K33+K34+K35+K36+K37+K38+K39+K40+K41+K42)/(F3+F4+F5+F6+F7+F8+F9+F10+F11+F12+F13+F14+F15+F16+F17+F18+F19+F20+F21+F22+F23+F24+F25+F26+F27+F28+F29+F30+F31+F32+F33+F34+F35+F36+F37+F38+F39+F40+F41+F42+J3+J4+J5+J6+J7+J8+J9+J10+J11+J12+J13+J14+J15+J16+J17+J18+J19+J20+J21+J22+J23+J24+J25+J26+J27+J28+J29+J30+J31+J32+J33+J34+J35+J36+J37+J38+J39+J40+J41+J42)) -> 12.978078
N43: =SUM(F43+J43) -> 0 | O43: =SUM(G43+K43) -> 0 | P43: =SUM(G43/F43) -> #DIV/0! | Q43: =SUM(K43/J43) -> #DIV/0! | R43: =SUM(O43/N43) -> #DIV/0! | S43: =SUM((G3+G4+G5+G6+G7+G8+G9+G10+G11+G12+G13+G14+G15+G16+G17+G18+G19+G20+G21+G22+G23+G24+G25+G26+G27+G28+G29+G30+G31+G32+G33+G34+G35+G36+G37+G38+G39+G40+G41+G42+G43+K3+K4+K5+K6+K7+K8+K9+K10+K11+K12+K13+K14+K15+K16+K17+K18+K19+K20+K21+K22+K23+K24+K25+K26+K27+K28+K29+K30+K31+K32+K33+K34+K35+K36+K37+K38+K39+K40+K41+K42+K43)/(F3+F4+F5+F6+F7+F8+F9+F10+F11+F12+F13+F14+F15+F16+F17+F18+F19+F20+F21+F22+F23+F24+F25+F26+F27+F28+F29+F30+F31+F32+F33+F34+F35+F36+F37+F38+F39+F40+F41+F42+F43+J3+J4+J5+J6+J7+J8+J9+J10+J11+J12+J13+J14+J15+J16+J17+J18+J19+J20+J21+J22+J23+J24+J25+J26+J27+J28+J29+J30+J31+J32+J33+J34+J35+J36+J37+J38+J39+J40+J41+J42+J43)) -> 12.978078
N44: =SUM(F44+J44) -> 0 | O44: =SUM(G44+K44) -> 0 | P44: =SUM(G44/F44) -> #DIV/0! | Q44: =SUM(K44/J44) -> #DIV/0! | R44: =SUM(O44/N44) -> #DIV/0! | S44: =SUM((G3+G4+G5+G6+G7+G8+G9+G10+G11+G12+G13+G14+G15+G16+G17+G18+G19+G20+G21+G22+G23+G24+G25+G26+G27+G28+G29+G30+G31+G32+G33+G34+G35+G36+G37+G38+G39+G40+G41+G42+G43+G44+K3+K4+K5+K6+K7+K8+K9+K10+K11+K12+K13+K14+K15+K16+K17+K18+K19+K20+K21+K22+K23+K24+K25+K26+K27+K28+K29+K30+K31+K32+K33+K34+K35+K36+K37+K38+K39+K40+K41+K42+K43+K44)/(F3+F4+F5+F6+F7+F8+F9+F10+F11+F12+F13+F14+F15+F16+F17+F18+F19+F20+F21+F22+F23+F24+F25+F26+F27+F28+F29+F30+F31+F32+F33+F34+F35+F36+F37+F38+F39+F40+F41+F42+F43+F44+J3+J4+J5+J6+J7+J8+J9+J10+J11+J12+J13+J14+J15+J16+J17+J18+J19+J20+J21+J22+J23+J24+J25+J26+J27+J28+J29+J30+J31+J32+J33+J34+J35+J36+J37+J38+J39+J40+J41+J42+J43+J44)) -> 12.978078
N45: =SUM(F45+J45) -> 0 | O45: =SUM(G45+K45) -> 0 | P45: =SUM(G45/F45) -> #DIV/0! | Q45: =SUM(K45/J45) -> #DIV/0! | R45: =SUM(O45/N45) -> #DIV/0! | S45: =SUM((G3+G4+G5+G6+G7+G8+G9+G10+G11+G12+G13+G14+G15+G16+G17+G18+G19+G20+G21+G22+G23+G24+G25+G26+G27+G28+G29+G30+G31+G32+G33+G34+G35+G36+G37+G38+G39+G40+G41+G42+G43+G44+G45+K3+K4+K5+K6+K7+K8+K9+K10+K11+K12+K13+K14+K15+K16+K17+K18+K19+K20+K21+K22+K23+K24+K25+K26+K27+K28+K29+K30+K31+K32+K33+K34+K35+K36+K37+K38+K39+K40+K41+K42+K43+K44+K45)/(F3+F4+F5+F6+F7+F8+F9+F10+F11+F12+F13+F14+F15+F16+F17+F18+F19+F20+F21+F22+F23+F24+F25+F26+F27+F28+F29+F30+F31+F32+F33+F34+F35+F36+F37+F38+F39+F40+F41+F42+F43+F44+F45+J3+J4+J5+J6+J7+J8+J9+J10+J11+J12+J13+J14+J15+J16+J17+J18+J19+J20+J21+J22+J23+J24+J25+J26+J27+J28+J29+J30+J31+J32+J33+J34+J35+J36+J37+J38+J39+J40+J41+J42+J43+J44+J45)) -> 12.978078
N46: =SUM(F46+J46) -> 0 | O46: =SUM(G46+K46) -> 0 | P46: =SUM(G46/F46) -> #DIV/0! | Q46: =SUM(K46/J46) -> #DIV/0! | R46: =SUM(O46/N46) -> #DIV/0! | S46: =SUM((G3+G4+G5+G6+G7+G8+G9+G10+G11+G12+G13+G14+G15+G16+G17+G18+G19+G20+G21+G22+G23+G24+G25+G26+G27+G28+G29+G30+G31+G32+G33+G34+G35+G36+G37+G38+G39+G40+G41+G42+G43+G44+G45+G46+K3+K4+K5+K6+K7+K8+K9+K10+K11+K12+K13+K14+K15+K16+K17+K18+K19+K20+K21+K22+K23+K24+K25+K26+K27+K28+K29+K30+K31+K32+K33+K34+K35+K36+K37+K38+K39+K40+K41+K42+K43+K44+K45+K46)/(F3+F4+F5+F6+F7+F8+F9+F10+F11+F12+F13+F14+F15+F16+F17+F18+F19+F20+F21+F22+F23+F24+F25+F26+F27+F28+F29+F30+F31+F32+F33+F34+F35+F36+F37+F38+F39+F40+F41+F42+F43+F44+F45+F46+J3+J4+J5+J6+J7+J8+J9+J10+J11+J12+J13+J14+J15+J16+J17+J18+J19+J20+J21+J22+J23+J24+J25+J26+J27+J28+J29+J30+J31+J32+J33+J34+J35+J36+J37+J38+J39+J40+J41+J42+J43+J44+J45+J46)) -> 12.978078
N47: =SUM(F47+J47) -> 0 | O47: =SUM(G47+K47) -> 0 | P47: =SUM(G47/F47) -> #DIV/0! | Q47: =SUM(K47/J47) -> #DIV/0! | R47: =SUM(O47/N47) -> #DIV/0! | S47: =SUM((G3+G4+G5+G6+G7+G8+G9+G10+G11+G12+G13+G14+G15+G16+G17+G18+G19+G20+G21+G22+G23+G24+G25+G26+G27+G28+G29+G30+G31+G32+G33+G34+G35+G36+G37+G38+G39+G40+G41+G42+G43+G44+G45+G46+G47+K3+K4+K5+K6+K7+K8+K9+K10+K11+K12+K13+K14+K15+K16+K17+K18+K19+K20+K21+K22+K23+K24+K25+K26+K27+K28+K29+K30+K31+K32+K33+K34+K35+K36+K37+K38+K39+K40+K41+K42+K43+K44+K45+K46+K47)/(F3+F4+F5+F6+F7+F8+F9+F10+F11+F12+F13+F14+F15+F16+F17+F18+F19+F20+F21+F22+F23+F24+F25+F26+F27+F28+F29+F30+F31+F32+F33+F34+F35+F36+F37+F38+F39+F40+F41+F42+F43+F44+F45+F46+F47+J3+J4+J5+J6+J7+J8+J9+J10+J11+J12+J13+J14+J15+J16+J17+J18+J19+J20+J21+J22+J23+J24+J25+J26+J27+J28+J29+J30+J31+J32+J33+J34+J35+J36+J37+J38+J39+J40+J41+J42+J43+J44+J45+J46+J47)) -> 12.978078
N48: =SUM(F48+J48) -> 0 | O48: =SUM(G48+K48) -> 0 | P48: =SUM(G48/F48) -> #DIV/0! | Q48: =SUM(K48/J48) -> #DIV/0! | R48: =SUM(O48/N48) -> #DIV/0! | S48: =SUM((G3+G4+G5+G6+G7+G8+G9+G10+G11+G12+G13+G14+G15+G16+G17+G18+G19+G20+G21+G22+G23+G24+G25+G26+G27+G28+G29+G30+G31+G32+G33+G34+G35+G36+G37+G38+G39+G40+G41+G42+G43+G44+G45+G46+G47+G48+K3+K4+K5+K6+K7+K8+K9+K10+K11+K12+K13+K14+K15+K16+K17+K18+K19+K20+K21+K22+K23+K24+K25+K26+K27+K28+K29+K30+K31+K32+K33+K34+K35+K36+K37+K38+K39+K40+K41+K42+K43+K44+K45+K46+K47+K48)/(F3+F4+F5+F6+F7+F8+F9+F10+F11+F12+F13+F14+F15+F16+F17+F18+F19+F20+F21+F22+F23+F24+F25+F26+F27+F28+F29+F30+F31+F32+F33+F34+F35+F36+F37+F38+F39+F40+F41+F42+F43+F44+F45+F46+F47+F48+J3+J4+J5+J6+J7+J8+J9+J10+J11+J12+J13+J14+J15+J16+J17+J18+J19+J20+J21+J22+J23+J24+J25+J26+J27+J28+J29+J30+J31+J32+J33+J34+J35+J36+J37+J38+J39+J40+J41+J42+J43+J44+J45+J46+J47+J48)) -> 12.978078
N49: =SUM(F49+J49) -> 0 | O49: =SUM(G49+K49) -> 0 | P49: =SUM(G49/F49) -> #DIV/0! | Q49: =SUM(K49/J49) -> #DIV/0! | R49: =SUM(O49/N49) -> #DIV/0! | S49: =SUM((G3+G4+G5+G6+G7+G8+G9+G10+G11+G12+G13+G14+G15+G16+G17+G18+G19+G20+G21+G22+G23+G24+G25+G26+G27+G28+G29+G30+G31+G32+G33+G34+G35+G36+G37+G38+G39+G40+G41+G42+G43+G44+G45+G46+G47+G48+G49+K3+K4+K5+K6+K7+K8+K9+K10+K11+K12+K13+K14+K15+K16+K17+K18+K19+K20+K21+K22+K23+K24+K25+K26+K27+K28+K29+K30+K31+K32+K33+K34+K35+K36+K37+K38+K39+K40+K41+K42+K43+K44+K45+K46+K47+K48+K49)/(F3+F4+F5+F6+F7+F8+F9+F10+F11+F12+F13+F14+F15+F16+F17+F18+F19+F20+F21+F22+F23+F24+F25+F26+F27+F28+F29+F30+F31+F32+F33+F34+F35+F36+F37+F38+F39+F40+F41+F42+F43+F44+F45+F46+F47+F48+F49+J3+J4+J5+J6+J7+J8+J9+J10+J11+J12+J13+J14+J15+J16+J17+J18+J19+J20+J21+J22+J23+J24+J25+J26+J27+J28+J29+J30+J31+J32+J33+J34+J35+J36+J37+J38+J39+J40+J41+J42+J43+J44+J45+J46+J47+J48+J49)) -> 12.978078
N50: =SUM(F50+J50) -> 0 | O50: =SUM(G50+K50) -> 0 | P50: =SUM(G50/F50) -> #DIV/0! | Q50: =SUM(K50/J50) -> #DIV/0! | R50: =SUM(O50/N50) -> #DIV/0! | S50: =SUM((G3+G4+G5+G6+G7+G8+G9+G10+G11+G12+G13+G14+G15+G16+G17+G18+G19+G20+G21+G22+G23+G24+G25+G26+G27+G28+G29+G30+G31+G32+G33+G34+G35+G36+G37+G38+G39+G40+G41+G42+G43+G44+G45+G46+G47+G48+G49+G50+K3+K4+K5+K6+K7+K8+K9+K10+K11+K12+K13+K14+K15+K16+K17+K18+K19+K20+K21+K22+K23+K24+K25+K26+K27+K28+K29+K30+K31+K32+K33+K34+K35+K36+K37+K38+K39+K40+K41+K42+K43+K44+K45+K46+K47+K48+K49+K50)/(F3+F4+F5+F6+F7+F8+F9+F10+F11+F12+F13+F14+F15+F16+F17+F18+F19+F20+F21+F22+F23+F24+F25+F26+F27+F28+F29+F30+F31+F32+F33+F34+F35+F36+F37+F38+F39+F40+F41+F42+F43+F44+F45+F46+F47+F48+F49+F50+J3+J4+J5+J6+J7+J8+J9+J10+J11+J12+J13+J14+J15+J16+J17+J18+J19+J20+J21+J22+J23+J24+J25+J26+J27+J28+J29+J30+J31+J32+J33+J34+J35+J36+J37+J38+J39+J40+J41+J42+J43+J44+J45+J46+J47+J48+J49+J50)) -> 12.978078
N51: =SUM(F51+J51) -> 0 | O51: =SUM(G51+K51) -> 0 | P51: =SUM(G51/F51) -> #DIV/0! | Q51: =SUM(K51/J51) -> #DIV/0! | R51: =SUM(O51/N51) -> #DIV/0! | S51: =SUM((G3+G4+G5+G6+G7+G8+G9+G10+G11+G12+G13+G14+G15+G16+G17+G18+G19+G20+G21+G22+G23+G24+G25+G26+G27+G28+G29+G30+G31+G32+G33+G34+G35+G36+G37+G38+G39+G40+G41+G42+G43+G44+G45+G46+G47+G48+G49+G50+G51+K3+K4+K5+K6+K7+K8+K9+K10+K11+K12+K13+K14+K15+K16+K17+K18+K19+K20+K21+K22+K23+K24+K25+K26+K27+K28+K29+K30+K31+K32+K33+K34+K35+K36+K37+K38+K39+K40+K41+K42+K43+K44+K45+K46+K47+K48+K49+K50+K51)/(F3+F4+F5+F6+F7+F8+F9+F10+F11+F12+F13+F14+F15+F16+F17+F18+F19+F20+F21+F22+F23+F24+F25+F26+F27+F28+F29+F30+F31+F32+F33+F34+F35+F36+F37+F38+F39+F40+F41+F42+F43+F44+F45+F46+F47+F48+F49+F50+F51+J3+J4+J5+J6+J7+J8+J9+J10+J11+J12+J13+J14+J15+J16+J17+J18+J19+J20+J21+J22+J23+J24+J25+J26+J27+J28+J29+J30+J31+J32+J33+J34+J35+J36+J37+J38+J39+J40+J41+J42+J43+J44+J45+J46+J47+J48+J49+J50+J51)) -> 12.978078
N52: =SUM(F52+J52) -> 0 | O52: =SUM(G52+K52) -> 0 | P52: =SUM(G52/F52) -> #DIV/0! | Q52: =SUM(K52/J52) -> #DIV/0! | R52: =SUM(O52/N52) -> #DIV/0! | S52: =SUM((G3+G4+G5+G6+G7+G8+G9+G10+G11+G12+G13+G14+G15+G16+G17+G18+G19+G20+G21+G22+G23+G24+G25+G26+G27+G28+G29+G30+G31+G32+G33+G34+G35+G36+G37+G38+G39+G40+G41+G42+G43+G44+G45+G46+G47+G48+G49+G50+G51+G52+K3+K4+K5+K6+K7+K8+K9+K10+K11+K12+K13+K14+K15+K16+K17+K18+K19+K20+K21+K22+K23+K24+K25+K26+K27+K28+K29+K30+K31+K32+K33+K34+K35+K36+K37+K38+K39+K40+K41+K42+K43+K44+K45+K46+K47+K48+K49+K50+K51+K52)/(F3+F4+F5+F6+F7+F8+F9+F10+F11+F12+F13+F14+F15+F16+F17+F18+F19+F20+F21+F22+F23+F24+F25+F26+F27+F28+F29+F30+F31+F32+F33+F34+F35+F36+F37+F38+F39+F40+F41+F42+F43+F44+F45+F46+F47+F48+F49+F50+F51+F52+J3+J4+J5+J6+J7+J8+J9+J10+J11+J12+J13+J14+J15+J16+J17+J18+J19+J20+J21+J22+J23+J24+J25+J26+J27+J28+J29+J30+J31+J32+J33+J34+J35+J36+J37+J38+J39+J40+J41+J42+J43+J44+J45+J46+J47+J48+J49+J50+J51+J52)) -> 12.978078
N53: =SUM(F53+J53) -> 0 | O53: =SUM(G53+K53) -> 0 | P53: =SUM(G53/F53) -> #DIV/0! | Q53: =SUM(K53/J53) -> #DIV/0! | R53: =SUM(O53/N53) -> #DIV/0! | S53: =SUM((G3+G4+G5+G6+G7+G8+G9+G10+G11+G12+G13+G14+G15+G16+G17+G18+G19+G20+G21+G22+G23+G24+G25+G26+G27+G28+G29+G30+G31+G32+G33+G34+G35+G36+G37+G38+G39+G40+G41+G42+G43+G44+G45+G46+G47+G48+G49+G50+G51+G52+G53+K3+K4+K5+K6+K7+K8+K9+K10+K11+K12+K13+K14+K15+K16+K17+K18+K19+K20+K21+K22+K23+K24+K25+K26+K27+K28+K29+K30+K31+K32+K33+K34+K35+K36+K37+K38+K39+K40+K41+K42+K43+K44+K45+K46+K47+K48+K49+K50+K51+K52+K53)/(F3+F4+F5+F6+F7+F8+F9+F10+F11+F12+F13+F14+F15+F16+F17+F18+F19+F20+F21+F22+F23+F24+F25+F26+F27+F28+F29+F30+F31+F32+F33+F34+F35+F36+F37+F38+F39+F40+F41+F42+F43+F44+F45+F46+F47+F48+F49+F50+F51+F52+F53+J3+J4+J5+J6+J7+J8+J9+J10+J11+J12+J13+J14+J15+J16+J17+J18+J19+J20+J21+J22+J23+J24+J25+J26+J27+J28+J29+J30+J31+J32+J33+J34+J35+J36+J37+J38+J39+J40+J41+J42+J43+J44+J45+J46+J47+J48+J49+J50+J51+J52+J53)) -> 12.978078
N54: =SUM(F54+J54) -> 0 | O54: =SUM(G54+K54) -> 0 | P54: =SUM(G54/F54) -> #DIV/0! | Q54: =SUM(K54/J54) -> #DIV/0! | R54: =SUM(O54/N54) -> #DIV/0! | S54: =SUM((G3+G4+G5+G6+G7+G8+G9+G10+G11+G12+G13+G14+G15+G16+G17+G18+G19+G20+G21+G22+G23+G24+G25+G26+G27+G28+G29+G30+G31+G32+G33+G34+G35+G36+G37+G38+G39+G40+G41+G42+G43+G44+G45+G46+G47+G48+G49+G50+G51+G52+G53+G54+K3+K4+K5+K6+K7+K8+K9+K10+K11+K12+K13+K14+K15+K16+K17+K18+K19+K20+K21+K22+K23+K24+K25+K26+K27+K28+K29+K30+K31+K32+K33+K34+K35+K36+K37+K38+K39+K40+K41+K42+K43+K44+K45+K46+K47+K48+K49+K50+K51+K52+K53+K54)/(F3+F4+F5+F6+F7+F8+F9+F10+F11+F12+F13+F14+F15+F16+F17+F18+F19+F20+F21+F22+F23+F24+F25+F26+F27+F28+F29+F30+F31+F32+F33+F34+F35+F36+F37+F38+F39+F40+F41+F42+F43+F44+F45+F46+F47+F48+F49+F50+F51+F52+F53+F54+J3+J4+J5+J6+J7+J8+J9+J10+J11+J12+J13+J14+J15+J16+J17+J18+J19+J20+J21+J22+J23+J24+J25+J26+J27+J28+J29+J30+J31+J32+J33+J34+J35+J36+J37+J38+J39+J40+J41+J42+J43+J44+J45+J46+J47+J48+J49+J50+J51+J52+J53+J54)) -> 12.978078
N55: =SUM(F55+J55) -> 0 | O55: =SUM(G55+K55) -> 0 | P55: =SUM(G55/F55) -> #DIV/0! | Q55: =SUM(K55/J55) -> #DIV/0! | R55: =SUM(O55/N55) -> #DIV/0! | S55: =SUM((G3+G4+G5+G6+G7+G8+G9+G10+G11+G12+G13+G14+G15+G16+G17+G18+G19+G20+G21+G22+G23+G24+G25+G26+G27+G28+G29+G30+G31+G32+G33+G34+G35+G36+G37+G38+G39+G40+G41+G42+G43+G44+G45+G46+G47+G48+G49+G50+G51+G52+G53+G54+G55+K3+K4+K5+K6+K7+K8+K9+K10+K11+K12+K13+K14+K15+K16+K17+K18+K19+K20+K21+K22+K23+K24+K25+K26+K27+K28+K29+K30+K31+K32+K33+K34+K35+K36+K37+K38+K39+K40+K41+K42+K43+K44+K45+K46+K47+K48+K49+K50+K51+K52+K53+K54+K55)/(F3+F4+F5+F6+F7+F8+F9+F10+F11+F12+F13+F14+F15+F16+F17+F18+F19+F20+F21+F22+F23+F24+F25+F26+F27+F28+F29+F30+F31+F32+F33+F34+F35+F36+F37+F38+F39+F40+F41+F42+F43+F44+F45+F46+F47+F48+F49+F50+F51+F52+F53+F54+F55+J3+J4+J5+J6+J7+J8+J9+J10+J11+J12+J13+J14+J15+J16+J17+J18+J19+J20+J21+J22+J23+J24+J25+J26+J27+J28+J29+J30+J31+J32+J33+J34+J35+J36+J37+J38+J39+J40+J41+J42+J43+J44+J45+J46+J47+J48+J49+J50+J51+J52+J53+J54+J55)) -> 12.978078
N56: =SUM(F56+J56) -> 0 | O56: =SUM(G56+K56) -> 0 | P56: =SUM(G56/F56) -> #DIV/0! | Q56: =SUM(K56/J56) -> #DIV/0! | R56: =SUM(O56/N56) -> #DIV/0! | S56: =SUM((G3+G4+G5+G6+G7+G8+G9+G10+G11+G12+G13+G14+G15+G16+G17+G18+G19+G20+G21+G22+G23+G24+G25+G26+G27+G28+G29+G30+G31+G32+G33+G34+G35+G36+G37+G38+G39+G40+G41+G42+G43+G44+G45+G46+G47+G48+G49+G50+G51+G52+G53+G54+G55+G56+K3+K4+K5+K6+K7+K8+K9+K10+K11+K12+K13+K14+K15+K16+K17+K18+K19+K20+K21+K22+K23+K24+K25+K26+K27+K28+K29+K30+K31+K32+K33+K34+K35+K36+K37+K38+K39+K40+K41+K42+K43+K44+K45+K46+K47+K48+K49+K50+K51+K52+K53+K54+K55+K56)/(F3+F4+F5+F6+F7+F8+F9+F10+F11+F12+F13+F14+F15+F16+F17+F18+F19+F20+F21+F22+F23+F24+F25+F26+F27+F28+F29+F30+F31+F32+F33+F34+F35+F36+F37+F38+F39+F40+F41+F42+F43+F44+F45+F46+F47+F48+F49+F50+F51+F52+F53+F54+F55+F56+J3+J4+J5+J6+J7+J8+J9+J10+J11+J12+J13+J14+J15+J16+J17+J18+J19+J20+J21+J22+J23+J24+J25+J26+J27+J28+J29+J30+J31+J32+J33+J34+J35+J36+J37+J38+J39+J40+J41+J42+J43+J44+J45+J46+J47+J48+J49+J50+J51+J52+J53+J54+J55+J56)) -> 12.978078
N57: =SUM(F57+J57) -> 0 | O57: =SUM(G57+K57) -> 0 | P57: =SUM(G57/F57) -> #DIV/0! | Q57: =SUM(K57/J57) -> #DIV/0! | R57: =SUM(O57/N57) -> #DIV/0! | S57: =SUM((G3+G4+G5+G6+G7+G8+G9+G10+G11+G12+G13+G14+G15+G16+G17+G18+G19+G20+G21+G22+G23+G24+G25+G26+G27+G28+G29+G30+G31+G32+G33+G34+G35+G36+G37+G38+G39+G40+G41+G42+G43+G44+G45+G46+G47+G48+G49+G50+G51+G52+G53+G54+G55+G56+G57+K3+K4+K5+K6+K7+K8+K9+K10+K11+K12+K13+K14+K15+K16+K17+K18+K19+K20+K21+K22+K23+K24+K25+K26+K27+K28+K29+K30+K31+K32+K33+K34+K35+K36+K37+K38+K39+K40+K41+K42+K43+K44+K45+K46+K47+K48+K49+K50+K51+K52+K53+K54+K55+K56+K57)/(F3+F4+F5+F6+F7+F8+F9+F10+F11+F12+F13+F14+F15+F16+F17+F18+F19+F20+F21+F22+F23+F24+F25+F26+F27+F28+F29+F30+F31+F32+F33+F34+F35+F36+F37+F38+F39+F40+F41+F42+F43+F44+F45+F46+F47+F48+F49+F50+F51+F52+F53+F54+F55+F56+F57+J3+J4+J5+J6+J7+J8+J9+J10+J11+J12+J13+J14+J15+J16+J17+J18+J19+J20+J21+J22+J23+J24+J25+J26+J27+J28+J29+J30+J31+J32+J33+J34+J35+J36+J37+J38+J39+J40+J41+J42+J43+J44+J45+J46+J47+J48+J49+J50+J51+J52+J53+J54+J55+J56+J57)) -> 12.978078
N58: =SUM(F58+J58) -> 0 | O58: =SUM(G58+K58) -> 0 | P58: =SUM(G58/F58) -> #DIV/0! | Q58: =SUM(K58/J58) -> #DIV/0! | R58: =SUM(O58/N58) -> #DIV/0! | S58: =SUM((G3+G4+G5+G6+G7+G8+G9+G10+G11+G12+G13+G14+G15+G16+G17+G18+G19+G20+G21+G22+G23+G24+G25+G26+G27+G28+G29+G30+G31+G32+G33+G34+G35+G36+G37+G38+G39+G40+G41+G42+G43+G44+G45+G46+G47+G48+G49+G50+G51+G52+G53+G54+G55+G56+G57+G58+K3+K4+K5+K6+K7+K8+K9+K10+K11+K12+K13+K14+K15+K16+K17+K18+K19+K20+K21+K22+K23+K24+K25+K26+K27+K28+K29+K30+K31+K32+K33+K34+K35+K36+K37+K38+K39+K40+K41+K42+K43+K44+K45+K46+K47+K48+K49+K50+K51+K52+K53+K54+K55+K56+K57+K58)/(F3+F4+F5+F6+F7+F8+F9+F10+F11+F12+F13+F14+F15+F16+F17+F18+F19+F20+F21+F22+F23+F24+F25+F26+F27+F28+F29+F30+F31+F32+F33+F34+F35+F36+F37+F38+F39+F40+F41+F42+F43+F44+F45+F46+F47+F48+F49+F50+F51+F52+F53+F54+F55+F56+F57+F58+J3+J4+J5+J6+J7+J8+J9+J10+J11+J12+J13+J14+J15+J16+J17+J18+J19+J20+J21+J22+J23+J24+J25+J26+J27+J28+J29+J30+J31+J32+J33+J34+J35+J36+J37+J38+J39+J40+J41+J42+J43+J44+J45+J46+J47+J48+J49+J50+J51+J52+J53+J54+J55+J56+J57+J58)) -> 12.978078
N59: =SUM(F59+J59) -> 0 | O59: =SUM(G59+K59) -> 0 | P59: =SUM(G59/F59) -> #DIV/0! | Q59: =SUM(K59/J59) -> #DIV/0! | R59: =SUM(O59/N59) -> #DIV/0! | S59: =SUM((G3+G4+G5+G6+G7+G8+G9+G10+G11+G12+G13+G14+G15+G16+G17+G18+G19+G20+G21+G22+G23+G24+G25+G26+G27+G28+G29+G30+G31+G32+G33+G34+G35+G36+G37+G38+G39+G40+G41+G42+G43+G44+G45+G46+G47+G48+G49+G50+G51+G52+G53+G54+G55+G56+G57+G58+G59+K3+K4+K5+K6+K7+K8+K9+K10+K11+K12+K13+K14+K15+K16+K17+K18+K19+K20+K21+K22+K23+K24+K25+K26+K27+K28+K29+K30+K31+K32+K33+K34+K35+K36+K37+K38+K39+K40+K41+K42+K43+K44+K45+K46+K47+K48+K49+K50+K51+K52+K53+K54+K55+K56+K57+K58+K59)/(F3+F4+F5+F6+F7+F8+F9+F10+F11+F12+F13+F14+F15+F16+F17+F18+F19+F20+F21+F22+F23+F24+F25+F26+F27+F28+F29+F30+F31+F32+F33+F34+F35+F36+F37+F38+F39+F40+F41+F42+F43+F44+F45+F46+F47+F48+F49+F50+F51+F52+F53+F54+F55+F56+F57+F58+F59+J3+J4+J5+J6+J7+J8+J9+J10+J11+J12+J13+J14+J15+J16+J17+J18+J19+J20+J21+J22+J23+J24+J25+J26+J27+J28+J29+J30+J31+J32+J33+J34+J35+J36+J37+J38+J39+J40+J41+J42+J43+J44+J45+J46+J47+J48+J49+J50+J51+J52+J53+J54+J55+J56+J57+J58+J59)) -> 12.978078
N60: =SUM(F60+J60) -> 0 | O60: =SUM(G60+K60) -> 0 | P60: =SUM(G60/F60) -> #DIV/0! | Q60: =SUM(K60/J60) -> #DIV/0! | R60: =SUM(O60/N60) -> #DIV/0! | S60: =SUM((G3+G4+G5+G6+G7+G8+G9+G10+G11+G12+G13+G14+G15+G16+G17+G18+G19+G20+G21+G22+G23+G24+G25+G26+G27+G28+G29+G30+G31+G32+G33+G34+G35+G36+G37+G38+G39+G40+G41+G42+G43+G44+G45+G46+G47+G48+G49+G50+G51+G52+G53+G54+G55+G56+G57+G58+G59+G60+K3+K4+K5+K6+K7+K8+K9+K10+K11+K12+K13+K14+K15+K16+K17+K18+K19+K20+K21+K22+K23+K24+K25+K26+K27+K28+K29+K30+K31+K32+K33+K34+K35+K36+K37+K38+K39+K40+K41+K42+K43+K44+K45+K46+K47+K48+K49+K50+K51+K52+K53+K54+K55+K56+K57+K58+K59+K60)/(F3+F4+F5+F6+F7+F8+F9+F10+F11+F12+F13+F14+F15+F16+F17+F18+F19+F20+F21+F22+F23+F24+F25+F26+F27+F28+F29+F30+F31+F32+F33+F34+F35+F36+F37+F38+F39+F40+F41+F42+F43+F44+F45+F46+F47+F48+F49+F50+F51+F52+F53+F54+F55+F56+F57+F58+F59+F60+J3+J4+J5+J6+J7+J8+J9+J10+J11+J12+J13+J14+J15+J16+J17+J18+J19+J20+J21+J22+J23+J24+J25+J26+J27+J28+J29+J30+J31+J32+J33+J34+J35+J36+J37+J38+J39+J40+J41+J42+J43+J44+J45+J46+J47+J48+J49+J50+J51+J52+J53+J54+J55+J56+J57+J58+J59+J60)) -> 12.978078
N61: =SUM(F61+J61) -> 0 | O61: =SUM(G61+K61) -> 0 | P61: =SUM(G61/F61) -> #DIV/0! | Q61: =SUM(K61/J61) -> #DIV/0! | R61: =SUM(O61/N61) -> #DIV/0! | S61: =SUM((G3+G4+G5+G6+G7+G8+G9+G10+G11+G12+G13+G14+G15+G16+G17+G18+G19+G20+G21+G22+G23+G24+G25+G26+G27+G28+G29+G30+G31+G32+G33+G34+G35+G36+G37+G38+G39+G40+G41+G42+G43+G44+G45+G46+G47+G48+G49+G50+G51+G52+G53+G54+G55+G56+G57+G58+G59+G60+G61+K3+K4+K5+K6+K7+K8+K9+K10+K11+K12+K13+K14+K15+K16+K17+K18+K19+K20+K21+K22+K23+K24+K25+K26+K27+K28+K29+K30+K31+K32+K33+K34+K35+K36+K37+K38+K39+K40+K41+K42+K43+K44+K45+K46+K47+K48+K49+K50+K51+K52+K53+K54+K55+K56+K57+K58+K59+K60+K61)/(F3+F4+F5+F6+F7+F8+F9+F10+F11+F12+F13+F14+F15+F16+F17+F18+F19+F20+F21+F22+F23+F24+F25+F26+F27+F28+F29+F30+F31+F32+F33+F34+F35+F36+F37+F38+F39+F40+F41+F42+F43+F44+F45+F46+F47+F48+F49+F50+F51+F52+F53+F54+F55+F56+F57+F58+F59+F60+F61+J3+J4+J5+J6+J7+J8+J9+J10+J11+J12+J13+J14+J15+J16+J17+J18+J19+J20+J21+J22+J23+J24+J25+J26+J27+J28+J29+J30+J31+J32+J33+J34+J35+J36+J37+J38+J39+J40+J41+J42+J43+J44+J45+J46+J47+J48+J49+J50+J51+J52+J53+J54+J55+J56+J57+J58+J59+J60+J61)) -> 12.978078
N62: =SUM(F62+J62) -> 0 | O62: =SUM(G62+K62) -> 0 | P62: =SUM(G62/F62) -> #DIV/0! | Q62: =SUM(K62/J62) -> #DIV/0! | R62: =SUM(O62/N62) -> #DIV/0! | S62: =SUM((G3+G4+G5+G6+G7+G8+G9+G10+G11+G12+G13+G14+G15+G16+G17+G18+G19+G20+G21+G22+G23+G24+G25+G26+G27+G28+G29+G30+G31+G32+G33+G34+G35+G36+G37+G38+G39+G40+G41+G42+G43+G44+G45+G46+G47+G48+G49+G50+G51+G52+G53+G54+G55+G56+G57+G58+G59+G60+G61+G62+K3+K4+K5+K6+K7+K8+K9+K10+K11+K12+K13+K14+K15+K16+K17+K18+K19+K20+K21+K22+K23+K24+K25+K26+K27+K28+K29+K30+K31+K32+K33+K34+K35+K36+K37+K38+K39+K40+K41+K42+K43+K44+K45+K46+K47+K48+K49+K50+K51+K52+K53+K54+K55+K56+K57+K58+K59+K60+K61+K62)/(F3+F4+F5+F6+F7+F8+F9+F10+F11+F12+F13+F14+F15+F16+F17+F18+F19+F20+F21+F22+F23+F24+F25+F26+F27+F28+F29+F30+F31+F32+F33+F34+F35+F36+F37+F38+F39+F40+F41+F42+F43+F44+F45+F46+F47+F48+F49+F50+F51+F52+F53+F54+F55+F56+F57+F58+F59+F60+F61+F62+J3+J4+J5+J6+J7+J8+J9+J10+J11+J12+J13+J14+J15+J16+J17+J18+J19+J20+J21+J22+J23+J24+J25+J26+J27+J28+J29+J30+J31+J32+J33+J34+J35+J36+J37+J38+J39+J40+J41+J42+J43+J44+J45+J46+J47+J48+J49+J50+J51+J52+J53+J54+J55+J56+J57+J58+J59+J60+J61+J62)) -> 12.978078
N63: =SUM(F63+J63) -> 0 | O63: =SUM(G63+K63) -> 0 | P63: =SUM(G63/F63) -> #DIV/0! | Q63: =SUM(K63/J63) -> #DIV/0! | R63: =SUM(O63/N63) -> #DIV/0! | S63: =SUM((G3+G4+G5+G6+G7+G8+G9+G10+G11+G12+G13+G14+G15+G16+G17+G18+G19+G20+G21+G22+G23+G24+G25+G26+G27+G28+G29+G30+G31+G32+G33+G34+G35+G36+G37+G38+G39+G40+G41+G42+G43+G44+G45+G46+G47+G48+G49+G50+G51+G52+G53+G54+G55+G56+G57+G58+G59+G60+G61+G62+G63+K3+K4+K5+K6+K7+K8+K9+K10+K11+K12+K13+K14+K15+K16+K17+K18+K19+K20+K21+K22+K23+K24+K25+K26+K27+K28+K29+K30+K31+K32+K33+K34+K35+K36+K37+K38+K39+K40+K41+K42+K43+K44+K45+K46+K47+K48+K49+K50+K51+K52+K53+K54+K55+K56+K57+K58+K59+K60+K61+K62+K63)/(F3+F4+F5+F6+F7+F8+F9+F10+F11+F12+F13+F14+F15+F16+F17+F18+F19+F20+F21+F22+F23+F24+F25+F26+F27+F28+F29+F30+F31+F32+F33+F34+F35+F36+F37+F38+F39+F40+F41+F42+F43+F44+F45+F46+F47+F48+F49+F50+F51+F52+F53+F54+F55+F56+F57+F58+F59+F60+F61+F62+F63+J3+J4+J5+J6+J7+J8+J9+J10+J11+J12+J13+J14+J15+J16+J17+J18+J19+J20+J21+J22+J23+J24+J25+J26+J27+J28+J29+J30+J31+J32+J33+J34+J35+J36+J37+J38+J39+J40+J41+J42+J43+J44+J45+J46+J47+J48+J49+J50+J51+J52+J53+J54+J55+J56+J57+J58+J59+J60+J61+J62+J63)) -> 12.978078
N64: =SUM(F64+J64) -> 0 | O64: =SUM(G64+K64) -> 0 | P64: =SUM(G64/F64) -> #DIV/0! | Q64: =SUM(K64/J64) -> #DIV/0! | R64: =SUM(O64/N64) -> #DIV/0! | S64: =SUM((G3+G4+G5+G6+G7+G8+G9+G10+G11+G12+G13+G14+G15+G16+G17+G18+G19+G20+G21+G22+G23+G24+G25+G26+G27+G28+G29+G30+G31+G32+G33+G34+G35+G36+G37+G38+G39+G40+G41+G42+G43+G44+G45+G46+G47+G48+G49+G50+G51+G52+G53+G54+G55+G56+G57+G58+G59+G60+G61+G62+G63+G64+K3+K4+K5+K6+K7+K8+K9+K10+K11+K12+K13+K14+K15+K16+K17+K18+K19+K20+K21+K22+K23+K24+K25+K26+K27+K28+K29+K30+K31+K32+K33+K34+K35+K36+K37+K38+K39+K40+K41+K42+K43+K44+K45+K46+K47+K48+K49+K50+K51+K52+K53+K54+K55+K56+K57+K58+K59+K60+K61+K62+K63+K64)/(F3+F4+F5+F6+F7+F8+F9+F10+F11+F12+F13+F14+F15+F16+F17+F18+F19+F20+F21+F22+F23+F24+F25+F26+F27+F28+F29+F30+F31+F32+F33+F34+F35+F36+F37+F38+F39+F40+F41+F42+F43+F44+F45+F46+F47+F48+F49+F50+F51+F52+F53+F54+F55+F56+F57+F58+F59+F60+F61+F62+F63+F64+J3+J4+J5+J6+J7+J8+J9+J10+J11+J12+J13+J14+J15+J16+J17+J18+J19+J20+J21+J22+J23+J24+J25+J26+J27+J28+J29+J30+J31+J32+J33+J34+J35+J36+J37+J38+J39+J40+J41+J42+J43+J44+J45+J46+J47+J48+J49+J50+J51+J52+J53+J54+J55+J56+J57+J58+J59+J60+J61+J62+J63+J64)) -> 12.978078
A66: LEAGUE AVERAGE | C66: =S64 -> 12.978078 | D66: =COUNTA(D3:D65) -> 5 | E66: =COUNTA(E3:E65) -> 0 | H66: =COUNTA(H3:H65) -> 8 | I66: =COUNTA(I3:I65) -> 2 | L66: =COUNTA(L3:L65) -> 5 | M66: =COUNTA(M3:M65) -> 5 | N66: =SUM(N3:N65) -> 593 | O66: =SUM(O3:O65) -> 7696
A68: Devan Smith
B69: 46286 | N69: =SUM(F69+J69) -> 0 | O69: =SUM(G69+K69) -> 0 | P69: =SUM(G69/F69) -> #DIV/0! | Q69: =SUM(K69/J69) -> #DIV/0! | R69: =SUM(O69/N69) -> #DIV/0! | S69: =SUM((G69+K69)/(F69+J69)) -> #DIV/0!
N70: =SUM(F70+J70) -> 0 | O70: =SUM(G70+K70) -> 0 | P70: =SUM(G70/F70) -> #DIV/0! | Q70: =SUM(K70/J70) -> #DIV/0! | R70: =SUM(O70/N70) -> #DIV/0! | S70: =SUM((G69+G70+K69+K70)/(F69+F70+J69+J70)) -> #DIV/0!
B71: =SUM(B69+7) -> 46293 | E71: X | F71: 24 | G71: 501 | H71: X | J71: 21 | K71: 229 | M71: X | N71: =SUM(F71+J71) -> 45 | O71: =SUM(G71+K71) -> 730 | P71: =SUM(G71/F71) -> 20.875 | Q71: =SUM(K71/J71) -> 10.904762 | R71: =SUM(O71/N71) -> 16.222222 | S71: =SUM((G69+G70+G71+K69+K70+K71)/(F69+F70+F71+J69+J70+J71)) -> 16.222222
F72: 33 | G72: 481 | I72: X | J72: 30 | K72: 275 | M72: X | N72: =SUM(F72+J72) -> 63 | O72: =SUM(G72+K72) -> 756 | P72: =SUM(G72/F72) -> 14.575758 | Q72: =SUM(K72/J72) -> 9.1666667 | R72: =SUM(O72/N72) -> 12 | S72: =SUM((G69+G70+G71+G72+K69+K70+K71+K72)/(F69+F70+F71+F72+J69+J70+J71+J72)) -> 13.759259
B73: =SUM(B71+7) -> 46300 | D73: X | F73: 45 | G73: 501 | H73: X | J73: 53 | K73: 301 | L73: X | N73: =SUM(F73+J73) -> 98 | O73: =SUM(G73+K73) -> 802 | P73: =SUM(G73/F73) -> 11.133333 | Q73: =SUM(K73/J73) -> 5.6792453 | R73: =SUM(O73/N73) -> 8.1836735 | S73: =SUM((G69+G70+G71+G72+G73+K69+K70+K71+K72+K73)/(F69+F70+F71+F72+F73+J69+J70+J71+J72+J73)) -> 11.106796
F74: 37 | G74: 501 | H74: X | J74: 30 | K74: 301 | L74: X | N74: =SUM(F74+J74) -> 67 | O74: =SUM(G74+K74) -> 802 | P74: =SUM(G74/F74) -> 13.540541 | Q74: =SUM(K74/J74) -> 10.033333 | R74: =SUM(O74/N74) -> 11.970149 | S74: =SUM((G69+G70+G71+G72+G73+G74+K69+K70+K71+K72+K73+K74)/(F69+F70+F71+F72+F73+F74+J69+J70+J71+J72+J73+J74)) -> 11.318681
B75: =SUM(B73+7) -> 46307 | D75: X | F75: 27 | G75: 461 | I75: X | J75: 21 | K75: 301 | L75: X | N75: =SUM(F75+J75) -> 48 | O75: =SUM(G75+K75) -> 762 | P75: =SUM(G75/F75) -> 17.074074 | Q75: =SUM(K75/J75) -> 14.333333 | R75: =SUM(O75/N75) -> 15.875 | S75: =SUM((G69+G70+G71+G72+G73+G74+G75+K69+K70+K71+K72+K73+K74+K75)/(F69+F70+F71+F72+F73+F74+F75+J69+J70+J71+J72+J73+J74+J75)) -> 12
F76: 33 | G76: 501 | H76: X | J76: 31 | K76: 301 | L76: X | N76: =SUM(F76+J76) -> 64 | O76: =SUM(G76+K76) -> 802 | P76: =SUM(G76/F76) -> 15.181818 | Q76: =SUM(K76/J76) -> 9.7096774 | R76: =SUM(O76/N76) -> 12.53125 | S76: =SUM((G69+G70+G71+G72+G73+G74+G75+G76+K69+K70+K71+K72+K73+K74+K75+K76)/(F69+F70+F71+F72+F73+F74+F75+F76+J69+J70+J71+J72+J73+J74+J75+J76)) -> 12.088312
B77: =SUM(B75+7) -> 46314 | E77: X | F77: 39 | G77: 485 | I77: X | J77: 24 | K77: 301 | L77: X | N77: =SUM(F77+J77) -> 63 | O77: =SUM(G77+K77) -> 786 | P77: =SUM(G77/F77) -> 12.435897 | Q77: =SUM(K77/J77) -> 12.541667 | R77: =SUM(O77/N77) -> 12.47619 | S77: =SUM((G69+G70+G71+G72+G73+G74+G75+G76+G77+K69+K70+K71+K72+K73+K74+K75+K76+K77)/(F69+F70+F71+F72+F73+F74+F75+F76+F77+J69+J70+J71+J72+J73+J74+J75+J76+J77)) -> 12.142857
F78: 29 | G78: 501 | H78: X | J78: 33 | K78: 301 | L78: X | N78: =SUM(F78+J78) -> 62 | O78: =SUM(G78+K78) -> 802 | P78: =SUM(G78/F78) -> 17.275862 | Q78: =SUM(K78/J78) -> 9.1212121 | R78: =SUM(O78/N78) -> 12.935484 | S78: =SUM((G69+G70+G71+G72+G73+G74+G75+G76+G77+G78+K69+K70+K71+K72+K73+K74+K75+K76+K77+K78)/(F69+F70+F71+F72+F73+F74+F75+F76+F77+F78+J69+J70+J71+J72+J73+J74+J75+J76+J77+J78)) -> 12.239216
B79: =SUM(B77+7) -> 46321 | D79: X | F79: 54 | G79: 501 | H79: X | J79: 27 | K79: 301 | L79: X | N79: =SUM(F79+J79) -> 81 | O79: =SUM(G79+K79) -> 802 | P79: =SUM(G79/F79) -> 9.2777778 | Q79: =SUM(K79/J79) -> 11.148148 | R79: =SUM(O79/N79) -> 9.9012346 | S79: =SUM((G69+G70+G71+G72+G73+G74+G75+G76+G77+G78+G79+K69+K70+K71+K72+K73+K74+K75+K76+K77+K78+K79)/(F69+F70+F71+F72+F73+F74+F75+F76+F77+F78+F79+J69+J70+J71+J72+J73+J74+J75+J76+J77+J78+J79)) -> 11.918782
F80: 32 | G80: 501 | H80: X | J80: 36 | K80: 301 | L80: X | N80: =SUM(F80+J80) -> 68 | O80: =SUM(G80+K80) -> 802 | P80: =SUM(G80/F80) -> 15.65625 | Q80: =SUM(K80/J80) -> 8.3611111 | R80: =SUM(O80/N80) -> 11.794118 | S80: =SUM((G69+G70+G71+G72+G73+G74+G75+G76+G77+G78+G79+G80+K69+K70+K71+K72+K73+K74+K75+K76+K77+K78+K79+K80)/(F69+F70+F71+F72+F73+F74+F75+F76+F77+F78+F79+F80+J69+J70+J71+J72+J73+J74+J75+J76+J77+J78+J79+J80)) -> 11.905918
B81: =SUM(B79+7) -> 46328 | N81: =SUM(F81+J81) -> 0 | O81: =SUM(G81+K81) -> 0 | P81: =SUM(G81/F81) -> #DIV/0! | Q81: =SUM(K81/J81) -> #DIV/0! | R81: =SUM(O81/N81) -> #DIV/0! | S81: =SUM((G69+G70+G71+G72+G73+G74+G75+G76+G77+G78+G79+G80+G81+K69+K70+K71+K72+K73+K74+K75+K76+K77+K78+K79+K80+K81)/(F69+F70+F71+F72+F73+F74+F75+F76+F77+F78+F79+F80+F81+J69+J70+J71+J72+J73+J74+J75+J76+J77+J78+J79+J80+J81)) -> 11.905918
N82: =SUM(F82+J82) -> 0 | O82: =SUM(G82+K82) -> 0 | P82: =SUM(G82/F82) -> #DIV/0! | Q82: =SUM(K82/J82) -> #DIV/0! | R82: =SUM(O82/N82) -> #DIV/0! | S82: =SUM((G69+G70+G71+G72+G73+G74+G75+G76+G77+G78+G79+G80+G81+G82+K69+K70+K71+K72+K73+K74+K75+K76+K77+K78+K79+K80+K81+K82)/(F69+F70+F71+F72+F73+F74+F75+F76+F77+F78+F79+F80+F81+F82+J69+J70+J71+J72+J73+J74+J75+J76+J77+J78+J79+J80+J81+J82)) -> 11.905918
B83: =SUM(B81+7) -> 46335 | N83: =SUM(F83+J83) -> 0 | O83: =SUM(G83+K83) -> 0 | P83: =SUM(G83/F83) -> #DIV/0! | Q83: =SUM(K83/J83) -> #DIV/0! | R83: =SUM(O83/N83) -> #DIV/0! | S83: =SUM((G69+G70+G71+G72+G73+G74+G75+G76+G77+G78+G79+G80+G81+G82+G83+K69+K70+K71+K72+K73+K74+K75+K76+K77+K78+K79+K80+K81+K82+K83)/(F69+F70+F71+F72+F73+F74+F75+F76+F77+F78+F79+F80+F81+F82+F83+J69+J70+J71+J72+J73+J74+J75+J76+J77+J78+J79+J80+J81+J82+J83)) -> 11.905918
N84: =SUM(F84+J84) -> 0 | O84: =SUM(G84+K84) -> 0 | P84: =SUM(G84/F84) -> #DIV/0! | Q84: =SUM(K84/J84) -> #DIV/0! | R84: =SUM(O84/N84) -> #DIV/0! | S84: =SUM((G69+G70+G71+G72+G73+G74+G75+G76+G77+G78+G79+G80+G81+G82+G83+G84+K69+K70+K71+K72+K73+K74+K75+K76+K77+K78+K79+K80+K81+K82+K83+K84)/(F69+F70+F71+F72+F73+F74+F75+F76+F77+F78+F79+F80+F81+F82+F83+F84+J69+J70+J71+J72+J73+J74+J75+J76+J77+J78+J79+J80+J81+J82+J83+J84)) -> 11.905918
B85: =SUM(B83+7) -> 46342 | N85: =SUM(F85+J85) -> 0 | O85: =SUM(G85+K85) -> 0 | P85: =SUM(G85/F85) -> #DIV/0! | Q85: =SUM(K85/J85) -> #DIV/0! | R85: =SUM(O85/N85) -> #DIV/0! | S85: =SUM((G69+G70+G71+G72+G73+G74+G75+G76+G77+G78+G79+G80+G81+G82+G83+G84+G85+K69+K70+K71+K72+K73+K74+K75+K76+K77+K78+K79+K80+K81+K82+K83+K84+K85)/(F69+F70+F71+F72+F73+F74+F75+F76+F77+F78+F79+F80+F81+F82+F83+F84+F85+J69+J70+J71+J72+J73+J74+J75+J76+J77+J78+J79+J80+J81+J82+J83+J84+J85)) -> 11.905918
N86: =SUM(F86+J86) -> 0 | O86: =SUM(G86+K86) -> 0 | P86: =SUM(G86/F86) -> #DIV/0! | Q86: =SUM(K86/J86) -> #DIV/0! | R86: =SUM(O86/N86) -> #DIV/0! | S86: =SUM((G69+G70+G71+G72+G73+G74+G75+G76+G77+G78+G79+G80+G81+G82+G83+G84+G85+G86+K69+K70+K71+K72+K73+K74+K75+K76+K77+K78+K79+K80+K81+K82+K83+K84+K85+K86)/(F69+F70+F71+F72+F73+F74+F75+F76+F77+F78+F79+F80+F81+F82+F83+F84+F85+F86+J69+J70+J71+J72+J73+J74+J75+J76+J77+J78+J79+J80+J81+J82+J83+J84+J85+J86)) -> 11.905918
B87: =SUM(B85+7) -> 46349 | N87: =SUM(F87+J87) -> 0 | O87: =SUM(G87+K87) -> 0 | P87: =SUM(G87/F87) -> #DIV/0! | Q87: =SUM(K87/J87) -> #DIV/0! | R87: =SUM(O87/N87) -> #DIV/0! | S87: =SUM((G69+G70+G71+G72+G73+G74+G75+G76+G77+G78+G79+G80+G81+G82+G83+G84+G85+G86+G87+K69+K70+K71+K72+K73+K74+K75+K76+K77+K78+K79+K80+K81+K82+K83+K84+K85+K86+K87)/(F69+F70+F71+F72+F73+F74+F75+F76+F77+F78+F79+F80+F81+F82+F83+F84+F85+F86+F87+J69+J70+J71+J72+J73+J74+J75+J76+J77+J78+J79+J80+J81+J82+J83+J84+J85+J86+J87)) -> 11.905918
N88: =SUM(F88+J88) -> 0 | O88: =SUM(G88+K88) -> 0 | P88: =SUM(G88/F88) -> #DIV/0! | Q88: =SUM(K88/J88) -> #DIV/0! | R88: =SUM(O88/N88) -> #DIV/0! | S88: =SUM((G69+G70+G71+G72+G73+G74+G75+G76+G77+G78+G79+G80+G81+G82+G83+G84+G85+G86+G87+G88+K69+K70+K71+K72+K73+K74+K75+K76+K77+K78+K79+K80+K81+K82+K83+K84+K85+K86+K87+K88)/(F69+F70+F71+F72+F73+F74+F75+F76+F77+F78+F79+F80+F81+F82+F83+F84+F85+F86+F87+F88+J69+J70+J71+J72+J73+J74+J75+J76+J77+J78+J79+J80+J81+J82+J83+J84+J85+J86+J87+J88)) -> 11.905918
B89: =SUM(B87+7) -> 46356 | N89: =SUM(F89+J89) -> 0 | O89: =SUM(G89+K89) -> 0 | P89: =SUM(G89/F89) -> #DIV/0! | Q89: =SUM(K89/J89) -> #DIV/0! | R89: =SUM(O89/N89) -> #DIV/0! | S89: =SUM((G69+G70+G71+G72+G73+G74+G75+G76+G77+G78+G79+G80+G81+G82+G83+G84+G85+G86+G87+G88+G89+K69+K70+K71+K72+K73+K74+K75+K76+K77+K78+K79+K80+K81+K82+K83+K84+K85+K86+K87+K88+K89)/(F69+F70+F71+F72+F73+F74+F75+F76+F77+F78+F79+F80+F81+F82+F83+F84+F85+F86+F87+F88+F89+J69+J70+J71+J72+J73+J74+J75+J76+J77+J78+J79+J80+J81+J82+J83+J84+J85+J86+J87+J88+J89)) -> 11.905918
N90: =SUM(F90+J90) -> 0 | O90: =SUM(G90+K90) -> 0 | P90: =SUM(G90/F90) -> #DIV/0! | Q90: =SUM(K90/J90) -> #DIV/0! | R90: =SUM(O90/N90) -> #DIV/0! | S90: =SUM((G69+G70+G71+G72+G73+G74+G75+G76+G77+G78+G79+G80+G81+G82+G83+G84+G85+G86+G87+G88+G89+G90+K69+K70+K71+K72+K73+K74+K75+K76+K77+K78+K79+K80+K81+K82+K83+K84+K85+K86+K87+K88+K89+K90)/(F69+F70+F71+F72+F73+F74+F75+F76+F77+F78+F79+F80+F81+F82+F83+F84+F85+F86+F87+F88+F89+F90+J69+J70+J71+J72+J73+J74+J75+J76+J77+J78+J79+J80+J81+J82+J83+J84+J85+J86+J87+J88+J89+J90)) -> 11.905918
B91: =SUM(B89+7) -> 46363 | N91: =SUM(F91+J91) -> 0 | O91: =SUM(G91+K91) -> 0 | P91: =SUM(G91/F91) -> #DIV/0! | Q91: =SUM(K91/J91) -> #DIV/0! | R91: =SUM(O91/N91) -> #DIV/0! | S91: =SUM((G69+G70+G71+G72+G73+G74+G75+G76+G77+G78+G79+G80+G81+G82+G83+G84+G85+G86+G87+G88+G89+G90+G91+K69+K70+K71+K72+K73+K74+K75+K76+K77+K78+K79+K80+K81+K82+K83+K84+K85+K86+K87+K88+K89+K90+K91)/(F69+F70+F71+F72+F73+F74+F75+F76+F77+F78+F79+F80+F81+F82+F83+F84+F85+F86+F87+F88+F89+F90+F91+J69+J70+J71+J72+J73+J74+J75+J76+J77+J78+J79+J80+J81+J82+J83+J84+J85+J86+J87+J88+J89+J90+J91)) -> 11.905918
N92: =SUM(F92+J92) -> 0 | O92: =SUM(G92+K92) -> 0 | P92: =SUM(G92/F92) -> #DIV/0! | Q92: =SUM(K92/J92) -> #DIV/0! | R92: =SUM(O92/N92) -> #DIV/0! | S92: =SUM((G69+G70+G71+G72+G73+G74+G75+G76+G77+G78+G79+G80+G81+G82+G83+G84+G85+G86+G87+G88+G89+G90+G91+G92+K69+K70+K71+K72+K73+K74+K75+K76+K77+K78+K79+K80+K81+K82+K83+K84+K85+K86+K87+K88+K89+K90+K91+K92)/(F69+F70+F71+F72+F73+F74+F75+F76+F77+F78+F79+F80+F81+F82+F83+F84+F85+F86+F87+F88+F89+F90+F91+F92+J69+J70+J71+J72+J73+J74+J75+J76+J77+J78+J79+J80+J81+J82+J83+J84+J85+J86+J87+J88+J89+J90+J91+J92)) -> 11.905918
B93: =SUM(B91+7) -> 46370 | N93: =SUM(F93+J93) -> 0 | O93: =SUM(G93+K93) -> 0 | P93: =SUM(G93/F93) -> #DIV/0! | Q93: =SUM(K93/J93) -> #DIV/0! | R93: =SUM(O93/N93) -> #DIV/0! | S93: =SUM((G69+G70+G71+G72+G73+G74+G75+G76+G77+G78+G79+G80+G81+G82+G83+G84+G85+G86+G87+G88+G89+G90+G91+G92+G93+K69+K70+K71+K72+K73+K74+K75+K76+K77+K78+K79+K80+K81+K82+K83+K84+K85+K86+K87+K88+K89+K90+K91+K92+K93)/(F69+F70+F71+F72+F73+F74+F75+F76+F77+F78+F79+F80+F81+F82+F83+F84+F85+F86+F87+F88+F89+F90+F91+F92+F93+J69+J70+J71+J72+J73+J74+J75+J76+J77+J78+J79+J80+J81+J82+J83+J84+J85+J86+J87+J88+J89+J90+J91+J92+J93)) -> 11.905918
N94: =SUM(F94+J94) -> 0 | O94: =SUM(G94+K94) -> 0 | P94: =SUM(G94/F94) -> #DIV/0! | Q94: =SUM(K94/J94) -> #DIV/0! | R94: =SUM(O94/N94) -> #DIV/0! | S94: =SUM((G69+G70+G71+G72+G73+G74+G75+G76+G77+G78+G79+G80+G81+G82+G83+G84+G85+G86+G87+G88+G89+G90+G91+G92+G93+G94+K69+K70+K71+K72+K73+K74+K75+K76+K77+K78+K79+K80+K81+K82+K83+K84+K85+K86+K87+K88+K89+K90+K91+K92+K93+K94)/(F69+F70+F71+F72+F73+F74+F75+F76+F77+F78+F79+F80+F81+F82+F83+F84+F85+F86+F87+F88+F89+F90+F91+F92+F93+F94+J69+J70+J71+J72+J73+J74+J75+J76+J77+J78+J79+J80+J81+J82+J83+J84+J85+J86+J87+J88+J89+J90+J91+J92+J93+J94)) -> 11.905918
B95: =SUM(B93+7) -> 46377 | N95: =SUM(F95+J95) -> 0 | O95: =SUM(G95+K95) -> 0 | P95: =SUM(G95/F95) -> #DIV/0! | Q95: =SUM(K95/J95) -> #DIV/0! | R95: =SUM(O95/N95) -> #DIV/0! | S95: =SUM((G69+G70+G71+G72+G73+G74+G75+G76+G77+G78+G79+G80+G81+G82+G83+G84+G85+G86+G87+G88+G89+G90+G91+G92+G93+G94+G95+K69+K70+K71+K72+K73+K74+K75+K76+K77+K78+K79+K80+K81+K82+K83+K84+K85+K86+K87+K88+K89+K90+K91+K92+K93+K94+K95)/(F69+F70+F71+F72+F73+F74+F75+F76+F77+F78+F79+F80+F81+F82+F83+F84+F85+F86+F87+F88+F89+F90+F91+F92+F93+F94+F95+J69+J70+J71+J72+J73+J74+J75+J76+J77+J78+J79+J80+J81+J82+J83+J84+J85+J86+J87+J88+J89+J90+J91+J92+J93+J94+J95)) -> 11.905918
N96: =SUM(F96+J96) -> 0 | O96: =SUM(G96+K96) -> 0 | P96: =SUM(G96/F96) -> #DIV/0! | Q96: =SUM(K96/J96) -> #DIV/0! | R96: =SUM(O96/N96) -> #DIV/0! | S96: =SUM((G69+G70+G71+G72+G73+G74+G75+G76+G77+G78+G79+G80+G81+G82+G83+G84+G85+G86+G87+G88+G89+G90+G91+G92+G93+G94+G95+G96+K69+K70+K71+K72+K73+K74+K75+K76+K77+K78+K79+K80+K81+K82+K83+K84+K85+K86+K87+K88+K89+K90+K91+K92+K93+K94+K95+K96)/(F69+F70+F71+F72+F73+F74+F75+F76+F77+F78+F79+F80+F81+F82+F83+F84+F85+F86+F87+F88+F89+F90+F91+F92+F93+F94+F95+F96+J69+J70+J71+J72+J73+J74+J75+J76+J77+J78+J79+J80+J81+J82+J83+J84+J85+J86+J87+J88+J89+J90+J91+J92+J93+J94+J95+J96)) -> 11.905918
B97: =SUM(B95+7) -> 46384 | N97: =SUM(F97+J97) -> 0 | O97: =SUM(G97+K97) -> 0 | P97: =SUM(G97/F97) -> #DIV/0! | Q97: =SUM(K97/J97) -> #DIV/0! | R97: =SUM(O97/N97) -> #DIV/0! | S97: =SUM((G69+G70+G71+G72+G73+G74+G75+G76+G77+G78+G79+G80+G81+G82+G83+G84+G85+G86+G87+G88+G89+G90+G91+G92+G93+G94+G95+G96+G97+K69+K70+K71+K72+K73+K74+K75+K76+K77+K78+K79+K80+K81+K82+K83+K84+K85+K86+K87+K88+K89+K90+K91+K92+K93+K94+K95+K96+K97)/(F69+F70+F71+F72+F73+F74+F75+F76+F77+F78+F79+F80+F81+F82+F83+F84+F85+F86+F87+F88+F89+F90+F91+F92+F93+F94+F95+F96+F97+J69+J70+J71+J72+J73+J74+J75+J76+J77+J78+J79+J80+J81+J82+J83+J84+J85+J86+J87+J88+J89+J90+J91+J92+J93+J94+J95+J96+J97)) -> 11.905918
N98: =SUM(F98+J98) -> 0 | O98: =SUM(G98+K98) -> 0 | P98: =SUM(G98/F98) -> #DIV/0! | Q98: =SUM(K98/J98) -> #DIV/0! | R98: =SUM(O98/N98) -> #DIV/0! | S98: =SUM((G69+G70+G71+G72+G73+G74+G75+G76+G77+G78+G79+G80+G81+G82+G83+G84+G85+G86+G87+G88+G89+G90+G91+G92+G93+G94+G95+G96+G97+G98+K69+K70+K71+K72+K73+K74+K75+K76+K77+K78+K79+K80+K81+K82+K83+K84+K85+K86+K87+K88+K89+K90+K91+K92+K93+K94+K95+K96+K97+K98)/(F69+F70+F71+F72+F73+F74+F75+F76+F77+F78+F79+F80+F81+F82+F83+F84+F85+F86+F87+F88+F89+F90+F91+F92+F93+F94+F95+F96+F97+F98+J69+J70+J71+J72+J73+J74+J75+J76+J77+J78+J79+J80+J81+J82+J83+J84+J85+J86+J87+J88+J89+J90+J91+J92+J93+J94+J95+J96+J97+J98)) -> 11.905918
B99: =SUM(B97+7) -> 46391 | N99: =SUM(F99+J99) -> 0 | O99: =SUM(G99+K99) -> 0 | P99: =SUM(G99/F99) -> #DIV/0! | Q99: =SUM(K99/J99) -> #DIV/0! | R99: =SUM(O99/N99) -> #DIV/0! | S99: =SUM((G69+G70+G71+G72+G73+G74+G75+G76+G77+G78+G79+G80+G81+G82+G83+G84+G85+G86+G87+G88+G89+G90+G91+G92+G93+G94+G95+G96+G97+G98+G99+K69+K70+K71+K72+K73+K74+K75+K76+K77+K78+K79+K80+K81+K82+K83+K84+K85+K86+K87+K88+K89+K90+K91+K92+K93+K94+K95+K96+K97+K98+K99)/(F69+F70+F71+F72+F73+F74+F75+F76+F77+F78+F79+F80+F81+F82+F83+F84+F85+F86+F87+F88+F89+F90+F91+F92+F93+F94+F95+F96+F97+F98+F99+J69+J70+J71+J72+J73+J74+J75+J76+J77+J78+J79+J80+J81+J82+J83+J84+J85+J86+J87+J88+J89+J90+J91+J92+J93+J94+J95+J96+J97+J98+J99)) -> 11.905918
N100: =SUM(F100+J100) -> 0 | O100: =SUM(G100+K100) -> 0 | P100: =SUM(G100/F100) -> #DIV/0! | Q100: =SUM(K100/J100) -> #DIV/0! | R100: =SUM(O100/N100) -> #DIV/0! | S100: =SUM((G69+G70+G71+G72+G73+G74+G75+G76+G77+G78+G79+G80+G81+G82+G83+G84+G85+G86+G87+G88+G89+G90+G91+G92+G93+G94+G95+G96+G97+G98+G99+G100+K69+K70+K71+K72+K73+K74+K75+K76+K77+K78+K79+K80+K81+K82+K83+K84+K85+K86+K87+K88+K89+K90+K91+K92+K93+K94+K95+K96+K97+K98+K99+K100)/(F69+F70+F71+F72+F73+F74+F75+F76+F77+F78+F79+F80+F81+F82+F83+F84+F85+F86+F87+F88+F89+F90+F91+F92+F93+F94+F95+F96+F97+F98+F99+F100+J69+J70+J71+J72+J73+J74+J75+J76+J77+J78+J79+J80+J81+J82+J83+J84+J85+J86+J87+J88+J89+J90+J91+J92+J93+J94+J95+J96+J97+J98+J99+J100)) -> 11.905918
B101: =SUM(B99+7) -> 46398 | N101: =SUM(F101+J101) -> 0 | O101: =SUM(G101+K101) -> 0 | P101: =SUM(G101/F101) -> #DIV/0! | Q101: =SUM(K101/J101) -> #DIV/0! | R101: =SUM(O101/N101) -> #DIV/0! | S101: =SUM((G69+G70+G71+G72+G73+G74+G75+G76+G77+G78+G79+G80+G81+G82+G83+G84+G85+G86+G87+G88+G89+G90+G91+G92+G93+G94+G95+G96+G97+G98+G99+G100+G101+K69+K70+K71+K72+K73+K74+K75+K76+K77+K78+K79+K80+K81+K82+K83+K84+K85+K86+K87+K88+K89+K90+K91+K92+K93+K94+K95+K96+K97+K98+K99+K100+K101)/(F69+F70+F71+F72+F73+F74+F75+F76+F77+F78+F79+F80+F81+F82+F83+F84+F85+F86+F87+F88+F89+F90+F91+F92+F93+F94+F95+F96+F97+F98+F99+F100+F101+J69+J70+J71+J72+J73+J74+J75+J76+J77+J78+J79+J80+J81+J82+J83+J84+J85+J86+J87+J88+J89+J90+J91+J92+J93+J94+J95+J96+J97+J98+J99+J100+J101)) -> 11.905918
N102: =SUM(F102+J102) -> 0 | O102: =SUM(G102+K102) -> 0 | P102: =SUM(G102/F102) -> #DIV/0! | Q102: =SUM(K102/J102) -> #DIV/0! | R102: =SUM(O102/N102) -> #DIV/0! | S102: =SUM((G69+G70+G71+G72+G73+G74+G75+G76+G77+G78+G79+G80+G81+G82+G83+G84+G85+G86+G87+G88+G89+G90+G91+G92+G93+G94+G95+G96+G97+G98+G99+G100+G101+G102+K69+K70+K71+K72+K73+K74+K75+K76+K77+K78+K79+K80+K81+K82+K83+K84+K85+K86+K87+K88+K89+K90+K91+K92+K93+K94+K95+K96+K97+K98+K99+K100+K101+K102)/(F69+F70+F71+F72+F73+F74+F75+F76+F77+F78+F79+F80+F81+F82+F83+F84+F85+F86+F87+F88+F89+F90+F91+F92+F93+F94+F95+F96+F97+F98+F99+F100+F101+F102+J69+J70+J71+J72+J73+J74+J75+J76+J77+J78+J79+J80+J81+J82+J83+J84+J85+J86+J87+J88+J89+J90+J91+J92+J93+J94+J95+J96+J97+J98+J99+J100+J101+J102)) -> 11.905918
...

Sheet Whiskey Shots
A1: NAME | B1: DATE | C1: SINGLES CRICKET | D1: WIN? | E1: LOSS? | F1: 501 DARTS THROWN | G1: 501 POINTS | H1: WIN? | I1: LOSS? | J1: 301 DARTS THROWN | K1: 301 POINTS | L1: WIN? | M1: LOSS? | N1: TOTAL DARTS THROWN | O1: TOTAL POINTS | P1: 501 AVERAGE | Q1: 301 AVERAGE | R1: MATCH AVERAGE | S1: WEEKLY AVERAGE
A2: Mike Loyd
B3: 46286 | E3: X | F3: 24 | G3: 463 | I3: X | J3: 24 | K3: 285 | M3: X | N3: =SUM(F3+J3) -> 48 | O3: =SUM(G3+K3) -> 748 | P3: =SUM(G3/F3) -> 19.291667 | Q3: =SUM(K3/J3) -> 11.875 | R3: =SUM(O3/N3) -> 15.583333 | S3: =SUM((G3+K3)/(F3+J3)) -> 15.583333
F4: 34 | G4: 501 | H4: X | J4: 21 | K4: 218 | M4: X | N4: =SUM(F4+J4) -> 55 | O4: =SUM(G4+K4) -> 719 | P4: =SUM(G4/F4) -> 14.735294 | Q4: =SUM(K4/J4) -> 10.380952 | R4: =SUM(O4/N4) -> 13.072727 | S4: =SUM((G3+G4+K3+K4)/(F3+F4+J3+J4)) -> 14.242718
B5: =SUM(B3+7) -> 46293 | E5: X | F5: 70 | G5: 501 | H5: X | J5: 31 | K5: 301 | L5: X | N5: =SUM(F5+J5) -> 101 | O5: =SUM(G5+K5) -> 802 | P5: =SUM(G5/F5) -> 7.1571429 | Q5: =SUM(K5/J5) -> 9.7096774 | R5: =SUM(O5/N5) -> 7.9405941 | S5: =SUM((G3+G4+G5+K3+K4+K5)/(F3+F4+F5+J3+J4+J5)) -> 11.122549
F6: 33 | G6: 496 | I6: X | J6: 48 | K6: 299 | M6: X | N6: =SUM(F6+J6) -> 81 | O6: =SUM(G6+K6) -> 795 | P6: =SUM(G6/F6) -> 15.030303 | Q6: =SUM(K6/J6) -> 6.2291667 | R6: =SUM(O6/N6) -> 9.8148148 | S6: =SUM((G3+G4+G5+G6+K3+K4+K5+K6)/(F3+F4+F5+F6+J3+J4+J5+J6)) -> 10.750877
B7: =SUM(B5+7) -> 46300 | E7: X | F7: 31 | G7: 501 | H7: X | J7: 51 | K7: 299 | M7: X | N7: =SUM(F7+J7) -> 82 | O7: =SUM(G7+K7) -> 800 | P7: =SUM(G7/F7) -> 16.16129 | Q7: =SUM(K7/J7) -> 5.8627451 | R7: =SUM(O7/N7) -> 9.7560976 | S7: =SUM((G3+G4+G5+G6+G7+K3+K4+K5+K6+K7)/(F3+F4+F5+F6+F7+J3+J4+J5+J6+J7)) -> 10.52861
F8: 36 | G8: 460 | I8: X | J8: 27 | K8: 301 | L8: X | N8: =SUM(F8+J8) -> 63 | O8: =SUM(G8+K8) -> 761 | P8: =SUM(G8/F8) -> 12.777778 | Q8: =SUM(K8/J8) -> 11.148148 | R8: =SUM(O8/N8) -> 12.079365 | S8: =SUM((G3+G4+G5+G6+G7+G8+K3+K4+K5+K6+K7+K8)/(F3+F4+F5+F6+F7+F8+J3+J4+J5+J6+J7+J8)) -> 10.755814
B9: =SUM(B7+7) -> 46307 | D9: X | F9: 44 | G9: 501 | H9: X | J9: 36 | K9: 293 | M9: X | N9: =SUM(F9+J9) -> 80 | O9: =SUM(G9+K9) -> 794 | P9: =SUM(G9/F9) -> 11.386364 | Q9: =SUM(K9/J9) -> 8.1388889 | R9: =SUM(O9/N9) -> 9.925 | S9: =SUM((G3+G4+G5+G6+G7+G8+G9+K3+K4+K5+K6+K7+K8+K9)/(F3+F4+F5+F6+F7+F8+F9+J3+J4+J5+J6+J7+J8+J9)) -> 10.62549
F10: 42 | G10: 501 | H10: X | J10: 28 | K10: 301 | L10: X | N10: =SUM(F10+J10) -> 70 | O10: =SUM(G10+K10) -> 802 | P10: =SUM(G10/F10) -> 11.928571 | Q10: =SUM(K10/J10) -> 10.75 | R10: =SUM(O10/N10) -> 11.457143 | S10: =SUM((G3+G4+G5+G6+G7+G8+G9+G10+K3+K4+K5+K6+K7+K8+K9+K10)/(F3+F4+F5+F6+F7+F8+F9+F10+J3+J4+J5+J6+J7+J8+J9+J10)) -> 10.725862
B11: =SUM(B9+7) -> 46314 | D11: X | F11: 29 | G11: 501 | H11: X | J11: 27 | K11: 301 | L11: X | N11: =SUM(F11+J11) -> 56 | O11: =SUM(G11+K11) -> 802 | P11: =SUM(G11/F11) -> 17.275862 | Q11: =SUM(K11/J11) -> 11.148148 | R11: =SUM(O11/N11) -> 14.321429 | S11: =SUM((G3+G4+G5+G6+G7+G8+G9+G10+G11+K3+K4+K5+K6+K7+K8+K9+K10+K11)/(F3+F4+F5+F6+F7+F8+F9+F10+F11+J3+J4+J5+J6+J7+J8+J9+J10+J11)) -> 11.042453
F12: 39 | G12: 501 | H12: X | J12: 24 | K12: 277 | M12: X | N12: =SUM(F12+J12) -> 63 | O12: =SUM(G12+K12) -> 778 | P12: =SUM(G12/F12) -> 12.846154 | Q12: =SUM(K12/J12) -> 11.541667 | R12: =SUM(O12/N12) -> 12.349206 | S12: =SUM((G3+G4+G5+G6+G7+G8+G9+G10+G11+G12+K3+K4+K5+K6+K7+K8+K9+K10+K11+K12)/(F3+F4+F5+F6+F7+F8+F9+F10+F11+F12+J3+J4+J5+J6+J7+J8+J9+J10+J11+J12)) -> 11.160229
B13: =SUM(B11+7) -> 46321 | E13: X | F13: 33 | G13: 469 | I13: X | J13: 19 | K13: 301 | L13: X | N13: =SUM(F13+J13) -> 52 | O13: =SUM(G13+K13) -> 770 | P13: =SUM(G13/F13) -> 14.212121 | Q13: =SUM(K13/J13) -> 15.842105 | R13: =SUM(O13/N13) -> 14.807692 | S13: =SUM((G3+G4+G5+G6+G7+G8+G9+G10+G11+G12+G13+K3+K4+K5+K6+K7+K8+K9+K10+K11+K12+K13)/(F3+F4+F5+F6+F7+F8+F9+F10+F11+F12+F13+J3+J4+J5+J6+J7+J8+J9+J10+J11+J12+J13)) -> 11.412783
F14: 21 | G14: 242 | I14: X | J14: 30 | K14: 277 | M14: X | N14: =SUM(F14+J14) -> 51 | O14: =SUM(G14+K14) -> 519 | P14: =SUM(G14/F14) -> 11.52381 | Q14: =SUM(K14/J14) -> 9.2333333 | R14: =SUM(O14/N14) -> 10.176471 | S14: =SUM((G3+G4+G5+G6+G7+G8+G9+G10+G11+G12+G13+G14+K3+K4+K5+K6+K7+K8+K9+K10+K11+K12+K13+K14)/(F3+F4+F5+F6+F7+F8+F9+F10+F11+F12+F13+F14+J3+J4+J5+J6+J7+J8+J9+J10+J11+J12+J13+J14)) -> 11.334165
B15: =SUM(B13+7) -> 46328 | N15: =SUM(F15+J15) -> 0 | O15: =SUM(G15+K15) -> 0 | P15: =SUM(G15/F15) -> #DIV/0! | Q15: =SUM(K15/J15) -> #DIV/0! | R15: =SUM(O15/N15) -> #DIV/0! | S15: =SUM((G3+G4+G5+G6+G7+G8+G9+G10+G11+G12+G13+G14+G15+K3+K4+K5+K6+K7+K8+K9+K10+K11+K12+K13+K14+K15)/(F3+F4+F5+F6+F7+F8+F9+F10+F11+F12+F13+F14+F15+J3+J4+J5+J6+J7+J8+J9+J10+J11+J12+J13+J14+J15)) -> 11.334165
N16: =SUM(F16+J16) -> 0 | O16: =SUM(G16+K16) -> 0 | P16: =SUM(G16/F16) -> #DIV/0! | Q16: =SUM(K16/J16) -> #DIV/0! | R16: =SUM(O16/N16) -> #DIV/0! | S16: =SUM((G3+G4+G5+G6+G7+G8+G9+G10+G11+G12+G13+G14+G15+G16+K3+K4+K5+K6+K7+K8+K9+K10+K11+K12+K13+K14+K15+K16)/(F3+F4+F5+F6+F7+F8+F9+F10+F11+F12+F13+F14+F15+F16+J3+J4+J5+J6+J7+J8+J9+J10+J11+J12+J13+J14+J15+J16)) -> 11.334165
B17: =SUM(B15+7) -> 46335 | N17: =SUM(F17+J17) -> 0 | O17: =SUM(G17+K17) -> 0 | P17: =SUM(G17/F17) -> #DIV/0! | Q17: =SUM(K17/J17) -> #DIV/0! | R17: =SUM(O17/N17) -> #DIV/0! | S17: =SUM((G3+G4+G5+G6+G7+G8+G9+G10+G11+G12+G13+G14+G15+G16+G17+K3+K4+K5+K6+K7+K8+K9+K10+K11+K12+K13+K14+K15+K16+K17)/(F3+F4+F5+F6+F7+F8+F9+F10+F11+F12+F13+F14+F15+F16+F17+J3+J4+J5+J6+J7+J8+J9+J10+J11+J12+J13+J14+J15+J16+J17)) -> 11.334165
N18: =SUM(F18+J18) -> 0 | O18: =SUM(G18+K18) -> 0 | P18: =SUM(G18/F18) -> #DIV/0! | Q18: =SUM(K18/J18) -> #DIV/0! | R18: =SUM(O18/N18) -> #DIV/0! | S18: =SUM((G3+G4+G5+G6+G7+G8+G9+G10+G11+G12+G13+G14+G15+G16+G17+G18+K3+K4+K5+K6+K7+K8+K9+K10+K11+K12+K13+K14+K15+K16+K17+K18)/(F3+F4+F5+F6+F7+F8+F9+F10+F11+F12+F13+F14+F15+F16+F17+F18+J3+J4+J5+J6+J7+J8+J9+J10+J11+J12+J13+J14+J15+J16+J17+J18)) -> 11.334165
B19: =SUM(B17+7) -> 46342 | N19: =SUM(F19+J19) -> 0 | O19: =SUM(G19+K19) -> 0 | P19: =SUM(G19/F19) -> #DIV/0! | Q19: =SUM(K19/J19) -> #DIV/0! | R19: =SUM(O19/N19) -> #DIV/0! | S19: =SUM((G3+G4+G5+G6+G7+G8+G9+G10+G11+G12+G13+G14+G15+G16+G17+G18+G19+K3+K4+K5+K6+K7+K8+K9+K10+K11+K12+K13+K14+K15+K16+K17+K18+K19)/(F3+F4+F5+F6+F7+F8+F9+F10+F11+F12+F13+F14+F15+F16+F17+F18+F19+J3+J4+J5+J6+J7+J8+J9+J10+J11+J12+J13+J14+J15+J16+J17+J18+J19)) -> 11.334165
N20: =SUM(F20+J20) -> 0 | O20: =SUM(G20+K20) -> 0 | P20: =SUM(G20/F20) -> #DIV/0! | Q20: =SUM(K20/J20) -> #DIV/0! | R20: =SUM(O20/N20) -> #DIV/0! | S20: =SUM((G3+G4+G5+G6+G7+G8+G9+G10+G11+G12+G13+G14+G15+G16+G17+G18+G19+G20+K3+K4+K5+K6+K7+K8+K9+K10+K11+K12+K13+K14+K15+K16+K17+K18+K19+K20)/(F3+F4+F5+F6+F7+F8+F9+F10+F11+F12+F13+F14+F15+F16+F17+F18+F19+F20+J3+J4+J5+J6+J7+J8+J9+J10+J11+J12+J13+J14+J15+J16+J17+J18+J19+J20)) -> 11.334165
B21: =SUM(B19+7) -> 46349 | N21: =SUM(F21+J21) -> 0 | O21: =SUM(G21+K21) -> 0 | P21: =SUM(G21/F21) -> #DIV/0! | Q21: =SUM(K21/J21) -> #DIV/0! | R21: =SUM(O21/N21) -> #DIV/0! | S21: =SUM((G3+G4+G5+G6+G7+G8+G9+G10+G11+G12+G13+G14+G15+G16+G17+G18+G19+G20+G21+K3+K4+K5+K6+K7+K8+K9+K10+K11+K12+K13+K14+K15+K16+K17+K18+K19+K20+K21)/(F3+F4+F5+F6+F7+F8+F9+F10+F11+F12+F13+F14+F15+F16+F17+F18+F19+F20+F21+J3+J4+J5+J6+J7+J8+J9+J10+J11+J12+J13+J14+J15+J16+J17+J18+J19+J20+J21)) -> 11.334165
N22: =SUM(F22+J22) -> 0 | O22: =SUM(G22+K22) -> 0 | P22: =SUM(G22/F22) -> #DIV/0! | Q22: =SUM(K22/J22) -> #DIV/0! | R22: =SUM(O22/N22) -> #DIV/0! | S22: =SUM((G3+G4+G5+G6+G7+G8+G9+G10+G11+G12+G13+G14+G15+G16+G17+G18+G19+G20+G21+G22+K3+K4+K5+K6+K7+K8+K9+K10+K11+K12+K13+K14+K15+K16+K17+K18+K19+K20+K21+K22)/(F3+F4+F5+F6+F7+F8+F9+F10+F11+F12+F13+F14+F15+F16+F17+F18+F19+F20+F21+F22+J3+J4+J5+J6+J7+J8+J9+J10+J11+J12+J13+J14+J15+J16+J17+J18+J19+J20+J21+J22)) -> 11.334165
B23: =SUM(B21+7) -> 46356 | N23: =SUM(F23+J23) -> 0 | O23: =SUM(G23+K23) -> 0 | P23: =SUM(G23/F23) -> #DIV/0! | Q23: =SUM(K23/J23) -> #DIV/0! | R23: =SUM(O23/N23) -> #DIV/0! | S23: =SUM((G3+G4+G5+G6+G7+G8+G9+G10+G11+G12+G13+G14+G15+G16+G17+G18+G19+G20+G21+G22+G23+K3+K4+K5+K6+K7+K8+K9+K10+K11+K12+K13+K14+K15+K16+K17+K18+K19+K20+K21+K22+K23)/(F3+F4+F5+F6+F7+F8+F9+F10+F11+F12+F13+F14+F15+F16+F17+F18+F19+F20+F21+F22+F23+J3+J4+J5+J6+J7+J8+J9+J10+J11+J12+J13+J14+J15+J16+J17+J18+J19+J20+J21+J22+J23)) -> 11.334165
N24: =SUM(F24+J24) -> 0 | O24: =SUM(G24+K24) -> 0 | P24: =SUM(G24/F24) -> #DIV/0! | Q24: =SUM(K24/J24) -> #DIV/0! | R24: =SUM(O24/N24) -> #DIV/0! | S24: =SUM((G3+G4+G5+G6+G7+G8+G9+G10+G11+G12+G13+G14+G15+G16+G17+G18+G19+G20+G21+G22+G23+G24+K3+K4+K5+K6+K7+K8+K9+K10+K11+K12+K13+K14+K15+K16+K17+K18+K19+K20+K21+K22+K23+K24)/(F3+F4+F5+F6+F7+F8+F9+F10+F11+F12+F13+F14+F15+F16+F17+F18+F19+F20+F21+F22+F23+F24+J3+J4+J5+J6+J7+J8+J9+J10+J11+J12+J13+J14+J15+J16+J17+J18+J19+J20+J21+J22+J23+J24)) -> 11.334165
B25: =SUM(B23+7) -> 46363 | N25: =SUM(F25+J25) -> 0 | O25: =SUM(G25+K25) -> 0 | P25: =SUM(G25/F25) -> #DIV/0! | Q25: =SUM(K25/J25) -> #DIV/0! | R25: =SUM(O25/N25) -> #DIV/0! | S25: =SUM((G3+G4+G5+G6+G7+G8+G9+G10+G11+G12+G13+G14+G15+G16+G17+G18+G19+G20+G21+G22+G23+G24+G25+K3+K4+K5+K6+K7+K8+K9+K10+K11+K12+K13+K14+K15+K16+K17+K18+K19+K20+K21+K22+K23+K24+K25)/(F3+F4+F5+F6+F7+F8+F9+F10+F11+F12+F13+F14+F15+F16+F17+F18+F19+F20+F21+F22+F23+F24+F25+J3+J4+J5+J6+J7+J8+J9+J10+J11+J12+J13+J14+J15+J16+J17+J18+J19+J20+J21+J22+J23+J24+J25)) -> 11.334165
N26: =SUM(F26+J26) -> 0 | O26: =SUM(G26+K26) -> 0 | P26: =SUM(G26/F26) -> #DIV/0! | Q26: =SUM(K26/J26) -> #DIV/0! | R26: =SUM(O26/N26) -> #DIV/0! | S26: =SUM((G3+G4+G5+G6+G7+G8+G9+G10+G11+G12+G13+G14+G15+G16+G17+G18+G19+G20+G21+G22+G23+G24+G25+G26+K3+K4+K5+K6+K7+K8+K9+K10+K11+K12+K13+K14+K15+K16+K17+K18+K19+K20+K21+K22+K23+K24+K25+K26)/(F3+F4+F5+F6+F7+F8+F9+F10+F11+F12+F13+F14+F15+F16+F17+F18+F19+F20+F21+F22+F23+F24+F25+F26+J3+J4+J5+J6+J7+J8+J9+J10+J11+J12+J13+J14+J15+J16+J17+J18+J19+J20+J21+J22+J23+J24+J25+J26)) -> 11.334165
B27: =SUM(B25+7) -> 46370 | N27: =SUM(F27+J27) -> 0 | O27: =SUM(G27+K27) -> 0 | P27: =SUM(G27/F27) -> #DIV/0! | Q27: =SUM(K27/J27) -> #DIV/0! | R27: =SUM(O27/N27) -> #DIV/0! | S27: =SUM((G3+G4+G5+G6+G7+G8+G9+G10+G11+G12+G13+G14+G15+G16+G17+G18+G19+G20+G21+G22+G23+G24+G25+G26+G27+K3+K4+K5+K6+K7+K8+K9+K10+K11+K12+K13+K14+K15+K16+K17+K18+K19+K20+K21+K22+K23+K24+K25+K26+K27)/(F3+F4+F5+F6+F7+F8+F9+F10+F11+F12+F13+F14+F15+F16+F17+F18+F19+F20+F21+F22+F23+F24+F25+F26+F27+J3+J4+J5+J6+J7+J8+J9+J10+J11+J12+J13+J14+J15+J16+J17+J18+J19+J20+J21+J22+J23+J24+J25+J26+J27)) -> 11.334165
N28: =SUM(F28+J28) -> 0 | O28: =SUM(G28+K28) -> 0 | P28: =SUM(G28/F28) -> #DIV/0! | Q28: =SUM(K28/J28) -> #DIV/0! | R28: =SUM(O28/N28) -> #DIV/0! | S28: =SUM((G3+G4+G5+G6+G7+G8+G9+G10+G11+G12+G13+G14+G15+G16+G17+G18+G19+G20+G21+G22+G23+G24+G25+G26+G27+G28+K3+K4+K5+K6+K7+K8+K9+K10+K11+K12+K13+K14+K15+K16+K17+K18+K19+K20+K21+K22+K23+K24+K25+K26+K27+K28)/(F3+F4+F5+F6+F7+F8+F9+F10+F11+F12+F13+F14+F15+F16+F17+F18+F19+F20+F21+F22+F23+F24+F25+F26+F27+F28+J3+J4+J5+J6+J7+J8+J9+J10+J11+J12+J13+J14+J15+J16+J17+J18+J19+J20+J21+J22+J23+J24+J25+J26+J27+J28)) -> 11.334165
B29: =SUM(B27+7) -> 46377 | N29: =SUM(F29+J29) -> 0 | O29: =SUM(G29+K29) -> 0 | P29: =SUM(G29/F29) -> #DIV/0! | Q29: =SUM(K29/J29) -> #DIV/0! | R29: =SUM(O29/N29) -> #DIV/0! | S29: =SUM((G3+G4+G5+G6+G7+G8+G9+G10+G11+G12+G13+G14+G15+G16+G17+G18+G19+G20+G21+G22+G23+G24+G25+G26+G27+G28+G29+K3+K4+K5+K6+K7+K8+K9+K10+K11+K12+K13+K14+K15+K16+K17+K18+K19+K20+K21+K22+K23+K24+K25+K26+K27+K28+K29)/(F3+F4+F5+F6+F7+F8+F9+F10+F11+F12+F13+F14+F15+F16+F17+F18+F19+F20+F21+F22+F23+F24+F25+F26+F27+F28+F29+J3+J4+J5+J6+J7+J8+J9+J10+J11+J12+J13+J14+J15+J16+J17+J18+J19+J20+J21+J22+J23+J24+J25+J26+J27+J28+J29)) -> 11.334165
N30: =SUM(F30+J30) -> 0 | O30: =SUM(G30+K30) -> 0 | P30: =SUM(G30/F30) -> #DIV/0! | Q30: =SUM(K30/J30) -> #DIV/0! | R30: =SUM(O30/N30) -> #DIV/0! | S30: =SUM((G3+G4+G5+G6+G7+G8+G9+G10+G11+G12+G13+G14+G15+G16+G17+G18+G19+G20+G21+G22+G23+G24+G25+G26+G27+G28+G29+G30+K3+K4+K5+K6+K7+K8+K9+K10+K11+K12+K13+K14+K15+K16+K17+K18+K19+K20+K21+K22+K23+K24+K25+K26+K27+K28+K29+K30)/(F3+F4+F5+F6+F7+F8+F9+F10+F11+F12+F13+F14+F15+F16+F17+F18+F19+F20+F21+F22+F23+F24+F25+F26+F27+F28+F29+F30+J3+J4+J5+J6+J7+J8+J9+J10+J11+J12+J13+J14+J15+J16+J17+J18+J19+J20+J21+J22+J23+J24+J25+J26+J27+J28+J29+J30)) -> 11.334165
B31: =SUM(B29+7) -> 46384 | N31: =SUM(F31+J31) -> 0 | O31: =SUM(G31+K31) -> 0 | P31: =SUM(G31/F31) -> #DIV/0! | Q31: =SUM(K31/J31) -> #DIV/0! | R31: =SUM(O31/N31) -> #DIV/0! | S31: =SUM((G3+G4+G5+G6+G7+G8+G9+G10+G11+G12+G13+G14+G15+G16+G17+G18+G19+G20+G21+G22+G23+G24+G25+G26+G27+G28+G29+G30+G31+K3+K4+K5+K6+K7+K8+K9+K10+K11+K12+K13+K14+K15+K16+K17+K18+K19+K20+K21+K22+K23+K24+K25+K26+K27+K28+K29+K30+K31)/(F3+F4+F5+F6+F7+F8+F9+F10+F11+F12+F13+F14+F15+F16+F17+F18+F19+F20+F21+F22+F23+F24+F25+F26+F27+F28+F29+F30+F31+J3+J4+J5+J6+J7+J8+J9+J10+J11+J12+J13+J14+J15+J16+J17+J18+J19+J20+J21+J22+J23+J24+J25+J26+J27+J28+J29+J30+J31)) -> 11.334165
N32: =SUM(F32+J32) -> 0 | O32: =SUM(G32+K32) -> 0 | P32: =SUM(G32/F32) -> #DIV/0! | Q32: =SUM(K32/J32) -> #DIV/0! | R32: =SUM(O32/N32) -> #DIV/0! | S32: =SUM((G3+G4+G5+G6+G7+G8+G9+G10+G11+G12+G13+G14+G15+G16+G17+G18+G19+G20+G21+G22+G23+G24+G25+G26+G27+G28+G29+G30+G31+G32+K3+K4+K5+K6+K7+K8+K9+K10+K11+K12+K13+K14+K15+K16+K17+K18+K19+K20+K21+K22+K23+K24+K25+K26+K27+K28+K29+K30+K31+K32)/(F3+F4+F5+F6+F7+F8+F9+F10+F11+F12+F13+F14+F15+F16+F17+F18+F19+F20+F21+F22+F23+F24+F25+F26+F27+F28+F29+F30+F31+F32+J3+J4+J5+J6+J7+J8+J9+J10+J11+J12+J13+J14+J15+J16+J17+J18+J19+J20+J21+J22+J23+J24+J25+J26+J27+J28+J29+J30+J31+J32)) -> 11.334165
B33: =SUM(B31+7) -> 46391 | N33: =SUM(F33+J33) -> 0 | O33: =SUM(G33+K33) -> 0 | P33: =SUM(G33/F33) -> #DIV/0! | Q33: =SUM(K33/J33) -> #DIV/0! | R33: =SUM(O33/N33) -> #DIV/0! | S33: =SUM((G3+G4+G5+G6+G7+G8+G9+G10+G11+G12+G13+G14+G15+G16+G17+G18+G19+G20+G21+G22+G23+G24+G25+G26+G27+G28+G29+G30+G31+G32+G33+K3+K4+K5+K6+K7+K8+K9+K10+K11+K12+K13+K14+K15+K16+K17+K18+K19+K20+K21+K22+K23+K24+K25+K26+K27+K28+K29+K30+K31+K32+K33)/(F3+F4+F5+F6+F7+F8+F9+F10+F11+F12+F13+F14+F15+F16+F17+F18+F19+F20+F21+F22+F23+F24+F25+F26+F27+F28+F29+F30+F31+F32+F33+J3+J4+J5+J6+J7+J8+J9+J10+J11+J12+J13+J14+J15+J16+J17+J18+J19+J20+J21+J22+J23+J24+J25+J26+J27+J28+J29+J30+J31+J32+J33)) -> 11.334165
N34: =SUM(F34+J34) -> 0 | O34: =SUM(G34+K34) -> 0 | P34: =SUM(G34/F34) -> #DIV/0! | Q34: =SUM(K34/J34) -> #DIV/0! | R34: =SUM(O34/N34) -> #DIV/0! | S34: =SUM((G3+G4+G5+G6+G7+G8+G9+G10+G11+G12+G13+G14+G15+G16+G17+G18+G19+G20+G21+G22+G23+G24+G25+G26+G27+G28+G29+G30+G31+G32+G33+G34+K3+K4+K5+K6+K7+K8+K9+K10+K11+K12+K13+K14+K15+K16+K17+K18+K19+K20+K21+K22+K23+K24+K25+K26+K27+K28+K29+K30+K31+K32+K33+K34)/(F3+F4+F5+F6+F7+F8+F9+F10+F11+F12+F13+F14+F15+F16+F17+F18+F19+F20+F21+F22+F23+F24+F25+F26+F27+F28+F29+F30+F31+F32+F33+F34+J3+J4+J5+J6+J7+J8+J9+J10+J11+J12+J13+J14+J15+J16+J17+J18+J19+J20+J21+J22+J23+J24+J25+J26+J27+J28+J29+J30+J31+J32+J33+J34)) -> 11.334165
B35: =SUM(B33+7) -> 46398 | N35: =SUM(F35+J35) -> 0 | O35: =SUM(G35+K35) -> 0 | P35: =SUM(G35/F35) -> #DIV/0! | Q35: =SUM(K35/J35) -> #DIV/0! | R35: =SUM(O35/N35) -> #DIV/0! | S35: =SUM((G3+G4+G5+G6+G7+G8+G9+G10+G11+G12+G13+G14+G15+G16+G17+G18+G19+G20+G21+G22+G23+G24+G25+G26+G27+G28+G29+G30+G31+G32+G33+G34+G35+K3+K4+K5+K6+K7+K8+K9+K10+K11+K12+K13+K14+K15+K16+K17+K18+K19+K20+K21+K22+K23+K24+K25+K26+K27+K28+K29+K30+K31+K32+K33+K34+K35)/(F3+F4+F5+F6+F7+F8+F9+F10+F11+F12+F13+F14+F15+F16+F17+F18+F19+F20+F21+F22+F23+F24+F25+F26+F27+F28+F29+F30+F31+F32+F33+F34+F35+J3+J4+J5+J6+J7+J8+J9+J10+J11+J12+J13+J14+J15+J16+J17+J18+J19+J20+J21+J22+J23+J24+J25+J26+J27+J28+J29+J30+J31+J32+J33+J34+J35)) -> 11.334165
N36: =SUM(F36+J36) -> 0 | O36: =SUM(G36+K36) -> 0 | P36: =SUM(G36/F36) -> #DIV/0! | Q36: =SUM(K36/J36) -> #DIV/0! | R36: =SUM(O36/N36) -> #DIV/0! | S36: =SUM((G3+G4+G5+G6+G7+G8+G9+G10+G11+G12+G13+G14+G15+G16+G17+G18+G19+G20+G21+G22+G23+G24+G25+G26+G27+G28+G29+G30+G31+G32+G33+G34+G35+G36+K3+K4+K5+K6+K7+K8+K9+K10+K11+K12+K13+K14+K15+K16+K17+K18+K19+K20+K21+K22+K23+K24+K25+K26+K27+K28+K29+K30+K31+K32+K33+K34+K35+K36)/(F3+F4+F5+F6+F7+F8+F9+F10+F11+F12+F13+F14+F15+F16+F17+F18+F19+F20+F21+F22+F23+F24+F25+F26+F27+F28+F29+F30+F31+F32+F33+F34+F35+F36+J3+J4+J5+J6+J7+J8+J9+J10+J11+J12+J13+J14+J15+J16+J17+J18+J19+J20+J21+J22+J23+J24+J25+J26+J27+J28+J29+J30+J31+J32+J33+J34+J35+J36)) -> 11.334165
B37: =SUM(B35+7) -> 46405 | N37: =SUM(F37+J37) -> 0 | O37: =SUM(G37+K37) -> 0 | P37: =SUM(G37/F37) -> #DIV/0! | Q37: =SUM(K37/J37) -> #DIV/0! | R37: =SUM(O37/N37) -> #DIV/0! | S37: =SUM((G3+G4+G5+G6+G7+G8+G9+G10+G11+G12+G13+G14+G15+G16+G17+G18+G19+G20+G21+G22+G23+G24+G25+G26+G27+G28+G29+G30+G31+G32+G33+G34+G35+G36+G37+K3+K4+K5+K6+K7+K8+K9+K10+K11+K12+K13+K14+K15+K16+K17+K18+K19+K20+K21+K22+K23+K24+K25+K26+K27+K28+K29+K30+K31+K32+K33+K34+K35+K36+K37)/(F3+F4+F5+F6+F7+F8+F9+F10+F11+F12+F13+F14+F15+F16+F17+F18+F19+F20+F21+F22+F23+F24+F25+F26+F27+F28+F29+F30+F31+F32+F33+F34+F35+F36+F37+J3+J4+J5+J6+J7+J8+J9+J10+J11+J12+J13+J14+J15+J16+J17+J18+J19+J20+J21+J22+J23+J24+J25+J26+J27+J28+J29+J30+J31+J32+J33+J34+J35+J36+J37)) -> 11.334165
N38: =SUM(F38+J38) -> 0 | O38: =SUM(G38+K38) -> 0 | P38: =SUM(G38/F38) -> #DIV/0! | Q38: =SUM(K38/J38) -> #DIV/0! | R38: =SUM(O38/N38) -> #DIV/0! | S38: =SUM((G3+G4+G5+G6+G7+G8+G9+G10+G11+G12+G13+G14+G15+G16+G17+G18+G19+G20+G21+G22+G23+G24+G25+G26+G27+G28+G29+G30+G31+G32+G33+G34+G35+G36+G37+G38+K3+K4+K5+K6+K7+K8+K9+K10+K11+K12+K13+K14+K15+K16+K17+K18+K19+K20+K21+K22+K23+K24+K25+K26+K27+K28+K29+K30+K31+K32+K33+K34+K35+K36+K37+K38)/(F3+F4+F5+F6+F7+F8+F9+F10+F11+F12+F13+F14+F15+F16+F17+F18+F19+F20+F21+F22+F23+F24+F25+F26+F27+F28+F29+F30+F31+F32+F33+F34+F35+F36+F37+F38+J3+J4+J5+J6+J7+J8+J9+J10+J11+J12+J13+J14+J15+J16+J17+J18+J19+J20+J21+J22+J23+J24+J25+J26+J27+J28+J29+J30+J31+J32+J33+J34+J35+J36+J37+J38)) -> 11.334165
B39: =SUM(B37+7) -> 46412 | N39: =SUM(F39+J39) -> 0 | O39: =SUM(G39+K39) -> 0 | P39: =SUM(G39/F39) -> #DIV/0! | Q39: =SUM(K39/J39) -> #DIV/0! | R39: =SUM(O39/N39) -> #DIV/0! | S39: =SUM((G3+G4+G5+G6+G7+G8+G9+G10+G11+G12+G13+G14+G15+G16+G17+G18+G19+G20+G21+G22+G23+G24+G25+G26+G27+G28+G29+G30+G31+G32+G33+G34+G35+G36+G37+G38+G39+K3+K4+K5+K6+K7+K8+K9+K10+K11+K12+K13+K14+K15+K16+K17+K18+K19+K20+K21+K22+K23+K24+K25+K26+K27+K28+K29+K30+K31+K32+K33+K34+K35+K36+K37+K38+K39)/(F3+F4+F5+F6+F7+F8+F9+F10+F11+F12+F13+F14+F15+F16+F17+F18+F19+F20+F21+F22+F23+F24+F25+F26+F27+F28+F29+F30+F31+F32+F33+F34+F35+F36+F37+F38+F39+J3+J4+J5+J6+J7+J8+J9+J10+J11+J12+J13+J14+J15+J16+J17+J18+J19+J20+J21+J22+J23+J24+J25+J26+J27+J28+J29+J30+J31+J32+J33+J34+J35+J36+J37+J38+J39)) -> 11.334165
N40: =SUM(F40+J40) -> 0 | O40: =SUM(G40+K40) -> 0 | P40: =SUM(G40/F40) -> #DIV/0! | Q40: =SUM(K40/J40) -> #DIV/0! | R40: =SUM(O40/N40) -> #DIV/0! | S40: =SUM((G3+G4+G5+G6+G7+G8+G9+G10+G11+G12+G13+G14+G15+G16+G17+G18+G19+G20+G21+G22+G23+G24+G25+G26+G27+G28+G29+G30+G31+G32+G33+G34+G35+G36+G37+G38+G39+G40+K3+K4+K5+K6+K7+K8+K9+K10+K11+K12+K13+K14+K15+K16+K17+K18+K19+K20+K21+K22+K23+K24+K25+K26+K27+K28+K29+K30+K31+K32+K33+K34+K35+K36+K37+K38+K39+K40)/(F3+F4+F5+F6+F7+F8+F9+F10+F11+F12+F13+F14+F15+F16+F17+F18+F19+F20+F21+F22+F23+F24+F25+F26+F27+F28+F29+F30+F31+F32+F33+F34+F35+F36+F37+F38+F39+F40+J3+J4+J5+J6+J7+J8+J9+J10+J11+J12+J13+J14+J15+J16+J17+J18+J19+J20+J21+J22+J23+J24+J25+J26+J27+J28+J29+J30+J31+J32+J33+J34+J35+J36+J37+J38+J39+J40)) -> 11.334165
B41: =SUM(B39+7) -> 46419 | N41: =SUM(F41+J41) -> 0 | O41: =SUM(G41+K41) -> 0 | P41: =SUM(G41/F41) -> #DIV/0! | Q41: =SUM(K41/J41) -> #DIV/0! | R41: =SUM(O41/N41) -> #DIV/0! | S41: =SUM((G3+G4+G5+G6+G7+G8+G9+G10+G11+G12+G13+G14+G15+G16+G17+G18+G19+G20+G21+G22+G23+G24+G25+G26+G27+G28+G29+G30+G31+G32+G33+G34+G35+G36+G37+G38+G39+G40+G41+K3+K4+K5+K6+K7+K8+K9+K10+K11+K12+K13+K14+K15+K16+K17+K18+K19+K20+K21+K22+K23+K24+K25+K26+K27+K28+K29+K30+K31+K32+K33+K34+K35+K36+K37+K38+K39+K40+K41)/(F3+F4+F5+F6+F7+F8+F9+F10+F11+F12+F13+F14+F15+F16+F17+F18+F19+F20+F21+F22+F23+F24+F25+F26+F27+F28+F29+F30+F31+F32+F33+F34+F35+F36+F37+F38+F39+F40+F41+J3+J4+J5+J6+J7+J8+J9+J10+J11+J12+J13+J14+J15+J16+J17+J18+J19+J20+J21+J22+J23+J24+J25+J26+J27+J28+J29+J30+J31+J32+J33+J34+J35+J36+J37+J38+J39+J40+J41)) -> 11.334165
N42: =SUM(F42+J42) -> 0 | O42: =SUM(G42+K42) -> 0 | P42: =SUM(G42/F42) -> #DIV/0! | Q42: =SUM(K42/J42) -> #DIV/0! | R42: =SUM(O42/N42) -> #DIV/0! | S42: =SUM((G3+G4+G5+G6+G7+G8+G9+G10+G11+G12+G13+G14+G15+G16+G17+G18+G19+G20+G21+G22+G23+G24+G25+G26+G27+G28+G29+G30+G31+G32+G33+G34+G35+G36+G37+G38+G39+G40+G41+G42+K3+K4+K5+K6+K7+K8+K9+K10+K11+K12+K13+K14+K15+K16+K17+K18+K19+K20+K21+K22+K23+K24+K25+K26+K27+K28+K29+K30+K31+K32+K33+K34+K35+K36+K37+K38+K39+K40+K41+K42)/(F3+F4+F5+F6+F7+F8+F9+F10+F11+F12+F13+F14+F15+F16+F17+F18+F19+F20+F21+F22+F23+F24+F25+F26+F27+F28+F29+F30+F31+F32+F33+F34+F35+F36+F37+F38+F39+F40+F41+F42+J3+J4+J5+J6+J7+J8+J9+J10+J11+J12+J13+J14+J15+J16+J17+J18+J19+J20+J21+J22+J23+J24+J25+J26+J27+J28+J29+J30+J31+J32+J33+J34+J35+J36+J37+J38+J39+J40+J41+J42)) -> 11.334165
N43: =SUM(F43+J43) -> 0 | O43: =SUM(G43+K43) -> 0 | P43: =SUM(G43/F43) -> #DIV/0! | Q43: =SUM(K43/J43) -> #DIV/0! | R43: =SUM(O43/N43) -> #DIV/0! | S43: =SUM((G3+G4+G5+G6+G7+G8+G9+G10+G11+G12+G13+G14+G15+G16+G17+G18+G19+G20+G21+G22+G23+G24+G25+G26+G27+G28+G29+G30+G31+G32+G33+G34+G35+G36+G37+G38+G39+G40+G41+G42+G43+K3+K4+K5+K6+K7+K8+K9+K10+K11+K12+K13+K14+K15+K16+K17+K18+K19+K20+K21+K22+K23+K24+K25+K26+K27+K28+K29+K30+K31+K32+K33+K34+K35+K36+K37+K38+K39+K40+K41+K42+K43)/(F3+F4+F5+F6+F7+F8+F9+F10+F11+F12+F13+F14+F15+F16+F17+F18+F19+F20+F21+F22+F23+F24+F25+F26+F27+F28+F29+F30+F31+F32+F33+F34+F35+F36+F37+F38+F39+F40+F41+F42+F43+J3+J4+J5+J6+J7+J8+J9+J10+J11+J12+J13+J14+J15+J16+J17+J18+J19+J20+J21+J22+J23+J24+J25+J26+J27+J28+J29+J30+J31+J32+J33+J34+J35+J36+J37+J38+J39+J40+J41+J42+J43)) -> 11.334165
N44: =SUM(F44+J44) -> 0 | O44: =SUM(G44+K44) -> 0 | P44: =SUM(G44/F44) -> #DIV/0! | Q44: =SUM(K44/J44) -> #DIV/0! | R44: =SUM(O44/N44) -> #DIV/0! | S44: =SUM((G3+G4+G5+G6+G7+G8+G9+G10+G11+G12+G13+G14+G15+G16+G17+G18+G19+G20+G21+G22+G23+G24+G25+G26+G27+G28+G29+G30+G31+G32+G33+G34+G35+G36+G37+G38+G39+G40+G41+G42+G43+G44+K3+K4+K5+K6+K7+K8+K9+K10+K11+K12+K13+K14+K15+K16+K17+K18+K19+K20+K21+K22+K23+K24+K25+K26+K27+K28+K29+K30+K31+K32+K33+K34+K35+K36+K37+K38+K39+K40+K41+K42+K43+K44)/(F3+F4+F5+F6+F7+F8+F9+F10+F11+F12+F13+F14+F15+F16+F17+F18+F19+F20+F21+F22+F23+F24+F25+F26+F27+F28+F29+F30+F31+F32+F33+F34+F35+F36+F37+F38+F39+F40+F41+F42+F43+F44+J3+J4+J5+J6+J7+J8+J9+J10+J11+J12+J13+J14+J15+J16+J17+J18+J19+J20+J21+J22+J23+J24+J25+J26+J27+J28+J29+J30+J31+J32+J33+J34+J35+J36+J37+J38+J39+J40+J41+J42+J43+J44)) -> 11.334165
N45: =SUM(F45+J45) -> 0 | O45: =SUM(G45+K45) -> 0 | P45: =SUM(G45/F45) -> #DIV/0! | Q45: =SUM(K45/J45) -> #DIV/0! | R45: =SUM(O45/N45) -> #DIV/0! | S45: =SUM((G3+G4+G5+G6+G7+G8+G9+G10+G11+G12+G13+G14+G15+G16+G17+G18+G19+G20+G21+G22+G23+G24+G25+G26+G27+G28+G29+G30+G31+G32+G33+G34+G35+G36+G37+G38+G39+G40+G41+G42+G43+G44+G45+K3+K4+K5+K6+K7+K8+K9+K10+K11+K12+K13+K14+K15+K16+K17+K18+K19+K20+K21+K22+K23+K24+K25+K26+K27+K28+K29+K30+K31+K32+K33+K34+K35+K36+K37+K38+K39+K40+K41+K42+K43+K44+K45)/(F3+F4+F5+F6+F7+F8+F9+F10+F11+F12+F13+F14+F15+F16+F17+F18+F19+F20+F21+F22+F23+F24+F25+F26+F27+F28+F29+F30+F31+F32+F33+F34+F35+F36+F37+F38+F39+F40+F41+F42+F43+F44+F45+J3+J4+J5+J6+J7+J8+J9+J10+J11+J12+J13+J14+J15+J16+J17+J18+J19+J20+J21+J22+J23+J24+J25+J26+J27+J28+J29+J30+J31+J32+J33+J34+J35+J36+J37+J38+J39+J40+J41+J42+J43+J44+J45)) -> 11.334165
N46: =SUM(F46+J46) -> 0 | O46: =SUM(G46+K46) -> 0 | P46: =SUM(G46/F46) -> #DIV/0! | Q46: =SUM(K46/J46) -> #DIV/0! | R46: =SUM(O46/N46) -> #DIV/0! | S46: =SUM((G3+G4+G5+G6+G7+G8+G9+G10+G11+G12+G13+G14+G15+G16+G17+G18+G19+G20+G21+G22+G23+G24+G25+G26+G27+G28+G29+G30+G31+G32+G33+G34+G35+G36+G37+G38+G39+G40+G41+G42+G43+G44+G45+G46+K3+K4+K5+K6+K7+K8+K9+K10+K11+K12+K13+K14+K15+K16+K17+K18+K19+K20+K21+K22+K23+K24+K25+K26+K27+K28+K29+K30+K31+K32+K33+K34+K35+K36+K37+K38+K39+K40+K41+K42+K43+K44+K45+K46)/(F3+F4+F5+F6+F7+F8+F9+F10+F11+F12+F13+F14+F15+F16+F17+F18+F19+F20+F21+F22+F23+F24+F25+F26+F27+F28+F29+F30+F31+F32+F33+F34+F35+F36+F37+F38+F39+F40+F41+F42+F43+F44+F45+F46+J3+J4+J5+J6+J7+J8+J9+J10+J11+J12+J13+J14+J15+J16+J17+J18+J19+J20+J21+J22+J23+J24+J25+J26+J27+J28+J29+J30+J31+J32+J33+J34+J35+J36+J37+J38+J39+J40+J41+J42+J43+J44+J45+J46)) -> 11.334165
N47: =SUM(F47+J47) -> 0 | O47: =SUM(G47+K47) -> 0 | P47: =SUM(G47/F47) -> #DIV/0! | Q47: =SUM(K47/J47) -> #DIV/0! | R47: =SUM(O47/N47) -> #DIV/0! | S47: =SUM((G3+G4+G5+G6+G7+G8+G9+G10+G11+G12+G13+G14+G15+G16+G17+G18+G19+G20+G21+G22+G23+G24+G25+G26+G27+G28+G29+G30+G31+G32+G33+G34+G35+G36+G37+G38+G39+G40+G41+G42+G43+G44+G45+G46+G47+K3+K4+K5+K6+K7+K8+K9+K10+K11+K12+K13+K14+K15+K16+K17+K18+K19+K20+K21+K22+K23+K24+K25+K26+K27+K28+K29+K30+K31+K32+K33+K34+K35+K36+K37+K38+K39+K40+K41+K42+K43+K44+K45+K46+K47)/(F3+F4+F5+F6+F7+F8+F9+F10+F11+F12+F13+F14+F15+F16+F17+F18+F19+F20+F21+F22+F23+F24+F25+F26+F27+F28+F29+F30+F31+F32+F33+F34+F35+F36+F37+F38+F39+F40+F41+F42+F43+F44+F45+F46+F47+J3+J4+J5+J6+J7+J8+J9+J10+J11+J12+J13+J14+J15+J16+J17+J18+J19+J20+J21+J22+J23+J24+J25+J26+J27+J28+J29+J30+J31+J32+J33+J34+J35+J36+J37+J38+J39+J40+J41+J42+J43+J44+J45+J46+J47)) -> 11.334165
N48: =SUM(F48+J48) -> 0 | O48: =SUM(G48+K48) -> 0 | P48: =SUM(G48/F48) -> #DIV/0! | Q48: =SUM(K48/J48) -> #DIV/0! | R48: =SUM(O48/N48) -> #DIV/0! | S48: =SUM((G3+G4+G5+G6+G7+G8+G9+G10+G11+G12+G13+G14+G15+G16+G17+G18+G19+G20+G21+G22+G23+G24+G25+G26+G27+G28+G29+G30+G31+G32+G33+G34+G35+G36+G37+G38+G39+G40+G41+G42+G43+G44+G45+G46+G47+G48+K3+K4+K5+K6+K7+K8+K9+K10+K11+K12+K13+K14+K15+K16+K17+K18+K19+K20+K21+K22+K23+K24+K25+K26+K27+K28+K29+K30+K31+K32+K33+K34+K35+K36+K37+K38+K39+K40+K41+K42+K43+K44+K45+K46+K47+K48)/(F3+F4+F5+F6+F7+F8+F9+F10+F11+F12+F13+F14+F15+F16+F17+F18+F19+F20+F21+F22+F23+F24+F25+F26+F27+F28+F29+F30+F31+F32+F33+F34+F35+F36+F37+F38+F39+F40+F41+F42+F43+F44+F45+F46+F47+F48+J3+J4+J5+J6+J7+J8+J9+J10+J11+J12+J13+J14+J15+J16+J17+J18+J19+J20+J21+J22+J23+J24+J25+J26+J27+J28+J29+J30+J31+J32+J33+J34+J35+J36+J37+J38+J39+J40+J41+J42+J43+J44+J45+J46+J47+J48)) -> 11.334165
N49: =SUM(F49+J49) -> 0 | O49: =SUM(G49+K49) -> 0 | P49: =SUM(G49/F49) -> #DIV/0! | Q49: =SUM(K49/J49) -> #DIV/0! | R49: =SUM(O49/N49) -> #DIV/0! | S49: =SUM((G3+G4+G5+G6+G7+G8+G9+G10+G11+G12+G13+G14+G15+G16+G17+G18+G19+G20+G21+G22+G23+G24+G25+G26+G27+G28+G29+G30+G31+G32+G33+G34+G35+G36+G37+G38+G39+G40+G41+G42+G43+G44+G45+G46+G47+G48+G49+K3+K4+K5+K6+K7+K8+K9+K10+K11+K12+K13+K14+K15+K16+K17+K18+K19+K20+K21+K22+K23+K24+K25+K26+K27+K28+K29+K30+K31+K32+K33+K34+K35+K36+K37+K38+K39+K40+K41+K42+K43+K44+K45+K46+K47+K48+K49)/(F3+F4+F5+F6+F7+F8+F9+F10+F11+F12+F13+F14+F15+F16+F17+F18+F19+F20+F21+F22+F23+F24+F25+F26+F27+F28+F29+F30+F31+F32+F33+F34+F35+F36+F37+F38+F39+F40+F41+F42+F43+F44+F45+F46+F47+F48+F49+J3+J4+J5+J6+J7+J8+J9+J10+J11+J12+J13+J14+J15+J16+J17+J18+J19+J20+J21+J22+J23+J24+J25+J26+J27+J28+J29+J30+J31+J32+J33+J34+J35+J36+J37+J38+J39+J40+J41+J42+J43+J44+J45+J46+J47+J48+J49)) -> 11.334165
N50: =SUM(F50+J50) -> 0 | O50: =SUM(G50+K50) -> 0 | P50: =SUM(G50/F50) -> #DIV/0! | Q50: =SUM(K50/J50) -> #DIV/0! | R50: =SUM(O50/N50) -> #DIV/0! | S50: =SUM((G3+G4+G5+G6+G7+G8+G9+G10+G11+G12+G13+G14+G15+G16+G17+G18+G19+G20+G21+G22+G23+G24+G25+G26+G27+G28+G29+G30+G31+G32+G33+G34+G35+G36+G37+G38+G39+G40+G41+G42+G43+G44+G45+G46+G47+G48+G49+G50+K3+K4+K5+K6+K7+K8+K9+K10+K11+K12+K13+K14+K15+K16+K17+K18+K19+K20+K21+K22+K23+K24+K25+K26+K27+K28+K29+K30+K31+K32+K33+K34+K35+K36+K37+K38+K39+K40+K41+K42+K43+K44+K45+K46+K47+K48+K49+K50)/(F3+F4+F5+F6+F7+F8+F9+F10+F11+F12+F13+F14+F15+F16+F17+F18+F19+F20+F21+F22+F23+F24+F25+F26+F27+F28+F29+F30+F31+F32+F33+F34+F35+F36+F37+F38+F39+F40+F41+F42+F43+F44+F45+F46+F47+F48+F49+F50+J3+J4+J5+J6+J7+J8+J9+J10+J11+J12+J13+J14+J15+J16+J17+J18+J19+J20+J21+J22+J23+J24+J25+J26+J27+J28+J29+J30+J31+J32+J33+J34+J35+J36+J37+J38+J39+J40+J41+J42+J43+J44+J45+J46+J47+J48+J49+J50)) -> 11.334165
N51: =SUM(F51+J51) -> 0 | O51: =SUM(G51+K51) -> 0 | P51: =SUM(G51/F51) -> #DIV/0! | Q51: =SUM(K51/J51) -> #DIV/0! | R51: =SUM(O51/N51) -> #DIV/0! | S51: =SUM((G3+G4+G5+G6+G7+G8+G9+G10+G11+G12+G13+G14+G15+G16+G17+G18+G19+G20+G21+G22+G23+G24+G25+G26+G27+G28+G29+G30+G31+G32+G33+G34+G35+G36+G37+G38+G39+G40+G41+G42+G43+G44+G45+G46+G47+G48+G49+G50+G51+K3+K4+K5+K6+K7+K8+K9+K10+K11+K12+K13+K14+K15+K16+K17+K18+K19+K20+K21+K22+K23+K24+K25+K26+K27+K28+K29+K30+K31+K32+K33+K34+K35+K36+K37+K38+K39+K40+K41+K42+K43+K44+K45+K46+K47+K48+K49+K50+K51)/(F3+F4+F5+F6+F7+F8+F9+F10+F11+F12+F13+F14+F15+F16+F17+F18+F19+F20+F21+F22+F23+F24+F25+F26+F27+F28+F29+F30+F31+F32+F33+F34+F35+F36+F37+F38+F39+F40+F41+F42+F43+F44+F45+F46+F47+F48+F49+F50+F51+J3+J4+J5+J6+J7+J8+J9+J10+J11+J12+J13+J14+J15+J16+J17+J18+J19+J20+J21+J22+J23+J24+J25+J26+J27+J28+J29+J30+J31+J32+J33+J34+J35+J36+J37+J38+J39+J40+J41+J42+J43+J44+J45+J46+J47+J48+J49+J50+J51)) -> 11.334165
N52: =SUM(F52+J52) -> 0 | O52: =SUM(G52+K52) -> 0 | P52: =SUM(G52/F52) -> #DIV/0! | Q52: =SUM(K52/J52) -> #DIV/0! | R52: =SUM(O52/N52) -> #DIV/0! | S52: =SUM((G3+G4+G5+G6+G7+G8+G9+G10+G11+G12+G13+G14+G15+G16+G17+G18+G19+G20+G21+G22+G23+G24+G25+G26+G27+G28+G29+G30+G31+G32+G33+G34+G35+G36+G37+G38+G39+G40+G41+G42+G43+G44+G45+G46+G47+G48+G49+G50+G51+G52+K3+K4+K5+K6+K7+K8+K9+K10+K11+K12+K13+K14+K15+K16+K17+K18+K19+K20+K21+K22+K23+K24+K25+K26+K27+K28+K29+K30+K31+K32+K33+K34+K35+K36+K37+K38+K39+K40+K41+K42+K43+K44+K45+K46+K47+K48+K49+K50+K51+K52)/(F3+F4+F5+F6+F7+F8+F9+F10+F11+F12+F13+F14+F15+F16+F17+F18+F19+F20+F21+F22+F23+F24+F25+F26+F27+F28+F29+F30+F31+F32+F33+F34+F35+F36+F37+F38+F39+F40+F41+F42+F43+F44+F45+F46+F47+F48+F49+F50+F51+F52+J3+J4+J5+J6+J7+J8+J9+J10+J11+J12+J13+J14+J15+J16+J17+J18+J19+J20+J21+J22+J23+J24+J25+J26+J27+J28+J29+J30+J31+J32+J33+J34+J35+J36+J37+J38+J39+J40+J41+J42+J43+J44+J45+J46+J47+J48+J49+J50+J51+J52)) -> 11.334165
N53: =SUM(F53+J53) -> 0 | O53: =SUM(G53+K53) -> 0 | P53: =SUM(G53/F53) -> #DIV/0! | Q53: =SUM(K53/J53) -> #DIV/0! | R53: =SUM(O53/N53) -> #DIV/0! | S53: =SUM((G3+G4+G5+G6+G7+G8+G9+G10+G11+G12+G13+G14+G15+G16+G17+G18+G19+G20+G21+G22+G23+G24+G25+G26+G27+G28+G29+G30+G31+G32+G33+G34+G35+G36+G37+G38+G39+G40+G41+G42+G43+G44+G45+G46+G47+G48+G49+G50+G51+G52+G53+K3+K4+K5+K6+K7+K8+K9+K10+K11+K12+K13+K14+K15+K16+K17+K18+K19+K20+K21+K22+K23+K24+K25+K26+K27+K28+K29+K30+K31+K32+K33+K34+K35+K36+K37+K38+K39+K40+K41+K42+K43+K44+K45+K46+K47+K48+K49+K50+K51+K52+K53)/(F3+F4+F5+F6+F7+F8+F9+F10+F11+F12+F13+F14+F15+F16+F17+F18+F19+F20+F21+F22+F23+F24+F25+F26+F27+F28+F29+F30+F31+F32+F33+F34+F35+F36+F37+F38+F39+F40+F41+F42+F43+F44+F45+F46+F47+F48+F49+F50+F51+F52+F53+J3+J4+J5+J6+J7+J8+J9+J10+J11+J12+J13+J14+J15+J16+J17+J18+J19+J20+J21+J22+J23+J24+J25+J26+J27+J28+J29+J30+J31+J32+J33+J34+J35+J36+J37+J38+J39+J40+J41+J42+J43+J44+J45+J46+J47+J48+J49+J50+J51+J52+J53)) -> 11.334165
N54: =SUM(F54+J54) -> 0 | O54: =SUM(G54+K54) -> 0 | P54: =SUM(G54/F54) -> #DIV/0! | Q54: =SUM(K54/J54) -> #DIV/0! | R54: =SUM(O54/N54) -> #DIV/0! | S54: =SUM((G3+G4+G5+G6+G7+G8+G9+G10+G11+G12+G13+G14+G15+G16+G17+G18+G19+G20+G21+G22+G23+G24+G25+G26+G27+G28+G29+G30+G31+G32+G33+G34+G35+G36+G37+G38+G39+G40+G41+G42+G43+G44+G45+G46+G47+G48+G49+G50+G51+G52+G53+G54+K3+K4+K5+K6+K7+K8+K9+K10+K11+K12+K13+K14+K15+K16+K17+K18+K19+K20+K21+K22+K23+K24+K25+K26+K27+K28+K29+K30+K31+K32+K33+K34+K35+K36+K37+K38+K39+K40+K41+K42+K43+K44+K45+K46+K47+K48+K49+K50+K51+K52+K53+K54)/(F3+F4+F5+F6+F7+F8+F9+F10+F11+F12+F13+F14+F15+F16+F17+F18+F19+F20+F21+F22+F23+F24+F25+F26+F27+F28+F29+F30+F31+F32+F33+F34+F35+F36+F37+F38+F39+F40+F41+F42+F43+F44+F45+F46+F47+F48+F49+F50+F51+F52+F53+F54+J3+J4+J5+J6+J7+J8+J9+J10+J11+J12+J13+J14+J15+J16+J17+J18+J19+J20+J21+J22+J23+J24+J25+J26+J27+J28+J29+J30+J31+J32+J33+J34+J35+J36+J37+J38+J39+J40+J41+J42+J43+J44+J45+J46+J47+J48+J49+J50+J51+J52+J53+J54)) -> 11.334165
N55: =SUM(F55+J55) -> 0 | O55: =SUM(G55+K55) -> 0 | P55: =SUM(G55/F55) -> #DIV/0! | Q55: =SUM(K55/J55) -> #DIV/0! | R55: =SUM(O55/N55) -> #DIV/0! | S55: =SUM((G3+G4+G5+G6+G7+G8+G9+G10+G11+G12+G13+G14+G15+G16+G17+G18+G19+G20+G21+G22+G23+G24+G25+G26+G27+G28+G29+G30+G31+G32+G33+G34+G35+G36+G37+G38+G39+G40+G41+G42+G43+G44+G45+G46+G47+G48+G49+G50+G51+G52+G53+G54+G55+K3+K4+K5+K6+K7+K8+K9+K10+K11+K12+K13+K14+K15+K16+K17+K18+K19+K20+K21+K22+K23+K24+K25+K26+K27+K28+K29+K30+K31+K32+K33+K34+K35+K36+K37+K38+K39+K40+K41+K42+K43+K44+K45+K46+K47+K48+K49+K50+K51+K52+K53+K54+K55)/(F3+F4+F5+F6+F7+F8+F9+F10+F11+F12+F13+F14+F15+F16+F17+F18+F19+F20+F21+F22+F23+F24+F25+F26+F27+F28+F29+F30+F31+F32+F33+F34+F35+F36+F37+F38+F39+F40+F41+F42+F43+F44+F45+F46+F47+F48+F49+F50+F51+F52+F53+F54+F55+J3+J4+J5+J6+J7+J8+J9+J10+J11+J12+J13+J14+J15+J16+J17+J18+J19+J20+J21+J22+J23+J24+J25+J26+J27+J28+J29+J30+J31+J32+J33+J34+J35+J36+J37+J38+J39+J40+J41+J42+J43+J44+J45+J46+J47+J48+J49+J50+J51+J52+J53+J54+J55)) -> 11.334165
N56: =SUM(F56+J56) -> 0 | O56: =SUM(G56+K56) -> 0 | P56: =SUM(G56/F56) -> #DIV/0! | Q56: =SUM(K56/J56) -> #DIV/0! | R56: =SUM(O56/N56) -> #DIV/0! | S56: =SUM((G3+G4+G5+G6+G7+G8+G9+G10+G11+G12+G13+G14+G15+G16+G17+G18+G19+G20+G21+G22+G23+G24+G25+G26+G27+G28+G29+G30+G31+G32+G33+G34+G35+G36+G37+G38+G39+G40+G41+G42+G43+G44+G45+G46+G47+G48+G49+G50+G51+G52+G53+G54+G55+G56+K3+K4+K5+K6+K7+K8+K9+K10+K11+K12+K13+K14+K15+K16+K17+K18+K19+K20+K21+K22+K23+K24+K25+K26+K27+K28+K29+K30+K31+K32+K33+K34+K35+K36+K37+K38+K39+K40+K41+K42+K43+K44+K45+K46+K47+K48+K49+K50+K51+K52+K53+K54+K55+K56)/(F3+F4+F5+F6+F7+F8+F9+F10+F11+F12+F13+F14+F15+F16+F17+F18+F19+F20+F21+F22+F23+F24+F25+F26+F27+F28+F29+F30+F31+F32+F33+F34+F35+F36+F37+F38+F39+F40+F41+F42+F43+F44+F45+F46+F47+F48+F49+F50+F51+F52+F53+F54+F55+F56+J3+J4+J5+J6+J7+J8+J9+J10+J11+J12+J13+J14+J15+J16+J17+J18+J19+J20+J21+J22+J23+J24+J25+J26+J27+J28+J29+J30+J31+J32+J33+J34+J35+J36+J37+J38+J39+J40+J41+J42+J43+J44+J45+J46+J47+J48+J49+J50+J51+J52+J53+J54+J55+J56)) -> 11.334165
N57: =SUM(F57+J57) -> 0 | O57: =SUM(G57+K57) -> 0 | P57: =SUM(G57/F57) -> #DIV/0! | Q57: =SUM(K57/J57) -> #DIV/0! | R57: =SUM(O57/N57) -> #DIV/0! | S57: =SUM((G3+G4+G5+G6+G7+G8+G9+G10+G11+G12+G13+G14+G15+G16+G17+G18+G19+G20+G21+G22+G23+G24+G25+G26+G27+G28+G29+G30+G31+G32+G33+G34+G35+G36+G37+G38+G39+G40+G41+G42+G43+G44+G45+G46+G47+G48+G49+G50+G51+G52+G53+G54+G55+G56+G57+K3+K4+K5+K6+K7+K8+K9+K10+K11+K12+K13+K14+K15+K16+K17+K18+K19+K20+K21+K22+K23+K24+K25+K26+K27+K28+K29+K30+K31+K32+K33+K34+K35+K36+K37+K38+K39+K40+K41+K42+K43+K44+K45+K46+K47+K48+K49+K50+K51+K52+K53+K54+K55+K56+K57)/(F3+F4+F5+F6+F7+F8+F9+F10+F11+F12+F13+F14+F15+F16+F17+F18+F19+F20+F21+F22+F23+F24+F25+F26+F27+F28+F29+F30+F31+F32+F33+F34+F35+F36+F37+F38+F39+F40+F41+F42+F43+F44+F45+F46+F47+F48+F49+F50+F51+F52+F53+F54+F55+F56+F57+J3+J4+J5+J6+J7+J8+J9+J10+J11+J12+J13+J14+J15+J16+J17+J18+J19+J20+J21+J22+J23+J24+J25+J26+J27+J28+J29+J30+J31+J32+J33+J34+J35+J36+J37+J38+J39+J40+J41+J42+J43+J44+J45+J46+J47+J48+J49+J50+J51+J52+J53+J54+J55+J56+J57)) -> 11.334165
N58: =SUM(F58+J58) -> 0 | O58: =SUM(G58+K58) -> 0 | P58: =SUM(G58/F58) -> #DIV/0! | Q58: =SUM(K58/J58) -> #DIV/0! | R58: =SUM(O58/N58) -> #DIV/0! | S58: =SUM((G3+G4+G5+G6+G7+G8+G9+G10+G11+G12+G13+G14+G15+G16+G17+G18+G19+G20+G21+G22+G23+G24+G25+G26+G27+G28+G29+G30+G31+G32+G33+G34+G35+G36+G37+G38+G39+G40+G41+G42+G43+G44+G45+G46+G47+G48+G49+G50+G51+G52+G53+G54+G55+G56+G57+G58+K3+K4+K5+K6+K7+K8+K9+K10+K11+K12+K13+K14+K15+K16+K17+K18+K19+K20+K21+K22+K23+K24+K25+K26+K27+K28+K29+K30+K31+K32+K33+K34+K35+K36+K37+K38+K39+K40+K41+K42+K43+K44+K45+K46+K47+K48+K49+K50+K51+K52+K53+K54+K55+K56+K57+K58)/(F3+F4+F5+F6+F7+F8+F9+F10+F11+F12+F13+F14+F15+F16+F17+F18+F19+F20+F21+F22+F23+F24+F25+F26+F27+F28+F29+F30+F31+F32+F33+F34+F35+F36+F37+F38+F39+F40+F41+F42+F43+F44+F45+F46+F47+F48+F49+F50+F51+F52+F53+F54+F55+F56+F57+F58+J3+J4+J5+J6+J7+J8+J9+J10+J11+J12+J13+J14+J15+J16+J17+J18+J19+J20+J21+J22+J23+J24+J25+J26+J27+J28+J29+J30+J31+J32+J33+J34+J35+J36+J37+J38+J39+J40+J41+J42+J43+J44+J45+J46+J47+J48+J49+J50+J51+J52+J53+J54+J55+J56+J57+J58)) -> 11.334165
N59: =SUM(F59+J59) -> 0 | O59: =SUM(G59+K59) -> 0 | P59: =SUM(G59/F59) -> #DIV/0! | Q59: =SUM(K59/J59) -> #DIV/0! | R59: =SUM(O59/N59) -> #DIV/0! | S59: =SUM((G3+G4+G5+G6+G7+G8+G9+G10+G11+G12+G13+G14+G15+G16+G17+G18+G19+G20+G21+G22+G23+G24+G25+G26+G27+G28+G29+G30+G31+G32+G33+G34+G35+G36+G37+G38+G39+G40+G41+G42+G43+G44+G45+G46+G47+G48+G49+G50+G51+G52+G53+G54+G55+G56+G57+G58+G59+K3+K4+K5+K6+K7+K8+K9+K10+K11+K12+K13+K14+K15+K16+K17+K18+K19+K20+K21+K22+K23+K24+K25+K26+K27+K28+K29+K30+K31+K32+K33+K34+K35+K36+K37+K38+K39+K40+K41+K42+K43+K44+K45+K46+K47+K48+K49+K50+K51+K52+K53+K54+K55+K56+K57+K58+K59)/(F3+F4+F5+F6+F7+F8+F9+F10+F11+F12+F13+F14+F15+F16+F17+F18+F19+F20+F21+F22+F23+F24+F25+F26+F27+F28+F29+F30+F31+F32+F33+F34+F35+F36+F37+F38+F39+F40+F41+F42+F43+F44+F45+F46+F47+F48+F49+F50+F51+F52+F53+F54+F55+F56+F57+F58+F59+J3+J4+J5+J6+J7+J8+J9+J10+J11+J12+J13+J14+J15+J16+J17+J18+J19+J20+J21+J22+J23+J24+J25+J26+J27+J28+J29+J30+J31+J32+J33+J34+J35+J36+J37+J38+J39+J40+J41+J42+J43+J44+J45+J46+J47+J48+J49+J50+J51+J52+J53+J54+J55+J56+J57+J58+J59)) -> 11.334165
N60: =SUM(F60+J60) -> 0 | O60: =SUM(G60+K60) -> 0 | P60: =SUM(G60/F60) -> #DIV/0! | Q60: =SUM(K60/J60) -> #DIV/0! | R60: =SUM(O60/N60) -> #DIV/0! | S60: =SUM((G3+G4+G5+G6+G7+G8+G9+G10+G11+G12+G13+G14+G15+G16+G17+G18+G19+G20+G21+G22+G23+G24+G25+G26+G27+G28+G29+G30+G31+G32+G33+G34+G35+G36+G37+G38+G39+G40+G41+G42+G43+G44+G45+G46+G47+G48+G49+G50+G51+G52+G53+G54+G55+G56+G57+G58+G59+G60+K3+K4+K5+K6+K7+K8+K9+K10+K11+K12+K13+K14+K15+K16+K17+K18+K19+K20+K21+K22+K23+K24+K25+K26+K27+K28+K29+K30+K31+K32+K33+K34+K35+K36+K37+K38+K39+K40+K41+K42+K43+K44+K45+K46+K47+K48+K49+K50+K51+K52+K53+K54+K55+K56+K57+K58+K59+K60)/(F3+F4+F5+F6+F7+F8+F9+F10+F11+F12+F13+F14+F15+F16+F17+F18+F19+F20+F21+F22+F23+F24+F25+F26+F27+F28+F29+F30+F31+F32+F33+F34+F35+F36+F37+F38+F39+F40+F41+F42+F43+F44+F45+F46+F47+F48+F49+F50+F51+F52+F53+F54+F55+F56+F57+F58+F59+F60+J3+J4+J5+J6+J7+J8+J9+J10+J11+J12+J13+J14+J15+J16+J17+J18+J19+J20+J21+J22+J23+J24+J25+J26+J27+J28+J29+J30+J31+J32+J33+J34+J35+J36+J37+J38+J39+J40+J41+J42+J43+J44+J45+J46+J47+J48+J49+J50+J51+J52+J53+J54+J55+J56+J57+J58+J59+J60)) -> 11.334165
N61: =SUM(F61+J61) -> 0 | O61: =SUM(G61+K61) -> 0 | P61: =SUM(G61/F61) -> #DIV/0! | Q61: =SUM(K61/J61) -> #DIV/0! | R61: =SUM(O61/N61) -> #DIV/0! | S61: =SUM((G3+G4+G5+G6+G7+G8+G9+G10+G11+G12+G13+G14+G15+G16+G17+G18+G19+G20+G21+G22+G23+G24+G25+G26+G27+G28+G29+G30+G31+G32+G33+G34+G35+G36+G37+G38+G39+G40+G41+G42+G43+G44+G45+G46+G47+G48+G49+G50+G51+G52+G53+G54+G55+G56+G57+G58+G59+G60+G61+K3+K4+K5+K6+K7+K8+K9+K10+K11+K12+K13+K14+K15+K16+K17+K18+K19+K20+K21+K22+K23+K24+K25+K26+K27+K28+K29+K30+K31+K32+K33+K34+K35+K36+K37+K38+K39+K40+K41+K42+K43+K44+K45+K46+K47+K48+K49+K50+K51+K52+K53+K54+K55+K56+K57+K58+K59+K60+K61)/(F3+F4+F5+F6+F7+F8+F9+F10+F11+F12+F13+F14+F15+F16+F17+F18+F19+F20+F21+F22+F23+F24+F25+F26+F27+F28+F29+F30+F31+F32+F33+F34+F35+F36+F37+F38+F39+F40+F41+F42+F43+F44+F45+F46+F47+F48+F49+F50+F51+F52+F53+F54+F55+F56+F57+F58+F59+F60+F61+J3+J4+J5+J6+J7+J8+J9+J10+J11+J12+J13+J14+J15+J16+J17+J18+J19+J20+J21+J22+J23+J24+J25+J26+J27+J28+J29+J30+J31+J32+J33+J34+J35+J36+J37+J38+J39+J40+J41+J42+J43+J44+J45+J46+J47+J48+J49+J50+J51+J52+J53+J54+J55+J56+J57+J58+J59+J60+J61)) -> 11.334165
N62: =SUM(F62+J62) -> 0 | O62: =SUM(G62+K62) -> 0 | P62: =SUM(G62/F62) -> #DIV/0! | Q62: =SUM(K62/J62) -> #DIV/0! | R62: =SUM(O62/N62) -> #DIV/0! | S62: =SUM((G3+G4+G5+G6+G7+G8+G9+G10+G11+G12+G13+G14+G15+G16+G17+G18+G19+G20+G21+G22+G23+G24+G25+G26+G27+G28+G29+G30+G31+G32+G33+G34+G35+G36+G37+G38+G39+G40+G41+G42+G43+G44+G45+G46+G47+G48+G49+G50+G51+G52+G53+G54+G55+G56+G57+G58+G59+G60+G61+G62+K3+K4+K5+K6+K7+K8+K9+K10+K11+K12+K13+K14+K15+K16+K17+K18+K19+K20+K21+K22+K23+K24+K25+K26+K27+K28+K29+K30+K31+K32+K33+K34+K35+K36+K37+K38+K39+K40+K41+K42+K43+K44+K45+K46+K47+K48+K49+K50+K51+K52+K53+K54+K55+K56+K57+K58+K59+K60+K61+K62)/(F3+F4+F5+F6+F7+F8+F9+F10+F11+F12+F13+F14+F15+F16+F17+F18+F19+F20+F21+F22+F23+F24+F25+F26+F27+F28+F29+F30+F31+F32+F33+F34+F35+F36+F37+F38+F39+F40+F41+F42+F43+F44+F45+F46+F47+F48+F49+F50+F51+F52+F53+F54+F55+F56+F57+F58+F59+F60+F61+F62+J3+J4+J5+J6+J7+J8+J9+J10+J11+J12+J13+J14+J15+J16+J17+J18+J19+J20+J21+J22+J23+J24+J25+J26+J27+J28+J29+J30+J31+J32+J33+J34+J35+J36+J37+J38+J39+J40+J41+J42+J43+J44+J45+J46+J47+J48+J49+J50+J51+J52+J53+J54+J55+J56+J57+J58+J59+J60+J61+J62)) -> 11.334165
N63: =SUM(F63+J63) -> 0 | O63: =SUM(G63+K63) -> 0 | P63: =SUM(G63/F63) -> #DIV/0! | Q63: =SUM(K63/J63) -> #DIV/0! | R63: =SUM(O63/N63) -> #DIV/0! | S63: =SUM((G3+G4+G5+G6+G7+G8+G9+G10+G11+G12+G13+G14+G15+G16+G17+G18+G19+G20+G21+G22+G23+G24+G25+G26+G27+G28+G29+G30+G31+G32+G33+G34+G35+G36+G37+G38+G39+G40+G41+G42+G43+G44+G45+G46+G47+G48+G49+G50+G51+G52+G53+G54+G55+G56+G57+G58+G59+G60+G61+G62+G63+K3+K4+K5+K6+K7+K8+K9+K10+K11+K12+K13+K14+K15+K16+K17+K18+K19+K20+K21+K22+K23+K24+K25+K26+K27+K28+K29+K30+K31+K32+K33+K34+K35+K36+K37+K38+K39+K40+K41+K42+K43+K44+K45+K46+K47+K48+K49+K50+K51+K52+K53+K54+K55+K56+K57+K58+K59+K60+K61+K62+K63)/(F3+F4+F5+F6+F7+F8+F9+F10+F11+F12+F13+F14+F15+F16+F17+F18+F19+F20+F21+F22+F23+F24+F25+F26+F27+F28+F29+F30+F31+F32+F33+F34+F35+F36+F37+F38+F39+F40+F41+F42+F43+F44+F45+F46+F47+F48+F49+F50+F51+F52+F53+F54+F55+F56+F57+F58+F59+F60+F61+F62+F63+J3+J4+J5+J6+J7+J8+J9+J10+J11+J12+J13+J14+J15+J16+J17+J18+J19+J20+J21+J22+J23+J24+J25+J26+J27+J28+J29+J30+J31+J32+J33+J34+J35+J36+J37+J38+J39+J40+J41+J42+J43+J44+J45+J46+J47+J48+J49+J50+J51+J52+J53+J54+J55+J56+J57+J58+J59+J60+J61+J62+J63)) -> 11.334165
N64: =SUM(F64+J64) -> 0 | O64: =SUM(G64+K64) -> 0 | P64: =SUM(G64/F64) -> #DIV/0! | Q64: =SUM(K64/J64) -> #DIV/0! | R64: =SUM(O64/N64) -> #DIV/0! | S64: =SUM((G3+G4+G5+G6+G7+G8+G9+G10+G11+G12+G13+G14+G15+G16+G17+G18+G19+G20+G21+G22+G23+G24+G25+G26+G27+G28+G29+G30+G31+G32+G33+G34+G35+G36+G37+G38+G39+G40+G41+G42+G43+G44+G45+G46+G47+G48+G49+G50+G51+G52+G53+G54+G55+G56+G57+G58+G59+G60+G61+G62+G63+G64+K3+K4+K5+K6+K7+K8+K9+K10+K11+K12+K13+K14+K15+K16+K17+K18+K19+K20+K21+K22+K23+K24+K25+K26+K27+K28+K29+K30+K31+K32+K33+K34+K35+K36+K37+K38+K39+K40+K41+K42+K43+K44+K45+K46+K47+K48+K49+K50+K51+K52+K53+K54+K55+K56+K57+K58+K59+K60+K61+K62+K63+K64)/(F3+F4+F5+F6+F7+F8+F9+F10+F11+F12+F13+F14+F15+F16+F17+F18+F19+F20+F21+F22+F23+F24+F25+F26+F27+F28+F29+F30+F31+F32+F33+F34+F35+F36+F37+F38+F39+F40+F41+F42+F43+F44+F45+F46+F47+F48+F49+F50+F51+F52+F53+F54+F55+F56+F57+F58+F59+F60+F61+F62+F63+F64+J3+J4+J5+J6+J7+J8+J9+J10+J11+J12+J13+J14+J15+J16+J17+J18+J19+J20+J21+J22+J23+J24+J25+J26+J27+J28+J29+J30+J31+J32+J33+J34+J35+J36+J37+J38+J39+J40+J41+J42+J43+J44+J45+J46+J47+J48+J49+J50+J51+J52+J53+J54+J55+J56+J57+J58+J59+J60+J61+J62+J63+J64)) -> 11.334165
A66: LEAGUE AVERAGE | C66: =S64 -> 11.334165 | D66: =COUNTA(D3:D65) -> 2 | E66: =COUNTA(E3:E65) -> 4 | H66: =COUNTA(H3:H65) -> 7 | I66: =COUNTA(I3:I65) -> 5 | L66: =COUNTA(L3:L65) -> 5 | M66: =COUNTA(M3:M65) -> 7 | N66: =SUM(N3:N65) -> 802 | O66: =SUM(O3:O65) -> 9090
A68: Daniel Regier
B69: 46286 | E69: X | F69: 48 | G69: 488 | I69: X | J69: 42 | K69: 293 | M69: X | N69: =SUM(F69+J69) -> 90 | O69: =SUM(G69+K69) -> 781 | P69: =SUM(G69/F69) -> 10.166667 | Q69: =SUM(K69/J69) -> 6.9761905 | R69: =SUM(O69/N69) -> 8.6777778 | S69: =SUM((G69+K69)/(F69+J69)) -> 8.6777778
F70: 33 | G70: 440 | I70: X | J70: 21 | K70: 70 | M70: X | N70: =SUM(F70+J70) -> 54 | O70: =SUM(G70+K70) -> 510 | P70: =SUM(G70/F70) -> 13.333333 | Q70: =SUM(K70/J70) -> 3.3333333 | R70: =SUM(O70/N70) -> 9.4444444 | S70: =SUM((G69+G70+K69+K70)/(F69+F70+J69+J70)) -> 8.9652778
B71: =SUM(B69+7) -> 46293 | E71: X | F71: 44 | G71: 501 | H71: X | J71: 42 | K71: 294 | M71: X | N71: =SUM(F71+J71) -> 86 | O71: =SUM(G71+K71) -> 795 | P71: =SUM(G71/F71) -> 11.386364 | Q71: =SUM(K71/J71) -> 7 | R71: =SUM(O71/N71) -> 9.244186 | S71: =SUM((G69+G70+G71+K69+K70+K71)/(F69+F70+F71+J69+J70+J71)) -> 9.0695652
F72: 78 | G72: 499 | I72: X | J72: 33 | K72: 266 | M72: X | N72: =SUM(F72+J72) -> 111 | O72: =SUM(G72+K72) -> 765 | P72: =SUM(G72/F72) -> 6.3974359 | Q72: =SUM(K72/J72) -> 8.0606061 | R72: =SUM(O72/N72) -> 6.8918919 | S72: =SUM((G69+G70+G71+G72+K69+K70+K71+K72)/(F69+F70+F71+F72+J69+J70+J71+J72)) -> 8.3607038
B73: =SUM(B71+7) -> 46300 | E73: X | F73: 42 | G73: 454 | I73: X | J73: 26 | K73: 301 | L73: X | N73: =SUM(F73+J73) -> 68 | O73: =SUM(G73+K73) -> 755 | P73: =SUM(G73/F73) -> 10.809524 | Q73: =SUM(K73/J73) -> 11.576923 | R73: =SUM(O73/N73) -> 11.102941 | S73: =SUM((G69+G70+G71+G72+G73+K69+K70+K71+K72+K73)/(F69+F70+F71+F72+F73+J69+J70+J71+J72+J73)) -> 8.8166259
F74: 39 | G74: 463 | I74: X | J74: 30 | K74: 293 | M74: X | N74: =SUM(F74+J74) -> 69 | O74: =SUM(G74+K74) -> 756 | P74: =SUM(G74/F74) -> 11.871795 | Q74: =SUM(K74/J74) -> 9.7666667 | R74: =SUM(O74/N74) -> 10.956522 | S74: =SUM((G69+G70+G71+G72+G73+G74+K69+K70+K71+K72+K73+K74)/(F69+F70+F71+F72+F73+F74+J69+J70+J71+J72+J73+J74)) -> 9.125523
B75: =SUM(B73+7) -> 46307 | D75: X | F75: 66 | G75: 494 | I75: X | J75: 36 | K75: 291 | M75: X | N75: =SUM(F75+J75) -> 102 | O75: =SUM(G75+K75) -> 785 | P75: =SUM(G75/F75) -> 7.4848485 | Q75: =SUM(K75/J75) -> 8.0833333 | R75: =SUM(O75/N75) -> 7.6960784 | S75: =SUM((G69+G70+G71+G72+G73+G74+G75+K69+K70+K71+K72+K73+K74+K75)/(F69+F70+F71+F72+F73+F74+F75+J69+J70+J71+J72+J73+J74+J75)) -> 8.8741379
F76: 49 | G76: 501 | H76: X | J76: 36 | K76: 298 | M76: X | N76: =SUM(F76+J76) -> 85 | O76: =SUM(G76+K76) -> 799 | P76: =SUM(G76/F76) -> 10.22449 | Q76: =SUM(K76/J76) -> 8.2777778 | R76: =SUM(O76/N76) -> 9.4 | S76: =SUM((G69+G70+G71+G72+G73+G74+G75+G76+K69+K70+K71+K72+K73+K74+K75+K76)/(F69+F70+F71+F72+F73+F74+F75+F76+J69+J70+J71+J72+J73+J74+J75+J76)) -> 8.9413534
B77: =SUM(B75+7) -> 46314 | N77: =SUM(F77+J77) -> 0 | O77: =SUM(G77+K77) -> 0 | P77: =SUM(G77/F77) -> #DIV/0! | Q77: =SUM(K77/J77) -> #DIV/0! | R77: =SUM(O77/N77) -> #DIV/0! | S77: =SUM((G69+G70+G71+G72+G73+G74+G75+G76+G77+K69+K70+K71+K72+K73+K74+K75+K76+K77)/(F69+F70+F71+F72+F73+F74+F75+F76+F77+J69+J70+J71+J72+J73+J74+J75+J76+J77)) -> 8.9413534
N78: =SUM(F78+J78) -> 0 | O78: =SUM(G78+K78) -> 0 | P78: =SUM(G78/F78) -> #DIV/0! | Q78: =SUM(K78/J78) -> #DIV/0! | R78: =SUM(O78/N78) -> #DIV/0! | S78: =SUM((G69+G70+G71+G72+G73+G74+G75+G76+G77+G78+K69+K70+K71+K72+K73+K74+K75+K76+K77+K78)/(F69+F70+F71+F72+F73+F74+F75+F76+F77+F78+J69+J70+J71+J72+J73+J74+J75+J76+J77+J78)) -> 8.9413534
B79: =SUM(B77+7) -> 46321 | E79: X | F79: 33 | G79: 434 | I79: X | J79: 39 | K79: 262 | M79: X | N79: =SUM(F79+J79) -> 72 | O79: =SUM(G79+K79) -> 696 | P79: =SUM(G79/F79) -> 13.151515 | Q79: =SUM(K79/J79) -> 6.7179487 | R79: =SUM(O79/N79) -> 9.6666667 | S79: =SUM((G69+G70+G71+G72+G73+G74+G75+G76+G77+G78+G79+K69+K70+K71+K72+K73+K74+K75+K76+K77+K78+K79)/(F69+F70+F71+F72+F73+F74+F75+F76+F77+F78+F79+J69+J70+J71+J72+J73+J74+J75+J76+J77+J78+J79)) -> 9.0122117
F80: 30 | G80: 365 | I80: X | J80: 22 | K80: 301 | L80: X | N80: =SUM(F80+J80) -> 52 | O80: =SUM(G80+K80) -> 666 | P80: =SUM(G80/F80) -> 12.166667 | Q80: =SUM(K80/J80) -> 13.681818 | R80: =SUM(O80/N80) -> 12.807692 | S80: =SUM((G69+G70+G71+G72+G73+G74+G75+G76+G77+G78+G79+G80+K69+K70+K71+K72+K73+K74+K75+K76+K77+K78+K79+K80)/(F69+F70+F71+F72+F73+F74+F75+F76+F77+F78+F79+F80+J69+J70+J71+J72+J73+J74+J75+J76+J77+J78+J79+J80)) -> 9.2623574
B81: =SUM(B79+7) -> 46328 | N81: =SUM(F81+J81) -> 0 | O81: =SUM(G81+K81) -> 0 | P81: =SUM(G81/F81) -> #DIV/0! | Q81: =SUM(K81/J81) -> #DIV/0! | R81: =SUM(O81/N81) -> #DIV/0! | S81: =SUM((G69+G70+G71+G72+G73+G74+G75+G76+G77+G78+G79+G80+G81+K69+K70+K71+K72+K73+K74+K75+K76+K77+K78+K79+K80+K81)/(F69+F70+F71+F72+F73+F74+F75+F76+F77+F78+F79+F80+F81+J69+J70+J71+J72+J73+J74+J75+J76+J77+J78+J79+J80+J81)) -> 9.2623574
N82: =SUM(F82+J82) -> 0 | O82: =SUM(G82+K82) -> 0 | P82: =SUM(G82/F82) -> #DIV/0! | Q82: =SUM(K82/J82) -> #DIV/0! | R82: =SUM(O82/N82) -> #DIV/0! | S82: =SUM((G69+G70+G71+G72+G73+G74+G75+G76+G77+G78+G79+G80+G81+G82+K69+K70+K71+K72+K73+K74+K75+K76+K77+K78+K79+K80+K81+K82)/(F69+F70+F71+F72+F73+F74+F75+F76+F77+F78+F79+F80+F81+F82+J69+J70+J71+J72+J73+J74+J75+J76+J77+J78+J79+J80+J81+J82)) -> 9.2623574
B83: =SUM(B81+7) -> 46335 | N83: =SUM(F83+J83) -> 0 | O83: =SUM(G83+K83) -> 0 | P83: =SUM(G83/F83) -> #DIV/0! | Q83: =SUM(K83/J83) -> #DIV/0! | R83: =SUM(O83/N83) -> #DIV/0! | S83: =SUM((G69+G70+G71+G72+G73+G74+G75+G76+G77+G78+G79+G80+G81+G82+G83+K69+K70+K71+K72+K73+K74+K75+K76+K77+K78+K79+K80+K81+K82+K83)/(F69+F70+F71+F72+F73+F74+F75+F76+F77+F78+F79+F80+F81+F82+F83+J69+J70+J71+J72+J73+J74+J75+J76+J77+J78+J79+J80+J81+J82+J83)) -> 9.2623574
N84: =SUM(F84+J84) -> 0 | O84: =SUM(G84+K84) -> 0 | P84: =SUM(G84/F84) -> #DIV/0! | Q84: =SUM(K84/J84) -> #DIV/0! | R84: =SUM(O84/N84) -> #DIV/0! | S84: =SUM((G69+G70+G71+G72+G73+G74+G75+G76+G77+G78+G79+G80+G81+G82+G83+G84+K69+K70+K71+K72+K73+K74+K75+K76+K77+K78+K79+K80+K81+K82+K83+K84)/(F69+F70+F71+F72+F73+F74+F75+F76+F77+F78+F79+F80+F81+F82+F83+F84+J69+J70+J71+J72+J73+J74+J75+J76+J77+J78+J79+J80+J81+J82+J83+J84)) -> 9.2623574
B85: =SUM(B83+7) -> 46342 | N85: =SUM(F85+J85) -> 0 | O85: =SUM(G85+K85) -> 0 | P85: =SUM(G85/F85) -> #DIV/0! | Q85: =SUM(K85/J85) -> #DIV/0! | R85: =SUM(O85/N85) -> #DIV/0! | S85: =SUM((G69+G70+G71+G72+G73+G74+G75+G76+G77+G78+G79+G80+G81+G82+G83+G84+G85+K69+K70+K71+K72+K73+K74+K75+K76+K77+K78+K79+K80+K81+K82+K83+K84+K85)/(F69+F70+F71+F72+F73+F74+F75+F76+F77+F78+F79+F80+F81+F82+F83+F84+F85+J69+J70+J71+J72+J73+J74+J75+J76+J77+J78+J79+J80+J81+J82+J83+J84+J85)) -> 9.2623574
N86: =SUM(F86+J86) -> 0 | O86: =SUM(G86+K86) -> 0 | P86: =SUM(G86/F86) -> #DIV/0! | Q86: =SUM(K86/J86) -> #DIV/0! | R86: =SUM(O86/N86) -> #DIV/0! | S86: =SUM((G69+G70+G71+G72+G73+G74+G75+G76+G77+G78+G79+G80+G81+G82+G83+G84+G85+G86+K69+K70+K71+K72+K73+K74+K75+K76+K77+K78+K79+K80+K81+K82+K83+K84+K85+K86)/(F69+F70+F71+F72+F73+F74+F75+F76+F77+F78+F79+F80+F81+F82+F83+F84+F85+F86+J69+J70+J71+J72+J73+J74+J75+J76+J77+J78+J79+J80+J81+J82+J83+J84+J85+J86)) -> 9.2623574
B87: =SUM(B85+7) -> 46349 | N87: =SUM(F87+J87) -> 0 | O87: =SUM(G87+K87) -> 0 | P87: =SUM(G87/F87) -> #DIV/0! | Q87: =SUM(K87/J87) -> #DIV/0! | R87: =SUM(O87/N87) -> #DIV/0! | S87: =SUM((G69+G70+G71+G72+G73+G74+G75+G76+G77+G78+G79+G80+G81+G82+G83+G84+G85+G86+G87+K69+K70+K71+K72+K73+K74+K75+K76+K77+K78+K79+K80+K81+K82+K83+K84+K85+K86+K87)/(F69+F70+F71+F72+F73+F74+F75+F76+F77+F78+F79+F80+F81+F82+F83+F84+F85+F86+F87+J69+J70+J71+J72+J73+J74+J75+J76+J77+J78+J79+J80+J81+J82+J83+J84+J85+J86+J87)) -> 9.2623574
N88: =SUM(F88+J88) -> 0 | O88: =SUM(G88+K88) -> 0 | P88: =SUM(G88/F88) -> #DIV/0! | Q88: =SUM(K88/J88) -> #DIV/0! | R88: =SUM(O88/N88) -> #DIV/0! | S88: =SUM((G69+G70+G71+G72+G73+G74+G75+G76+G77+G78+G79+G80+G81+G82+G83+G84+G85+G86+G87+G88+K69+K70+K71+K72+K73+K74+K75+K76+K77+K78+K79+K80+K81+K82+K83+K84+K85+K86+K87+K88)/(F69+F70+F71+F72+F73+F74+F75+F76+F77+F78+F79+F80+F81+F82+F83+F84+F85+F86+F87+F88+J69+J70+J71+J72+J73+J74+J75+J76+J77+J78+J79+J80+J81+J82+J83+J84+J85+J86+J87+J88)) -> 9.2623574
B89: =SUM(B87+7) -> 46356 | N89: =SUM(F89+J89) -> 0 | O89: =SUM(G89+K89) -> 0 | P89: =SUM(G89/F89) -> #DIV/0! | Q89: =SUM(K89/J89) -> #DIV/0! | R89: =SUM(O89/N89) -> #DIV/0! | S89: =SUM((G69+G70+G71+G72+G73+G74+G75+G76+G77+G78+G79+G80+G81+G82+G83+G84+G85+G86+G87+G88+G89+K69+K70+K71+K72+K73+K74+K75+K76+K77+K78+K79+K80+K81+K82+K83+K84+K85+K86+K87+K88+K89)/(F69+F70+F71+F72+F73+F74+F75+F76+F77+F78+F79+F80+F81+F82+F83+F84+F85+F86+F87+F88+F89+J69+J70+J71+J72+J73+J74+J75+J76+J77+J78+J79+J80+J81+J82+J83+J84+J85+J86+J87+J88+J89)) -> 9.2623574
N90: =SUM(F90+J90) -> 0 | O90: =SUM(G90+K90) -> 0 | P90: =SUM(G90/F90) -> #DIV/0! | Q90: =SUM(K90/J90) -> #DIV/0! | R90: =SUM(O90/N90) -> #DIV/0! | S90: =SUM((G69+G70+G71+G72+G73+G74+G75+G76+G77+G78+G79+G80+G81+G82+G83+G84+G85+G86+G87+G88+G89+G90+K69+K70+K71+K72+K73+K74+K75+K76+K77+K78+K79+K80+K81+K82+K83+K84+K85+K86+K87+K88+K89+K90)/(F69+F70+F71+F72+F73+F74+F75+F76+F77+F78+F79+F80+F81+F82+F83+F84+F85+F86+F87+F88+F89+F90+J69+J70+J71+J72+J73+J74+J75+J76+J77+J78+J79+J80+J81+J82+J83+J84+J85+J86+J87+J88+J89+J90)) -> 9.2623574
B91: =SUM(B89+7) -> 46363 | N91: =SUM(F91+J91) -> 0 | O91: =SUM(G91+K91) -> 0 | P91: =SUM(G91/F91) -> #DIV/0! | Q91: =SUM(K91/J91) -> #DIV/0! | R91: =SUM(O91/N91) -> #DIV/0! | S91: =SUM((G69+G70+G71+G72+G73+G74+G75+G76+G77+G78+G79+G80+G81+G82+G83+G84+G85+G86+G87+G88+G89+G90+G91+K69+K70+K71+K72+K73+K74+K75+K76+K77+K78+K79+K80+K81+K82+K83+K84+K85+K86+K87+K88+K89+K90+K91)/(F69+F70+F71+F72+F73+F74+F75+F76+F77+F78+F79+F80+F81+F82+F83+F84+F85+F86+F87+F88+F89+F90+F91+J69+J70+J71+J72+J73+J74+J75+J76+J77+J78+J79+J80+J81+J82+J83+J84+J85+J86+J87+J88+J89+J90+J91)) -> 9.2623574
N92: =SUM(F92+J92) -> 0 | O92: =SUM(G92+K92) -> 0 | P92: =SUM(G92/F92) -> #DIV/0! | Q92: =SUM(K92/J92) -> #DIV/0! | R92: =SUM(O92/N92) -> #DIV/0! | S92: =SUM((G69+G70+G71+G72+G73+G74+G75+G76+G77+G78+G79+G80+G81+G82+G83+G84+G85+G86+G87+G88+G89+G90+G91+G92+K69+K70+K71+K72+K73+K74+K75+K76+K77+K78+K79+K80+K81+K82+K83+K84+K85+K86+K87+K88+K89+K90+K91+K92)/(F69+F70+F71+F72+F73+F74+F75+F76+F77+F78+F79+F80+F81+F82+F83+F84+F85+F86+F87+F88+F89+F90+F91+F92+J69+J70+J71+J72+J73+J74+J75+J76+J77+J78+J79+J80+J81+J82+J83+J84+J85+J86+J87+J88+J89+J90+J91+J92)) -> 9.2623574
B93: =SUM(B91+7) -> 46370 | N93: =SUM(F93+J93) -> 0 | O93: =SUM(G93+K93) -> 0 | P93: =SUM(G93/F93) -> #DIV/0! | Q93: =SUM(K93/J93) -> #DIV/0! | R93: =SUM(O93/N93) -> #DIV/0! | S93: =SUM((G69+G70+G71+G72+G73+G74+G75+G76+G77+G78+G79+G80+G81+G82+G83+G84+G85+G86+G87+G88+G89+G90+G91+G92+G93+K69+K70+K71+K72+K73+K74+K75+K76+K77+K78+K79+K80+K81+K82+K83+K84+K85+K86+K87+K88+K89+K90+K91+K92+K93)/(F69+F70+F71+F72+F73+F74+F75+F76+F77+F78+F79+F80+F81+F82+F83+F84+F85+F86+F87+F88+F89+F90+F91+F92+F93+J69+J70+J71+J72+J73+J74+J75+J76+J77+J78+J79+J80+J81+J82+J83+J84+J85+J86+J87+J88+J89+J90+J91+J92+J93)) -> 9.2623574
N94: =SUM(F94+J94) -> 0 | O94: =SUM(G94+K94) -> 0 | P94: =SUM(G94/F94) -> #DIV/0! | Q94: =SUM(K94/J94) -> #DIV/0! | R94: =SUM(O94/N94) -> #DIV/0! | S94: =SUM((G69+G70+G71+G72+G73+G74+G75+G76+G77+G78+G79+G80+G81+G82+G83+G84+G85+G86+G87+G88+G89+G90+G91+G92+G93+G94+K69+K70+K71+K72+K73+K74+K75+K76+K77+K78+K79+K80+K81+K82+K83+K84+K85+K86+K87+K88+K89+K90+K91+K92+K93+K94)/(F69+F70+F71+F72+F73+F74+F75+F76+F77+F78+F79+F80+F81+F82+F83+F84+F85+F86+F87+F88+F89+F90+F91+F92+F93+F94+J69+J70+J71+J72+J73+J74+J75+J76+J77+J78+J79+J80+J81+J82+J83+J84+J85+J86+J87+J88+J89+J90+J91+J92+J93+J94)) -> 9.2623574
B95: =SUM(B93+7) -> 46377 | N95: =SUM(F95+J95) -> 0 | O95: =SUM(G95+K95) -> 0 | P95: =SUM(G95/F95) -> #DIV/0! | Q95: =SUM(K95/J95) -> #DIV/0! | R95: =SUM(O95/N95) -> #DIV/0! | S95: =SUM((G69+G70+G71+G72+G73+G74+G75+G76+G77+G78+G79+G80+G81+G82+G83+G84+G85+G86+G87+G88+G89+G90+G91+G92+G93+G94+G95+K69+K70+K71+K72+K73+K74+K75+K76+K77+K78+K79+K80+K81+K82+K83+K84+K85+K86+K87+K88+K89+K90+K91+K92+K93+K94+K95)/(F69+F70+F71+F72+F73+F74+F75+F76+F77+F78+F79+F80+F81+F82+F83+F84+F85+F86+F87+F88+F89+F90+F91+F92+F93+F94+F95+J69+J70+J71+J72+J73+J74+J75+J76+J77+J78+J79+J80+J81+J82+J83+J84+J85+J86+J87+J88+J89+J90+J91+J92+J93+J94+J95)) -> 9.2623574
N96: =SUM(F96+J96) -> 0 | O96: =SUM(G96+K96) -> 0 | P96: =SUM(G96/F96) -> #DIV/0! | Q96: =SUM(K96/J96) -> #DIV/0! | R96: =SUM(O96/N96) -> #DIV/0! | S96: =SUM((G69+G70+G71+G72+G73+G74+G75+G76+G77+G78+G79+G80+G81+G82+G83+G84+G85+G86+G87+G88+G89+G90+G91+G92+G93+G94+G95+G96+K69+K70+K71+K72+K73+K74+K75+K76+K77+K78+K79+K80+K81+K82+K83+K84+K85+K86+K87+K88+K89+K90+K91+K92+K93+K94+K95+K96)/(F69+F70+F71+F72+F73+F74+F75+F76+F77+F78+F79+F80+F81+F82+F83+F84+F85+F86+F87+F88+F89+F90+F91+F92+F93+F94+F95+F96+J69+J70+J71+J72+J73+J74+J75+J76+J77+J78+J79+J80+J81+J82+J83+J84+J85+J86+J87+J88+J89+J90+J91+J92+J93+J94+J95+J96)) -> 9.2623574
B97: =SUM(B95+7) -> 46384 | N97: =SUM(F97+J97) -> 0 | O97: =SUM(G97+K97) -> 0 | P97: =SUM(G97/F97) -> #DIV/0! | Q97: =SUM(K97/J97) -> #DIV/0! | R97: =SUM(O97/N97) -> #DIV/0! | S97: =SUM((G69+G70+G71+G72+G73+G74+G75+G76+G77+G78+G79+G80+G81+G82+G83+G84+G85+G86+G87+G88+G89+G90+G91+G92+G93+G94+G95+G96+G97+K69+K70+K71+K72+K73+K74+K75+K76+K77+K78+K79+K80+K81+K82+K83+K84+K85+K86+K87+K88+K89+K90+K91+K92+K93+K94+K95+K96+K97)/(F69+F70+F71+F72+F73+F74+F75+F76+F77+F78+F79+F80+F81+F82+F83+F84+F85+F86+F87+F88+F89+F90+F91+F92+F93+F94+F95+F96+F97+J69+J70+J71+J72+J73+J74+J75+J76+J77+J78+J79+J80+J81+J82+J83+J84+J85+J86+J87+J88+J89+J90+J91+J92+J93+J94+J95+J96+J97)) -> 9.2623574
N98: =SUM(F98+J98) -> 0 | O98: =SUM(G98+K98) -> 0 | P98: =SUM(G98/F98) -> #DIV/0! | Q98: =SUM(K98/J98) -> #DIV/0! | R98: =SUM(O98/N98) -> #DIV/0! | S98: =SUM((G69+G70+G71+G72+G73+G74+G75+G76+G77+G78+G79+G80+G81+G82+G83+G84+G85+G86+G87+G88+G89+G90+G91+G92+G93+G94+G95+G96+G97+G98+K69+K70+K71+K72+K73+K74+K75+K76+K77+K78+K79+K80+K81+K82+K83+K84+K85+K86+K87+K88+K89+K90+K91+K92+K93+K94+K95+K96+K97+K98)/(F69+F70+F71+F72+F73+F74+F75+F76+F77+F78+F79+F80+F81+F82+F83+F84+F85+F86+F87+F88+F89+F90+F91+F92+F93+F94+F95+F96+F97+F98+J69+J70+J71+J72+J73+J74+J75+J76+J77+J78+J79+J80+J81+J82+J83+J84+J85+J86+J87+J88+J89+J90+J91+J92+J93+J94+J95+J96+J97+J98)) -> 9.2623574
B99: =SUM(B97+7) -> 46391 | N99: =SUM(F99+J99) -> 0 | O99: =SUM(G99+K99) -> 0 | P99: =SUM(G99/F99) -> #DIV/0! | Q99: =SUM(K99/J99) -> #DIV/0! | R99: =SUM(O99/N99) -> #DIV/0! | S99: =SUM((G69+G70+G71+G72+G73+G74+G75+G76+G77+G78+G79+G80+G81+G82+G83+G84+G85+G86+G87+G88+G89+G90+G91+G92+G93+G94+G95+G96+G97+G98+G99+K69+K70+K71+K72+K73+K74+K75+K76+K77+K78+K79+K80+K81+K82+K83+K84+K85+K86+K87+K88+K89+K90+K91+K92+K93+K94+K95+K96+K97+K98+K99)/(F69+F70+F71+F72+F73+F74+F75+F76+F77+F78+F79+F80+F81+F82+F83+F84+F85+F86+F87+F88+F89+F90+F91+F92+F93+F94+F95+F96+F97+F98+F99+J69+J70+J71+J72+J73+J74+J75+J76+J77+J78+J79+J80+J81+J82+J83+J84+J85+J86+J87+J88+J89+J90+J91+J92+J93+J94+J95+J96+J97+J98+J99)) -> 9.2623574
N100: =SUM(F100+J100) -> 0 | O100: =SUM(G100+K100) -> 0 | P100: =SUM(G100/F100) -> #DIV/0! | Q100: =SUM(K100/J100) -> #DIV/0! | R100: =SUM(O100/N100) -> #DIV/0! | S100: =SUM((G69+G70+G71+G72+G73+G74+G75+G76+G77+G78+G79+G80+G81+G82+G83+G84+G85+G86+G87+G88+G89+G90+G91+G92+G93+G94+G95+G96+G97+G98+G99+G100+K69+K70+K71+K72+K73+K74+K75+K76+K77+K78+K79+K80+K81+K82+K83+K84+K85+K86+K87+K88+K89+K90+K91+K92+K93+K94+K95+K96+K97+K98+K99+K100)/(F69+F70+F71+F72+F73+F74+F75+F76+F77+F78+F79+F80+F81+F82+F83+F84+F85+F86+F87+F88+F89+F90+F91+F92+F93+F94+F95+F96+F97+F98+F99+F100+J69+J70+J71+J72+J73+J74+J75+J76+J77+J78+J79+J80+J81+J82+J83+J84+J85+J86+J87+J88+J89+J90+J91+J92+J93+J94+J95+J96+J97+J98+J99+J100)) -> 9.2623574
B101: =SUM(B99+7) -> 46398 | N101: =SUM(F101+J101) -> 0 | O101: =SUM(G101+K101) -> 0 | P101: =SUM(G101/F101) -> #DIV/0! | Q101: =SUM(K101/J101) -> #DIV/0! | R101: =SUM(O101/N101) -> #DIV/0! | S101: =SUM((G69+G70+G71+G72+G73+G74+G75+G76+G77+G78+G79+G80+G81+G82+G83+G84+G85+G86+G87+G88+G89+G90+G91+G92+G93+G94+G95+G96+G97+G98+G99+G100+G101+K69+K70+K71+K72+K73+K74+K75+K76+K77+K78+K79+K80+K81+K82+K83+K84+K85+K86+K87+K88+K89+K90+K91+K92+K93+K94+K95+K96+K97+K98+K99+K100+K101)/(F69+F70+F71+F72+F73+F74+F75+F76+F77+F78+F79+F80+F81+F82+F83+F84+F85+F86+F87+F88+F89+F90+F91+F92+F93+F94+F95+F96+F97+F98+F99+F100+F101+J69+J70+J71+J72+J73+J74+J75+J76+J77+J78+J79+J80+J81+J82+J83+J84+J85+J86+J87+J88+J89+J90+J91+J92+J93+J94+J95+J96+J97+J98+J99+J100+J101)) -> 9.2623574
N102: =SUM(F102+J102) -> 0 | O102: =SUM(G102+K102) -> 0 | P102: =SUM(G102/F102) -> #DIV/0! | Q102: =SUM(K102/J102) -> #DIV/0! | R102: =SUM(O102/N102) -> #DIV/0! | S102: =SUM((G69+G70+G71+G72+G73+G74+G75+G76+G77+G78+G79+G80+G81+G82+G83+G84+G85+G86+G87+G88+G89+G90+G91+G92+G93+G94+G95+G96+G97+G98+G99+G100+G101+G102+K69+K70+K71+K72+K73+K74+K75+K76+K77+K78+K79+K80+K81+K82+K83+K84+K85+K86+K87+K88+K89+K90+K91+K92+K93+K94+K95+K96+K97+K98+K99+K100+K101+K102)/(F69+F70+F71+F72+F73+F74+F75+F76+F77+F78+F79+F80+F81+F82+F83+F84+F85+F86+F87+F88+F89+F90+F91+F92+F93+F94+F95+F96+F97+F98+F99+F100+F101+F102+J69+J70+J71+J72+J73+J74+J75+J76+J77+J78+J79+J80+J81+J82+J83+J84+J85+J86+J87+J88+J89+J90+J91+J92+J93+J94+J95+J96+J97+J98+J99+J100+J101+J102)) -> 9.2623574
...

Sheet DRW
A1: NAME | B1: DATE | C1: SINGLES CRICKET | D1: WIN? | E1: LOSS? | F1: 501 DARTS THROWN | G1: 501 POINTS | H1: WIN? | I1: LOSS? | J1: 301 DARTS THROWN | K1: 301 POINTS | L1: WIN? | M1: LOSS? | N1: TOTAL DARTS THROWN | O1: TOTAL POINTS | P1: 501 AVERAGE | Q1: 301 AVERAGE | R1: MATCH AVERAGE | S1: WEEKLY AVERAGE
A2: Richard Whitmer
B3: 46286 | D3: X | F3: 30 | G3: 425 | I3: X | J3: 33 | K3: 293 | M3: X | N3: =SUM(F3+J3) -> 63 | O3: =SUM(G3+K3) -> 718 | P3: =SUM(G3/F3) -> 14.166667 | Q3: =SUM(K3/J3) -> 8.8787879 | R3: =SUM(O3/N3) -> 11.396825 | S3: =SUM((G3+K3)/(F3+J3)) -> 11.396825
F4: 83 | G4: 501 | H4: X | J4: 35 | K4: 301 | L4: X | N4: =SUM(F4+J4) -> 118 | O4: =SUM(G4+K4) -> 802 | P4: =SUM(G4/F4) -> 6.0361446 | Q4: =SUM(K4/J4) -> 8.6 | R4: =SUM(O4/N4) -> 6.7966102 | S4: =SUM((G3+G4+K3+K4)/(F3+F4+J3+J4)) -> 8.3977901
B5: =SUM(B3+7) -> 46293 | D5: X | F5: 33 | G5: 455 | I5: X | J5: 24 | K5: 295 | M5: X | N5: =SUM(F5+J5) -> 57 | O5: =SUM(G5+K5) -> 750 | P5: =SUM(G5/F5) -> 13.787879 | Q5: =SUM(K5/J5) -> 12.291667 | R5: =SUM(O5/N5) -> 13.157895 | S5: =SUM((G3+G4+G5+K3+K4+K5)/(F3+F4+F5+J3+J4+J5)) -> 9.5378151
F6: 42 | G6: 469 | I6: X | J6: 68 | K6: 301 | L6: X | N6: =SUM(F6+J6) -> 110 | O6: =SUM(G6+K6) -> 770 | P6: =SUM(G6/F6) -> 11.166667 | Q6: =SUM(K6/J6) -> 4.4264706 | R6: =SUM(O6/N6) -> 7 | S6: =SUM((G3+G4+G5+G6+K3+K4+K5+K6)/(F3+F4+F5+F6+J3+J4+J5+J6)) -> 8.7356322
B7: =SUM(B5+7) -> 46300 | E7: X | F7: 30 | G7: 501 | H7: X | J7: 33 | K7: 293 | M7: X | N7: =SUM(F7+J7) -> 63 | O7: =SUM(G7+K7) -> 794 | P7: =SUM(G7/F7) -> 16.7 | Q7: =SUM(K7/J7) -> 8.8787879 | R7: =SUM(O7/N7) -> 12.603175 | S7: =SUM((G3+G4+G5+G6+G7+K3+K4+K5+K6+K7)/(F3+F4+F5+F6+F7+J3+J4+J5+J6+J7)) -> 9.3284672
F8: 54 | G8: 493 | I8: X | J8: 42 | K8: 299 | M8: X | N8: =SUM(F8+J8) -> 96 | O8: =SUM(G8+K8) -> 792 | P8: =SUM(G8/F8) -> 9.1296296 | Q8: =SUM(K8/J8) -> 7.1190476 | R8: =SUM(O8/N8) -> 8.25 | S8: =SUM((G3+G4+G5+G6+G7+G8+K3+K4+K5+K6+K7+K8)/(F3+F4+F5+F6+F7+F8+J3+J4+J5+J6+J7+J8)) -> 9.1242604
B9: =SUM(B7+7) -> 46307 | E9: X | F9: 26 | G9: 501 | H9: X | J9: 21 | K9: 284 | M9: X | N9: =SUM(F9+J9) -> 47 | O9: =SUM(G9+K9) -> 785 | P9: =SUM(G9/F9) -> 19.269231 | Q9: =SUM(K9/J9) -> 13.52381 | R9: =SUM(O9/N9) -> 16.702128 | S9: =SUM((G3+G4+G5+G6+G7+G8+G9+K3+K4+K5+K6+K7+K8+K9)/(F3+F4+F5+F6+F7+F8+F9+J3+J4+J5+J6+J7+J8+J9)) -> 9.767148
F10: 27 | G10: 452 | I10: X | J10: 45 | K10: 297 | M10: X | N10: =SUM(F10+J10) -> 72 | O10: =SUM(G10+K10) -> 749 | P10: =SUM(G10/F10) -> 16.740741 | Q10: =SUM(K10/J10) -> 6.6 | R10: =SUM(O10/N10) -> 10.402778 | S10: =SUM((G3+G4+G5+G6+G7+G8+G9+G10+K3+K4+K5+K6+K7+K8+K9+K10)/(F3+F4+F5+F6+F7+F8+F9+F10+J3+J4+J5+J6+J7+J8+J9+J10)) -> 9.8402556
B11: =SUM(B9+7) -> 46314 | E11: X | F11: 30 | G11: 475 | I11: X | J11: 27 | K11: 299 | M11: X | N11: =SUM(F11+J11) -> 57 | O11: =SUM(G11+K11) -> 774 | P11: =SUM(G11/F11) -> 15.833333 | Q11: =SUM(K11/J11) -> 11.074074 | R11: =SUM(O11/N11) -> 13.578947 | S11: =SUM((G3+G4+G5+G6+G7+G8+G9+G10+G11+K3+K4+K5+K6+K7+K8+K9+K10+K11)/(F3+F4+F5+F6+F7+F8+F9+F10+F11+J3+J4+J5+J6+J7+J8+J9+J10+J11)) -> 10.152269
F12: 35 | G12: 501 | H12: X | J12: 26 | K12: 301 | L12: X | N12: =SUM(F12+J12) -> 61 | O12: =SUM(G12+K12) -> 802 | P12: =SUM(G12/F12) -> 14.314286 | Q12: =SUM(K12/J12) -> 11.576923 | R12: =SUM(O12/N12) -> 13.147541 | S12: =SUM((G3+G4+G5+G6+G7+G8+G9+G10+G11+G12+K3+K4+K5+K6+K7+K8+K9+K10+K11+K12)/(F3+F4+F5+F6+F7+F8+F9+F10+F11+F12+J3+J4+J5+J6+J7+J8+J9+J10+J11+J12)) -> 10.397849
B13: =SUM(B11+7) -> 46321 | D13: X | F13: 27 | G13: 266 | I13: X | J13: 18 | K13: 102 | M13: X | N13: =SUM(F13+J13) -> 45 | O13: =SUM(G13+K13) -> 368 | P13: =SUM(G13/F13) -> 9.8518519 | Q13: =SUM(K13/J13) -> 5.6666667 | R13: =SUM(O13/N13) -> 8.1777778 | S13: =SUM((G3+G4+G5+G6+G7+G8+G9+G10+G11+G12+G13+K3+K4+K5+K6+K7+K8+K9+K10+K11+K12+K13)/(F3+F4+F5+F6+F7+F8+F9+F10+F11+F12+F13+J3+J4+J5+J6+J7+J8+J9+J10+J11+J12+J13)) -> 10.271229
F14: 31 | G14: 501 | H14: X | J14: 41 | K14: 301 | L14: X | N14: =SUM(F14+J14) -> 72 | O14: =SUM(G14+K14) -> 802 | P14: =SUM(G14/F14) -> 16.16129 | Q14: =SUM(K14/J14) -> 7.3414634 | R14: =SUM(O14/N14) -> 11.138889 | S14: =SUM((G3+G4+G5+G6+G7+G8+G9+G10+G11+G12+G13+G14+K3+K4+K5+K6+K7+K8+K9+K10+K11+K12+K13+K14)/(F3+F4+F5+F6+F7+F8+F9+F10+F11+F12+F13+F14+J3+J4+J5+J6+J7+J8+J9+J10+J11+J12+J13+J14)) -> 10.343786
B15: =SUM(B13+7) -> 46328 | N15: =SUM(F15+J15) -> 0 | O15: =SUM(G15+K15) -> 0 | P15: =SUM(G15/F15) -> #DIV/0! | Q15: =SUM(K15/J15) -> #DIV/0! | R15: =SUM(O15/N15) -> #DIV/0! | S15: =SUM((G3+G4+G5+G6+G7+G8+G9+G10+G11+G12+G13+G14+G15+K3+K4+K5+K6+K7+K8+K9+K10+K11+K12+K13+K14+K15)/(F3+F4+F5+F6+F7+F8+F9+F10+F11+F12+F13+F14+F15+J3+J4+J5+J6+J7+J8+J9+J10+J11+J12+J13+J14+J15)) -> 10.343786
N16: =SUM(F16+J16) -> 0 | O16: =SUM(G16+K16) -> 0 | P16: =SUM(G16/F16) -> #DIV/0! | Q16: =SUM(K16/J16) -> #DIV/0! | R16: =SUM(O16/N16) -> #DIV/0! | S16: =SUM((G3+G4+G5+G6+G7+G8+G9+G10+G11+G12+G13+G14+G15+G16+K3+K4+K5+K6+K7+K8+K9+K10+K11+K12+K13+K14+K15+K16)/(F3+F4+F5+F6+F7+F8+F9+F10+F11+F12+F13+F14+F15+F16+J3+J4+J5+J6+J7+J8+J9+J10+J11+J12+J13+J14+J15+J16)) -> 10.343786
B17: =SUM(B15+7) -> 46335 | N17: =SUM(F17+J17) -> 0 | O17: =SUM(G17+K17) -> 0 | P17: =SUM(G17/F17) -> #DIV/0! | Q17: =SUM(K17/J17) -> #DIV/0! | R17: =SUM(O17/N17) -> #DIV/0! | S17: =SUM((G3+G4+G5+G6+G7+G8+G9+G10+G11+G12+G13+G14+G15+G16+G17+K3+K4+K5+K6+K7+K8+K9+K10+K11+K12+K13+K14+K15+K16+K17)/(F3+F4+F5+F6+F7+F8+F9+F10+F11+F12+F13+F14+F15+F16+F17+J3+J4+J5+J6+J7+J8+J9+J10+J11+J12+J13+J14+J15+J16+J17)) -> 10.343786
N18: =SUM(F18+J18) -> 0 | O18: =SUM(G18+K18) -> 0 | P18: =SUM(G18/F18) -> #DIV/0! | Q18: =SUM(K18/J18) -> #DIV/0! | R18: =SUM(O18/N18) -> #DIV/0! | S18: =SUM((G3+G4+G5+G6+G7+G8+G9+G10+G11+G12+G13+G14+G15+G16+G17+G18+K3+K4+K5+K6+K7+K8+K9+K10+K11+K12+K13+K14+K15+K16+K17+K18)/(F3+F4+F5+F6+F7+F8+F9+F10+F11+F12+F13+F14+F15+F16+F17+F18+J3+J4+J5+J6+J7+J8+J9+J10+J11+J12+J13+J14+J15+J16+J17+J18)) -> 10.343786
B19: =SUM(B17+7) -> 46342 | N19: =SUM(F19+J19) -> 0 | O19: =SUM(G19+K19) -> 0 | P19: =SUM(G19/F19) -> #DIV/0! | Q19: =SUM(K19/J19) -> #DIV/0! | R19: =SUM(O19/N19) -> #DIV/0! | S19: =SUM((G3+G4+G5+G6+G7+G8+G9+G10+G11+G12+G13+G14+G15+G16+G17+G18+G19+K3+K4+K5+K6+K7+K8+K9+K10+K11+K12+K13+K14+K15+K16+K17+K18+K19)/(F3+F4+F5+F6+F7+F8+F9+F10+F11+F12+F13+F14+F15+F16+F17+F18+F19+J3+J4+J5+J6+J7+J8+J9+J10+J11+J12+J13+J14+J15+J16+J17+J18+J19)) -> 10.343786
N20: =SUM(F20+J20) -> 0 | O20: =SUM(G20+K20) -> 0 | P20: =SUM(G20/F20) -> #DIV/0! | Q20: =SUM(K20/J20) -> #DIV/0! | R20: =SUM(O20/N20) -> #DIV/0! | S20: =SUM((G3+G4+G5+G6+G7+G8+G9+G10+G11+G12+G13+G14+G15+G16+G17+G18+G19+G20+K3+K4+K5+K6+K7+K8+K9+K10+K11+K12+K13+K14+K15+K16+K17+K18+K19+K20)/(F3+F4+F5+F6+F7+F8+F9+F10+F11+F12+F13+F14+F15+F16+F17+F18+F19+F20+J3+J4+J5+J6+J7+J8+J9+J10+J11+J12+J13+J14+J15+J16+J17+J18+J19+J20)) -> 10.343786
B21: =SUM(B19+7) -> 46349 | N21: =SUM(F21+J21) -> 0 | O21: =SUM(G21+K21) -> 0 | P21: =SUM(G21/F21) -> #DIV/0! | Q21: =SUM(K21/J21) -> #DIV/0! | R21: =SUM(O21/N21) -> #DIV/0! | S21: =SUM((G3+G4+G5+G6+G7+G8+G9+G10+G11+G12+G13+G14+G15+G16+G17+G18+G19+G20+G21+K3+K4+K5+K6+K7+K8+K9+K10+K11+K12+K13+K14+K15+K16+K17+K18+K19+K20+K21)/(F3+F4+F5+F6+F7+F8+F9+F10+F11+F12+F13+F14+F15+F16+F17+F18+F19+F20+F21+J3+J4+J5+J6+J7+J8+J9+J10+J11+J12+J13+J14+J15+J16+J17+J18+J19+J20+J21)) -> 10.343786
N22: =SUM(F22+J22) -> 0 | O22: =SUM(G22+K22) -> 0 | P22: =SUM(G22/F22) -> #DIV/0! | Q22: =SUM(K22/J22) -> #DIV/0! | R22: =SUM(O22/N22) -> #DIV/0! | S22: =SUM((G3+G4+G5+G6+G7+G8+G9+G10+G11+G12+G13+G14+G15+G16+G17+G18+G19+G20+G21+G22+K3+K4+K5+K6+K7+K8+K9+K10+K11+K12+K13+K14+K15+K16+K17+K18+K19+K20+K21+K22)/(F3+F4+F5+F6+F7+F8+F9+F10+F11+F12+F13+F14+F15+F16+F17+F18+F19+F20+F21+F22+J3+J4+J5+J6+J7+J8+J9+J10+J11+J12+J13+J14+J15+J16+J17+J18+J19+J20+J21+J22)) -> 10.343786
B23: =SUM(B21+7) -> 46356 | N23: =SUM(F23+J23) -> 0 | O23: =SUM(G23+K23) -> 0 | P23: =SUM(G23/F23) -> #DIV/0! | Q23: =SUM(K23/J23) -> #DIV/0! | R23: =SUM(O23/N23) -> #DIV/0! | S23: =SUM((G3+G4+G5+G6+G7+G8+G9+G10+G11+G12+G13+G14+G15+G16+G17+G18+G19+G20+G21+G22+G23+K3+K4+K5+K6+K7+K8+K9+K10+K11+K12+K13+K14+K15+K16+K17+K18+K19+K20+K21+K22+K23)/(F3+F4+F5+F6+F7+F8+F9+F10+F11+F12+F13+F14+F15+F16+F17+F18+F19+F20+F21+F22+F23+J3+J4+J5+J6+J7+J8+J9+J10+J11+J12+J13+J14+J15+J16+J17+J18+J19+J20+J21+J22+J23)) -> 10.343786
N24: =SUM(F24+J24) -> 0 | O24: =SUM(G24+K24) -> 0 | P24: =SUM(G24/F24) -> #DIV/0! | Q24: =SUM(K24/J24) -> #DIV/0! | R24: =SUM(O24/N24) -> #DIV/0! | S24: =SUM((G3+G4+G5+G6+G7+G8+G9+G10+G11+G12+G13+G14+G15+G16+G17+G18+G19+G20+G21+G22+G23+G24+K3+K4+K5+K6+K7+K8+K9+K10+K11+K12+K13+K14+K15+K16+K17+K18+K19+K20+K21+K22+K23+K24)/(F3+F4+F5+F6+F7+F8+F9+F10+F11+F12+F13+F14+F15+F16+F17+F18+F19+F20+F21+F22+F23+F24+J3+J4+J5+J6+J7+J8+J9+J10+J11+J12+J13+J14+J15+J16+J17+J18+J19+J20+J21+J22+J23+J24)) -> 10.343786
B25: =SUM(B23+7) -> 46363 | N25: =SUM(F25+J25) -> 0 | O25: =SUM(G25+K25) -> 0 | P25: =SUM(G25/F25) -> #DIV/0! | Q25: =SUM(K25/J25) -> #DIV/0! | R25: =SUM(O25/N25) -> #DIV/0! | S25: =SUM((G3+G4+G5+G6+G7+G8+G9+G10+G11+G12+G13+G14+G15+G16+G17+G18+G19+G20+G21+G22+G23+G24+G25+K3+K4+K5+K6+K7+K8+K9+K10+K11+K12+K13+K14+K15+K16+K17+K18+K19+K20+K21+K22+K23+K24+K25)/(F3+F4+F5+F6+F7+F8+F9+F10+F11+F12+F13+F14+F15+F16+F17+F18+F19+F20+F21+F22+F23+F24+F25+J3+J4+J5+J6+J7+J8+J9+J10+J11+J12+J13+J14+J15+J16+J17+J18+J19+J20+J21+J22+J23+J24+J25)) -> 10.343786
N26: =SUM(F26+J26) -> 0 | O26: =SUM(G26+K26) -> 0 | P26: =SUM(G26/F26) -> #DIV/0! | Q26: =SUM(K26/J26) -> #DIV/0! | R26: =SUM(O26/N26) -> #DIV/0! | S26: =SUM((G3+G4+G5+G6+G7+G8+G9+G10+G11+G12+G13+G14+G15+G16+G17+G18+G19+G20+G21+G22+G23+G24+G25+G26+K3+K4+K5+K6+K7+K8+K9+K10+K11+K12+K13+K14+K15+K16+K17+K18+K19+K20+K21+K22+K23+K24+K25+K26)/(F3+F4+F5+F6+F7+F8+F9+F10+F11+F12+F13+F14+F15+F16+F17+F18+F19+F20+F21+F22+F23+F24+F25+F26+J3+J4+J5+J6+J7+J8+J9+J10+J11+J12+J13+J14+J15+J16+J17+J18+J19+J20+J21+J22+J23+J24+J25+J26)) -> 10.343786
B27: =SUM(B25+7) -> 46370 | N27: =SUM(F27+J27) -> 0 | O27: =SUM(G27+K27) -> 0 | P27: =SUM(G27/F27) -> #DIV/0! | Q27: =SUM(K27/J27) -> #DIV/0! | R27: =SUM(O27/N27) -> #DIV/0! | S27: =SUM((G3+G4+G5+G6+G7+G8+G9+G10+G11+G12+G13+G14+G15+G16+G17+G18+G19+G20+G21+G22+G23+G24+G25+G26+G27+K3+K4+K5+K6+K7+K8+K9+K10+K11+K12+K13+K14+K15+K16+K17+K18+K19+K20+K21+K22+K23+K24+K25+K26+K27)/(F3+F4+F5+F6+F7+F8+F9+F10+F11+F12+F13+F14+F15+F16+F17+F18+F19+F20+F21+F22+F23+F24+F25+F26+F27+J3+J4+J5+J6+J7+J8+J9+J10+J11+J12+J13+J14+J15+J16+J17+J18+J19+J20+J21+J22+J23+J24+J25+J26+J27)) -> 10.343786
N28: =SUM(F28+J28) -> 0 | O28: =SUM(G28+K28) -> 0 | P28: =SUM(G28/F28) -> #DIV/0! | Q28: =SUM(K28/J28) -> #DIV/0! | R28: =SUM(O28/N28) -> #DIV/0! | S28: =SUM((G3+G4+G5+G6+G7+G8+G9+G10+G11+G12+G13+G14+G15+G16+G17+G18+G19+G20+G21+G22+G23+G24+G25+G26+G27+G28+K3+K4+K5+K6+K7+K8+K9+K10+K11+K12+K13+K14+K15+K16+K17+K18+K19+K20+K21+K22+K23+K24+K25+K26+K27+K28)/(F3+F4+F5+F6+F7+F8+F9+F10+F11+F12+F13+F14+F15+F16+F17+F18+F19+F20+F21+F22+F23+F24+F25+F26+F27+F28+J3+J4+J5+J6+J7+J8+J9+J10+J11+J12+J13+J14+J15+J16+J17+J18+J19+J20+J21+J22+J23+J24+J25+J26+J27+J28)) -> 10.343786
B29: =SUM(B27+7) -> 46377 | N29: =SUM(F29+J29) -> 0 | O29: =SUM(G29+K29) -> 0 | P29: =SUM(G29/F29) -> #DIV/0! | Q29: =SUM(K29/J29) -> #DIV/0! | R29: =SUM(O29/N29) -> #DIV/0! | S29: =SUM((G3+G4+G5+G6+G7+G8+G9+G10+G11+G12+G13+G14+G15+G16+G17+G18+G19+G20+G21+G22+G23+G24+G25+G26+G27+G28+G29+K3+K4+K5+K6+K7+K8+K9+K10+K11+K12+K13+K14+K15+K16+K17+K18+K19+K20+K21+K22+K23+K24+K25+K26+K27+K28+K29)/(F3+F4+F5+F6+F7+F8+F9+F10+F11+F12+F13+F14+F15+F16+F17+F18+F19+F20+F21+F22+F23+F24+F25+F26+F27+F28+F29+J3+J4+J5+J6+J7+J8+J9+J10+J11+J12+J13+J14+J15+J16+J17+J18+J19+J20+J21+J22+J23+J24+J25+J26+J27+J28+J29)) -> 10.343786
N30: =SUM(F30+J30) -> 0 | O30: =SUM(G30+K30) -> 0 | P30: =SUM(G30/F30) -> #DIV/0! | Q30: =SUM(K30/J30) -> #DIV/0! | R30: =SUM(O30/N30) -> #DIV/0! | S30: =SUM((G3+G4+G5+G6+G7+G8+G9+G10+G11+G12+G13+G14+G15+G16+G17+G18+G19+G20+G21+G22+G23+G24+G25+G26+G27+G28+G29+G30+K3+K4+K5+K6+K7+K8+K9+K10+K11+K12+K13+K14+K15+K16+K17+K18+K19+K20+K21+K22+K23+K24+K25+K26+K27+K28+K29+K30)/(F3+F4+F5+F6+F7+F8+F9+F10+F11+F12+F13+F14+F15+F16+F17+F18+F19+F20+F21+F22+F23+F24+F25+F26+F27+F28+F29+F30+J3+J4+J5+J6+J7+J8+J9+J10+J11+J12+J13+J14+J15+J16+J17+J18+J19+J20+J21+J22+J23+J24+J25+J26+J27+J28+J29+J30)) -> 10.343786
B31: =SUM(B29+7) -> 46384 | N31: =SUM(F31+J31) -> 0 | O31: =SUM(G31+K31) -> 0 | P31: =SUM(G31/F31) -> #DIV/0! | Q31: =SUM(K31/J31) -> #DIV/0! | R31: =SUM(O31/N31) -> #DIV/0! | S31: =SUM((G3+G4+G5+G6+G7+G8+G9+G10+G11+G12+G13+G14+G15+G16+G17+G18+G19+G20+G21+G22+G23+G24+G25+G26+G27+G28+G29+G30+G31+K3+K4+K5+K6+K7+K8+K9+K10+K11+K12+K13+K14+K15+K16+K17+K18+K19+K20+K21+K22+K23+K24+K25+K26+K27+K28+K29+K30+K31)/(F3+F4+F5+F6+F7+F8+F9+F10+F11+F12+F13+F14+F15+F16+F17+F18+F19+F20+F21+F22+F23+F24+F25+F26+F27+F28+F29+F30+F31+J3+J4+J5+J6+J7+J8+J9+J10+J11+J12+J13+J14+J15+J16+J17+J18+J19+J20+J21+J22+J23+J24+J25+J26+J27+J28+J29+J30+J31)) -> 10.343786
N32: =SUM(F32+J32) -> 0 | O32: =SUM(G32+K32) -> 0 | P32: =SUM(G32/F32) -> #DIV/0! | Q32: =SUM(K32/J32) -> #DIV/0! | R32: =SUM(O32/N32) -> #DIV/0! | S32: =SUM((G3+G4+G5+G6+G7+G8+G9+G10+G11+G12+G13+G14+G15+G16+G17+G18+G19+G20+G21+G22+G23+G24+G25+G26+G27+G28+G29+G30+G31+G32+K3+K4+K5+K6+K7+K8+K9+K10+K11+K12+K13+K14+K15+K16+K17+K18+K19+K20+K21+K22+K23+K24+K25+K26+K27+K28+K29+K30+K31+K32)/(F3+F4+F5+F6+F7+F8+F9+F10+F11+F12+F13+F14+F15+F16+F17+F18+F19+F20+F21+F22+F23+F24+F25+F26+F27+F28+F29+F30+F31+F32+J3+J4+J5+J6+J7+J8+J9+J10+J11+J12+J13+J14+J15+J16+J17+J18+J19+J20+J21+J22+J23+J24+J25+J26+J27+J28+J29+J30+J31+J32)) -> 10.343786
B33: =SUM(B31+7) -> 46391 | N33: =SUM(F33+J33) -> 0 | O33: =SUM(G33+K33) -> 0 | P33: =SUM(G33/F33) -> #DIV/0! | Q33: =SUM(K33/J33) -> #DIV/0! | R33: =SUM(O33/N33) -> #DIV/0! | S33: =SUM((G3+G4+G5+G6+G7+G8+G9+G10+G11+G12+G13+G14+G15+G16+G17+G18+G19+G20+G21+G22+G23+G24+G25+G26+G27+G28+G29+G30+G31+G32+G33+K3+K4+K5+K6+K7+K8+K9+K10+K11+K12+K13+K14+K15+K16+K17+K18+K19+K20+K21+K22+K23+K24+K25+K26+K27+K28+K29+K30+K31+K32+K33)/(F3+F4+F5+F6+F7+F8+F9+F10+F11+F12+F13+F14+F15+F16+F17+F18+F19+F20+F21+F22+F23+F24+F25+F26+F27+F28+F29+F30+F31+F32+F33+J3+J4+J5+J6+J7+J8+J9+J10+J11+J12+J13+J14+J15+J16+J17+J18+J19+J20+J21+J22+J23+J24+J25+J26+J27+J28+J29+J30+J31+J32+J33)) -> 10.343786
N34: =SUM(F34+J34) -> 0 | O34: =SUM(G34+K34) -> 0 | P34: =SUM(G34/F34) -> #DIV/0! | Q34: =SUM(K34/J34) -> #DIV/0! | R34: =SUM(O34/N34) -> #DIV/0! | S34: =SUM((G3+G4+G5+G6+G7+G8+G9+G10+G11+G12+G13+G14+G15+G16+G17+G18+G19+G20+G21+G22+G23+G24+G25+G26+G27+G28+G29+G30+G31+G32+G33+G34+K3+K4+K5+K6+K7+K8+K9+K10+K11+K12+K13+K14+K15+K16+K17+K18+K19+K20+K21+K22+K23+K24+K25+K26+K27+K28+K29+K30+K31+K32+K33+K34)/(F3+F4+F5+F6+F7+F8+F9+F10+F11+F12+F13+F14+F15+F16+F17+F18+F19+F20+F21+F22+F23+F24+F25+F26+F27+F28+F29+F30+F31+F32+F33+F34+J3+J4+J5+J6+J7+J8+J9+J10+J11+J12+J13+J14+J15+J16+J17+J18+J19+J20+J21+J22+J23+J24+J25+J26+J27+J28+J29+J30+J31+J32+J33+J34)) -> 10.343786
B35: =SUM(B33+7) -> 46398 | N35: =SUM(F35+J35) -> 0 | O35: =SUM(G35+K35) -> 0 | P35: =SUM(G35/F35) -> #DIV/0! | Q35: =SUM(K35/J35) -> #DIV/0! | R35: =SUM(O35/N35) -> #DIV/0! | S35: =SUM((G3+G4+G5+G6+G7+G8+G9+G10+G11+G12+G13+G14+G15+G16+G17+G18+G19+G20+G21+G22+G23+G24+G25+G26+G27+G28+G29+G30+G31+G32+G33+G34+G35+K3+K4+K5+K6+K7+K8+K9+K10+K11+K12+K13+K14+K15+K16+K17+K18+K19+K20+K21+K22+K23+K24+K25+K26+K27+K28+K29+K30+K31+K32+K33+K34+K35)/(F3+F4+F5+F6+F7+F8+F9+F10+F11+F12+F13+F14+F15+F16+F17+F18+F19+F20+F21+F22+F23+F24+F25+F26+F27+F28+F29+F30+F31+F32+F33+F34+F35+J3+J4+J5+J6+J7+J8+J9+J10+J11+J12+J13+J14+J15+J16+J17+J18+J19+J20+J21+J22+J23+J24+J25+J26+J27+J28+J29+J30+J31+J32+J33+J34+J35)) -> 10.343786
N36: =SUM(F36+J36) -> 0 | O36: =SUM(G36+K36) -> 0 | P36: =SUM(G36/F36) -> #DIV/0! | Q36: =SUM(K36/J36) -> #DIV/0! | R36: =SUM(O36/N36) -> #DIV/0! | S36: =SUM((G3+G4+G5+G6+G7+G8+G9+G10+G11+G12+G13+G14+G15+G16+G17+G18+G19+G20+G21+G22+G23+G24+G25+G26+G27+G28+G29+G30+G31+G32+G33+G34+G35+G36+K3+K4+K5+K6+K7+K8+K9+K10+K11+K12+K13+K14+K15+K16+K17+K18+K19+K20+K21+K22+K23+K24+K25+K26+K27+K28+K29+K30+K31+K32+K33+K34+K35+K36)/(F3+F4+F5+F6+F7+F8+F9+F10+F11+F12+F13+F14+F15+F16+F17+F18+F19+F20+F21+F22+F23+F24+F25+F26+F27+F28+F29+F30+F31+F32+F33+F34+F35+F36+J3+J4+J5+J6+J7+J8+J9+J10+J11+J12+J13+J14+J15+J16+J17+J18+J19+J20+J21+J22+J23+J24+J25+J26+J27+J28+J29+J30+J31+J32+J33+J34+J35+J36)) -> 10.343786
B37: =SUM(B35+7) -> 46405 | N37: =SUM(F37+J37) -> 0 | O37: =SUM(G37+K37) -> 0 | P37: =SUM(G37/F37) -> #DIV/0! | Q37: =SUM(K37/J37) -> #DIV/0! | R37: =SUM(O37/N37) -> #DIV/0! | S37: =SUM((G3+G4+G5+G6+G7+G8+G9+G10+G11+G12+G13+G14+G15+G16+G17+G18+G19+G20+G21+G22+G23+G24+G25+G26+G27+G28+G29+G30+G31+G32+G33+G34+G35+G36+G37+K3+K4+K5+K6+K7+K8+K9+K10+K11+K12+K13+K14+K15+K16+K17+K18+K19+K20+K21+K22+K23+K24+K25+K26+K27+K28+K29+K30+K31+K32+K33+K34+K35+K36+K37)/(F3+F4+F5+F6+F7+F8+F9+F10+F11+F12+F13+F14+F15+F16+F17+F18+F19+F20+F21+F22+F23+F24+F25+F26+F27+F28+F29+F30+F31+F32+F33+F34+F35+F36+F37+J3+J4+J5+J6+J7+J8+J9+J10+J11+J12+J13+J14+J15+J16+J17+J18+J19+J20+J21+J22+J23+J24+J25+J26+J27+J28+J29+J30+J31+J32+J33+J34+J35+J36+J37)) -> 10.343786
N38: =SUM(F38+J38) -> 0 | O38: =SUM(G38+K38) -> 0 | P38: =SUM(G38/F38) -> #DIV/0! | Q38: =SUM(K38/J38) -> #DIV/0! | R38: =SUM(O38/N38) -> #DIV/0! | S38: =SUM((G3+G4+G5+G6+G7+G8+G9+G10+G11+G12+G13+G14+G15+G16+G17+G18+G19+G20+G21+G22+G23+G24+G25+G26+G27+G28+G29+G30+G31+G32+G33+G34+G35+G36+G37+G38+K3+K4+K5+K6+K7+K8+K9+K10+K11+K12+K13+K14+K15+K16+K17+K18+K19+K20+K21+K22+K23+K24+K25+K26+K27+K28+K29+K30+K31+K32+K33+K34+K35+K36+K37+K38)/(F3+F4+F5+F6+F7+F8+F9+F10+F11+F12+F13+F14+F15+F16+F17+F18+F19+F20+F21+F22+F23+F24+F25+F26+F27+F28+F29+F30+F31+F32+F33+F34+F35+F36+F37+F38+J3+J4+J5+J6+J7+J8+J9+J10+J11+J12+J13+J14+J15+J16+J17+J18+J19+J20+J21+J22+J23+J24+J25+J26+J27+J28+J29+J30+J31+J32+J33+J34+J35+J36+J37+J38)) -> 10.343786
B39: =SUM(B37+7) -> 46412 | N39: =SUM(F39+J39) -> 0 | O39: =SUM(G39+K39) -> 0 | P39: =SUM(G39/F39) -> #DIV/0! | Q39: =SUM(K39/J39) -> #DIV/0! | R39: =SUM(O39/N39) -> #DIV/0! | S39: =SUM((G3+G4+G5+G6+G7+G8+G9+G10+G11+G12+G13+G14+G15+G16+G17+G18+G19+G20+G21+G22+G23+G24+G25+G26+G27+G28+G29+G30+G31+G32+G33+G34+G35+G36+G37+G38+G39+K3+K4+K5+K6+K7+K8+K9+K10+K11+K12+K13+K14+K15+K16+K17+K18+K19+K20+K21+K22+K23+K24+K25+K26+K27+K28+K29+K30+K31+K32+K33+K34+K35+K36+K37+K38+K39)/(F3+F4+F5+F6+F7+F8+F9+F10+F11+F12+F13+F14+F15+F16+F17+F18+F19+F20+F21+F22+F23+F24+F25+F26+F27+F28+F29+F30+F31+F32+F33+F34+F35+F36+F37+F38+F39+J3+J4+J5+J6+J7+J8+J9+J10+J11+J12+J13+J14+J15+J16+J17+J18+J19+J20+J21+J22+J23+J24+J25+J26+J27+J28+J29+J30+J31+J32+J33+J34+J35+J36+J37+J38+J39)) -> 10.343786
N40: =SUM(F40+J40) -> 0 | O40: =SUM(G40+K40) -> 0 | P40: =SUM(G40/F40) -> #DIV/0! | Q40: =SUM(K40/J40) -> #DIV/0! | R40: =SUM(O40/N40) -> #DIV/0! | S40: =SUM((G3+G4+G5+G6+G7+G8+G9+G10+G11+G12+G13+G14+G15+G16+G17+G18+G19+G20+G21+G22+G23+G24+G25+G26+G27+G28+G29+G30+G31+G32+G33+G34+G35+G36+G37+G38+G39+G40+K3+K4+K5+K6+K7+K8+K9+K10+K11+K12+K13+K14+K15+K16+K17+K18+K19+K20+K21+K22+K23+K24+K25+K26+K27+K28+K29+K30+K31+K32+K33+K34+K35+K36+K37+K38+K39+K40)/(F3+F4+F5+F6+F7+F8+F9+F10+F11+F12+F13+F14+F15+F16+F17+F18+F19+F20+F21+F22+F23+F24+F25+F26+F27+F28+F29+F30+F31+F32+F33+F34+F35+F36+F37+F38+F39+F40+J3+J4+J5+J6+J7+J8+J9+J10+J11+J12+J13+J14+J15+J16+J17+J18+J19+J20+J21+J22+J23+J24+J25+J26+J27+J28+J29+J30+J31+J32+J33+J34+J35+J36+J37+J38+J39+J40)) -> 10.343786
B41: =SUM(B39+7) -> 46419 | N41: =SUM(F41+J41) -> 0 | O41: =SUM(G41+K41) -> 0 | P41: =SUM(G41/F41) -> #DIV/0! | Q41: =SUM(K41/J41) -> #DIV/0! | R41: =SUM(O41/N41) -> #DIV/0! | S41: =SUM((G3+G4+G5+G6+G7+G8+G9+G10+G11+G12+G13+G14+G15+G16+G17+G18+G19+G20+G21+G22+G23+G24+G25+G26+G27+G28+G29+G30+G31+G32+G33+G34+G35+G36+G37+G38+G39+G40+G41+K3+K4+K5+K6+K7+K8+K9+K10+K11+K12+K13+K14+K15+K16+K17+K18+K19+K20+K21+K22+K23+K24+K25+K26+K27+K28+K29+K30+K31+K32+K33+K34+K35+K36+K37+K38+K39+K40+K41)/(F3+F4+F5+F6+F7+F8+F9+F10+F11+F12+F13+F14+F15+F16+F17+F18+F19+F20+F21+F22+F23+F24+F25+F26+F27+F28+F29+F30+F31+F32+F33+F34+F35+F36+F37+F38+F39+F40+F41+J3+J4+J5+J6+J7+J8+J9+J10+J11+J12+J13+J14+J15+J16+J17+J18+J19+J20+J21+J22+J23+J24+J25+J26+J27+J28+J29+J30+J31+J32+J33+J34+J35+J36+J37+J38+J39+J40+J41)) -> 10.343786
N42: =SUM(F42+J42) -> 0 | O42: =SUM(G42+K42) -> 0 | P42: =SUM(G42/F42) -> #DIV/0! | Q42: =SUM(K42/J42) -> #DIV/0! | R42: =SUM(O42/N42) -> #DIV/0! | S42: =SUM((G3+G4+G5+G6+G7+G8+G9+G10+G11+G12+G13+G14+G15+G16+G17+G18+G19+G20+G21+G22+G23+G24+G25+G26+G27+G28+G29+G30+G31+G32+G33+G34+G35+G36+G37+G38+G39+G40+G41+G42+K3+K4+K5+K6+K7+K8+K9+K10+K11+K12+K13+K14+K15+K16+K17+K18+K19+K20+K21+K22+K23+K24+K25+K26+K27+K28+K29+K30+K31+K32+K33+K34+K35+K36+K37+K38+K39+K40+K41+K42)/(F3+F4+F5+F6+F7+F8+F9+F10+F11+F12+F13+F14+F15+F16+F17+F18+F19+F20+F21+F22+F23+F24+F25+F26+F27+F28+F29+F30+F31+F32+F33+F34+F35+F36+F37+F38+F39+F40+F41+F42+J3+J4+J5+J6+J7+J8+J9+J10+J11+J12+J13+J14+J15+J16+J17+J18+J19+J20+J21+J22+J23+J24+J25+J26+J27+J28+J29+J30+J31+J32+J33+J34+J35+J36+J37+J38+J39+J40+J41+J42)) -> 10.343786
N43: =SUM(F43+J43) -> 0 | O43: =SUM(G43+K43) -> 0 | P43: =SUM(G43/F43) -> #DIV/0! | Q43: =SUM(K43/J43) -> #DIV/0! | R43: =SUM(O43/N43) -> #DIV/0! | S43: =SUM((G3+G4+G5+G6+G7+G8+G9+G10+G11+G12+G13+G14+G15+G16+G17+G18+G19+G20+G21+G22+G23+G24+G25+G26+G27+G28+G29+G30+G31+G32+G33+G34+G35+G36+G37+G38+G39+G40+G41+G42+G43+K3+K4+K5+K6+K7+K8+K9+K10+K11+K12+K13+K14+K15+K16+K17+K18+K19+K20+K21+K22+K23+K24+K25+K26+K27+K28+K29+K30+K31+K32+K33+K34+K35+K36+K37+K38+K39+K40+K41+K42+K43)/(F3+F4+F5+F6+F7+F8+F9+F10+F11+F12+F13+F14+F15+F16+F17+F18+F19+F20+F21+F22+F23+F24+F25+F26+F27+F28+F29+F30+F31+F32+F33+F34+F35+F36+F37+F38+F39+F40+F41+F42+F43+J3+J4+J5+J6+J7+J8+J9+J10+J11+J12+J13+J14+J15+J16+J17+J18+J19+J20+J21+J22+J23+J24+J25+J26+J27+J28+J29+J30+J31+J32+J33+J34+J35+J36+J37+J38+J39+J40+J41+J42+J43)) -> 10.343786
N44: =SUM(F44+J44) -> 0 | O44: =SUM(G44+K44) -> 0 | P44: =SUM(G44/F44) -> #DIV/0! | Q44: =SUM(K44/J44) -> #DIV/0! | R44: =SUM(O44/N44) -> #DIV/0! | S44: =SUM((G3+G4+G5+G6+G7+G8+G9+G10+G11+G12+G13+G14+G15+G16+G17+G18+G19+G20+G21+G22+G23+G24+G25+G26+G27+G28+G29+G30+G31+G32+G33+G34+G35+G36+G37+G38+G39+G40+G41+G42+G43+G44+K3+K4+K5+K6+K7+K8+K9+K10+K11+K12+K13+K14+K15+K16+K17+K18+K19+K20+K21+K22+K23+K24+K25+K26+K27+K28+K29+K30+K31+K32+K33+K34+K35+K36+K37+K38+K39+K40+K41+K42+K43+K44)/(F3+F4+F5+F6+F7+F8+F9+F10+F11+F12+F13+F14+F15+F16+F17+F18+F19+F20+F21+F22+F23+F24+F25+F26+F27+F28+F29+F30+F31+F32+F33+F34+F35+F36+F37+F38+F39+F40+F41+F42+F43+F44+J3+J4+J5+J6+J7+J8+J9+J10+J11+J12+J13+J14+J15+J16+J17+J18+J19+J20+J21+J22+J23+J24+J25+J26+J27+J28+J29+J30+J31+J32+J33+J34+J35+J36+J37+J38+J39+J40+J41+J42+J43+J44)) -> 10.343786
N45: =SUM(F45+J45) -> 0 | O45: =SUM(G45+K45) -> 0 | P45: =SUM(G45/F45) -> #DIV/0! | Q45: =SUM(K45/J45) -> #DIV/0! | R45: =SUM(O45/N45) -> #DIV/0! | S45: =SUM((G3+G4+G5+G6+G7+G8+G9+G10+G11+G12+G13+G14+G15+G16+G17+G18+G19+G20+G21+G22+G23+G24+G25+G26+G27+G28+G29+G30+G31+G32+G33+G34+G35+G36+G37+G38+G39+G40+G41+G42+G43+G44+G45+K3+K4+K5+K6+K7+K8+K9+K10+K11+K12+K13+K14+K15+K16+K17+K18+K19+K20+K21+K22+K23+K24+K25+K26+K27+K28+K29+K30+K31+K32+K33+K34+K35+K36+K37+K38+K39+K40+K41+K42+K43+K44+K45)/(F3+F4+F5+F6+F7+F8+F9+F10+F11+F12+F13+F14+F15+F16+F17+F18+F19+F20+F21+F22+F23+F24+F25+F26+F27+F28+F29+F30+F31+F32+F33+F34+F35+F36+F37+F38+F39+F40+F41+F42+F43+F44+F45+J3+J4+J5+J6+J7+J8+J9+J10+J11+J12+J13+J14+J15+J16+J17+J18+J19+J20+J21+J22+J23+J24+J25+J26+J27+J28+J29+J30+J31+J32+J33+J34+J35+J36+J37+J38+J39+J40+J41+J42+J43+J44+J45)) -> 10.343786
N46: =SUM(F46+J46) -> 0 | O46: =SUM(G46+K46) -> 0 | P46: =SUM(G46/F46) -> #DIV/0! | Q46: =SUM(K46/J46) -> #DIV/0! | R46: =SUM(O46/N46) -> #DIV/0! | S46: =SUM((G3+G4+G5+G6+G7+G8+G9+G10+G11+G12+G13+G14+G15+G16+G17+G18+G19+G20+G21+G22+G23+G24+G25+G26+G27+G28+G29+G30+G31+G32+G33+G34+G35+G36+G37+G38+G39+G40+G41+G42+G43+G44+G45+G46+K3+K4+K5+K6+K7+K8+K9+K10+K11+K12+K13+K14+K15+K16+K17+K18+K19+K20+K21+K22+K23+K24+K25+K26+K27+K28+K29+K30+K31+K32+K33+K34+K35+K36+K37+K38+K39+K40+K41+K42+K43+K44+K45+K46)/(F3+F4+F5+F6+F7+F8+F9+F10+F11+F12+F13+F14+F15+F16+F17+F18+F19+F20+F21+F22+F23+F24+F25+F26+F27+F28+F29+F30+F31+F32+F33+F34+F35+F36+F37+F38+F39+F40+F41+F42+F43+F44+F45+F46+J3+J4+J5+J6+J7+J8+J9+J10+J11+J12+J13+J14+J15+J16+J17+J18+J19+J20+J21+J22+J23+J24+J25+J26+J27+J28+J29+J30+J31+J32+J33+J34+J35+J36+J37+J38+J39+J40+J41+J42+J43+J44+J45+J46)) -> 10.343786
N47: =SUM(F47+J47) -> 0 | O47: =SUM(G47+K47) -> 0 | P47: =SUM(G47/F47) -> #DIV/0! | Q47: =SUM(K47/J47) -> #DIV/0! | R47: =SUM(O47/N47) -> #DIV/0! | S47: =SUM((G3+G4+G5+G6+G7+G8+G9+G10+G11+G12+G13+G14+G15+G16+G17+G18+G19+G20+G21+G22+G23+G24+G25+G26+G27+G28+G29+G30+G31+G32+G33+G34+G35+G36+G37+G38+G39+G40+G41+G42+G43+G44+G45+G46+G47+K3+K4+K5+K6+K7+K8+K9+K10+K11+K12+K13+K14+K15+K16+K17+K18+K19+K20+K21+K22+K23+K24+K25+K26+K27+K28+K29+K30+K31+K32+K33+K34+K35+K36+K37+K38+K39+K40+K41+K42+K43+K44+K45+K46+K47)/(F3+F4+F5+F6+F7+F8+F9+F10+F11+F12+F13+F14+F15+F16+F17+F18+F19+F20+F21+F22+F23+F24+F25+F26+F27+F28+F29+F30+F31+F32+F33+F34+F35+F36+F37+F38+F39+F40+F41+F42+F43+F44+F45+F46+F47+J3+J4+J5+J6+J7+J8+J9+J10+J11+J12+J13+J14+J15+J16+J17+J18+J19+J20+J21+J22+J23+J24+J25+J26+J27+J28+J29+J30+J31+J32+J33+J34+J35+J36+J37+J38+J39+J40+J41+J42+J43+J44+J45+J46+J47)) -> 10.343786
N48: =SUM(F48+J48) -> 0 | O48: =SUM(G48+K48) -> 0 | P48: =SUM(G48/F48) -> #DIV/0! | Q48: =SUM(K48/J48) -> #DIV/0! | R48: =SUM(O48/N48) -> #DIV/0! | S48: =SUM((G3+G4+G5+G6+G7+G8+G9+G10+G11+G12+G13+G14+G15+G16+G17+G18+G19+G20+G21+G22+G23+G24+G25+G26+G27+G28+G29+G30+G31+G32+G33+G34+G35+G36+G37+G38+G39+G40+G41+G42+G43+G44+G45+G46+G47+G48+K3+K4+K5+K6+K7+K8+K9+K10+K11+K12+K13+K14+K15+K16+K17+K18+K19+K20+K21+K22+K23+K24+K25+K26+K27+K28+K29+K30+K31+K32+K33+K34+K35+K36+K37+K38+K39+K40+K41+K42+K43+K44+K45+K46+K47+K48)/(F3+F4+F5+F6+F7+F8+F9+F10+F11+F12+F13+F14+F15+F16+F17+F18+F19+F20+F21+F22+F23+F24+F25+F26+F27+F28+F29+F30+F31+F32+F33+F34+F35+F36+F37+F38+F39+F40+F41+F42+F43+F44+F45+F46+F47+F48+J3+J4+J5+J6+J7+J8+J9+J10+J11+J12+J13+J14+J15+J16+J17+J18+J19+J20+J21+J22+J23+J24+J25+J26+J27+J28+J29+J30+J31+J32+J33+J34+J35+J36+J37+J38+J39+J40+J41+J42+J43+J44+J45+J46+J47+J48)) -> 10.343786
N49: =SUM(F49+J49) -> 0 | O49: =SUM(G49+K49) -> 0 | P49: =SUM(G49/F49) -> #DIV/0! | Q49: =SUM(K49/J49) -> #DIV/0! | R49: =SUM(O49/N49) -> #DIV/0! | S49: =SUM((G3+G4+G5+G6+G7+G8+G9+G10+G11+G12+G13+G14+G15+G16+G17+G18+G19+G20+G21+G22+G23+G24+G25+G26+G27+G28+G29+G30+G31+G32+G33+G34+G35+G36+G37+G38+G39+G40+G41+G42+G43+G44+G45+G46+G47+G48+G49+K3+K4+K5+K6+K7+K8+K9+K10+K11+K12+K13+K14+K15+K16+K17+K18+K19+K20+K21+K22+K23+K24+K25+K26+K27+K28+K29+K30+K31+K32+K33+K34+K35+K36+K37+K38+K39+K40+K41+K42+K43+K44+K45+K46+K47+K48+K49)/(F3+F4+F5+F6+F7+F8+F9+F10+F11+F12+F13+F14+F15+F16+F17+F18+F19+F20+F21+F22+F23+F24+F25+F26+F27+F28+F29+F30+F31+F32+F33+F34+F35+F36+F37+F38+F39+F40+F41+F42+F43+F44+F45+F46+F47+F48+F49+J3+J4+J5+J6+J7+J8+J9+J10+J11+J12+J13+J14+J15+J16+J17+J18+J19+J20+J21+J22+J23+J24+J25+J26+J27+J28+J29+J30+J31+J32+J33+J34+J35+J36+J37+J38+J39+J40+J41+J42+J43+J44+J45+J46+J47+J48+J49)) -> 10.343786
N50: =SUM(F50+J50) -> 0 | O50: =SUM(G50+K50) -> 0 | P50: =SUM(G50/F50) -> #DIV/0! | Q50: =SUM(K50/J50) -> #DIV/0! | R50: =SUM(O50/N50) -> #DIV/0! | S50: =SUM((G3+G4+G5+G6+G7+G8+G9+G10+G11+G12+G13+G14+G15+G16+G17+G18+G19+G20+G21+G22+G23+G24+G25+G26+G27+G28+G29+G30+G31+G32+G33+G34+G35+G36+G37+G38+G39+G40+G41+G42+G43+G44+G45+G46+G47+G48+G49+G50+K3+K4+K5+K6+K7+K8+K9+K10+K11+K12+K13+K14+K15+K16+K17+K18+K19+K20+K21+K22+K23+K24+K25+K26+K27+K28+K29+K30+K31+K32+K33+K34+K35+K36+K37+K38+K39+K40+K41+K42+K43+K44+K45+K46+K47+K48+K49+K50)/(F3+F4+F5+F6+F7+F8+F9+F10+F11+F12+F13+F14+F15+F16+F17+F18+F19+F20+F21+F22+F23+F24+F25+F26+F27+F28+F29+F30+F31+F32+F33+F34+F35+F36+F37+F38+F39+F40+F41+F42+F43+F44+F45+F46+F47+F48+F49+F50+J3+J4+J5+J6+J7+J8+J9+J10+J11+J12+J13+J14+J15+J16+J17+J18+J19+J20+J21+J22+J23+J24+J25+J26+J27+J28+J29+J30+J31+J32+J33+J34+J35+J36+J37+J38+J39+J40+J41+J42+J43+J44+J45+J46+J47+J48+J49+J50)) -> 10.343786
N51: =SUM(F51+J51) -> 0 | O51: =SUM(G51+K51) -> 0 | P51: =SUM(G51/F51) -> #DIV/0! | Q51: =SUM(K51/J51) -> #DIV/0! | R51: =SUM(O51/N51) -> #DIV/0! | S51: =SUM((G3+G4+G5+G6+G7+G8+G9+G10+G11+G12+G13+G14+G15+G16+G17+G18+G19+G20+G21+G22+G23+G24+G25+G26+G27+G28+G29+G30+G31+G32+G33+G34+G35+G36+G37+G38+G39+G40+G41+G42+G43+G44+G45+G46+G47+G48+G49+G50+G51+K3+K4+K5+K6+K7+K8+K9+K10+K11+K12+K13+K14+K15+K16+K17+K18+K19+K20+K21+K22+K23+K24+K25+K26+K27+K28+K29+K30+K31+K32+K33+K34+K35+K36+K37+K38+K39+K40+K41+K42+K43+K44+K45+K46+K47+K48+K49+K50+K51)/(F3+F4+F5+F6+F7+F8+F9+F10+F11+F12+F13+F14+F15+F16+F17+F18+F19+F20+F21+F22+F23+F24+F25+F26+F27+F28+F29+F30+F31+F32+F33+F34+F35+F36+F37+F38+F39+F40+F41+F42+F43+F44+F45+F46+F47+F48+F49+F50+F51+J3+J4+J5+J6+J7+J8+J9+J10+J11+J12+J13+J14+J15+J16+J17+J18+J19+J20+J21+J22+J23+J24+J25+J26+J27+J28+J29+J30+J31+J32+J33+J34+J35+J36+J37+J38+J39+J40+J41+J42+J43+J44+J45+J46+J47+J48+J49+J50+J51)) -> 10.343786
N52: =SUM(F52+J52) -> 0 | O52: =SUM(G52+K52) -> 0 | P52: =SUM(G52/F52) -> #DIV/0! | Q52: =SUM(K52/J52) -> #DIV/0! | R52: =SUM(O52/N52) -> #DIV/0! | S52: =SUM((G3+G4+G5+G6+G7+G8+G9+G10+G11+G12+G13+G14+G15+G16+G17+G18+G19+G20+G21+G22+G23+G24+G25+G26+G27+G28+G29+G30+G31+G32+G33+G34+G35+G36+G37+G38+G39+G40+G41+G42+G43+G44+G45+G46+G47+G48+G49+G50+G51+G52+K3+K4+K5+K6+K7+K8+K9+K10+K11+K12+K13+K14+K15+K16+K17+K18+K19+K20+K21+K22+K23+K24+K25+K26+K27+K28+K29+K30+K31+K32+K33+K34+K35+K36+K37+K38+K39+K40+K41+K42+K43+K44+K45+K46+K47+K48+K49+K50+K51+K52)/(F3+F4+F5+F6+F7+F8+F9+F10+F11+F12+F13+F14+F15+F16+F17+F18+F19+F20+F21+F22+F23+F24+F25+F26+F27+F28+F29+F30+F31+F32+F33+F34+F35+F36+F37+F38+F39+F40+F41+F42+F43+F44+F45+F46+F47+F48+F49+F50+F51+F52+J3+J4+J5+J6+J7+J8+J9+J10+J11+J12+J13+J14+J15+J16+J17+J18+J19+J20+J21+J22+J23+J24+J25+J26+J27+J28+J29+J30+J31+J32+J33+J34+J35+J36+J37+J38+J39+J40+J41+J42+J43+J44+J45+J46+J47+J48+J49+J50+J51+J52)) -> 10.343786
N53: =SUM(F53+J53) -> 0 | O53: =SUM(G53+K53) -> 0 | P53: =SUM(G53/F53) -> #DIV/0! | Q53: =SUM(K53/J53) -> #DIV/0! | R53: =SUM(O53/N53) -> #DIV/0! | S53: =SUM((G3+G4+G5+G6+G7+G8+G9+G10+G11+G12+G13+G14+G15+G16+G17+G18+G19+G20+G21+G22+G23+G24+G25+G26+G27+G28+G29+G30+G31+G32+G33+G34+G35+G36+G37+G38+G39+G40+G41+G42+G43+G44+G45+G46+G47+G48+G49+G50+G51+G52+G53+K3+K4+K5+K6+K7+K8+K9+K10+K11+K12+K13+K14+K15+K16+K17+K18+K19+K20+K21+K22+K23+K24+K25+K26+K27+K28+K29+K30+K31+K32+K33+K34+K35+K36+K37+K38+K39+K40+K41+K42+K43+K44+K45+K46+K47+K48+K49+K50+K51+K52+K53)/(F3+F4+F5+F6+F7+F8+F9+F10+F11+F12+F13+F14+F15+F16+F17+F18+F19+F20+F21+F22+F23+F24+F25+F26+F27+F28+F29+F30+F31+F32+F33+F34+F35+F36+F37+F38+F39+F40+F41+F42+F43+F44+F45+F46+F47+F48+F49+F50+F51+F52+F53+J3+J4+J5+J6+J7+J8+J9+J10+J11+J12+J13+J14+J15+J16+J17+J18+J19+J20+J21+J22+J23+J24+J25+J26+J27+J28+J29+J30+J31+J32+J33+J34+J35+J36+J37+J38+J39+J40+J41+J42+J43+J44+J45+J46+J47+J48+J49+J50+J51+J52+J53)) -> 10.343786
N54: =SUM(F54+J54) -> 0 | O54: =SUM(G54+K54) -> 0 | P54: =SUM(G54/F54) -> #DIV/0! | Q54: =SUM(K54/J54) -> #DIV/0! | R54: =SUM(O54/N54) -> #DIV/0! | S54: =SUM((G3+G4+G5+G6+G7+G8+G9+G10+G11+G12+G13+G14+G15+G16+G17+G18+G19+G20+G21+G22+G23+G24+G25+G26+G27+G28+G29+G30+G31+G32+G33+G34+G35+G36+G37+G38+G39+G40+G41+G42+G43+G44+G45+G46+G47+G48+G49+G50+G51+G52+G53+G54+K3+K4+K5+K6+K7+K8+K9+K10+K11+K12+K13+K14+K15+K16+K17+K18+K19+K20+K21+K22+K23+K24+K25+K26+K27+K28+K29+K30+K31+K32+K33+K34+K35+K36+K37+K38+K39+K40+K41+K42+K43+K44+K45+K46+K47+K48+K49+K50+K51+K52+K53+K54)/(F3+F4+F5+F6+F7+F8+F9+F10+F11+F12+F13+F14+F15+F16+F17+F18+F19+F20+F21+F22+F23+F24+F25+F26+F27+F28+F29+F30+F31+F32+F33+F34+F35+F36+F37+F38+F39+F40+F41+F42+F43+F44+F45+F46+F47+F48+F49+F50+F51+F52+F53+F54+J3+J4+J5+J6+J7+J8+J9+J10+J11+J12+J13+J14+J15+J16+J17+J18+J19+J20+J21+J22+J23+J24+J25+J26+J27+J28+J29+J30+J31+J32+J33+J34+J35+J36+J37+J38+J39+J40+J41+J42+J43+J44+J45+J46+J47+J48+J49+J50+J51+J52+J53+J54)) -> 10.343786
N55: =SUM(F55+J55) -> 0 | O55: =SUM(G55+K55) -> 0 | P55: =SUM(G55/F55) -> #DIV/0! | Q55: =SUM(K55/J55) -> #DIV/0! | R55: =SUM(O55/N55) -> #DIV/0! | S55: =SUM((G3+G4+G5+G6+G7+G8+G9+G10+G11+G12+G13+G14+G15+G16+G17+G18+G19+G20+G21+G22+G23+G24+G25+G26+G27+G28+G29+G30+G31+G32+G33+G34+G35+G36+G37+G38+G39+G40+G41+G42+G43+G44+G45+G46+G47+G48+G49+G50+G51+G52+G53+G54+G55+K3+K4+K5+K6+K7+K8+K9+K10+K11+K12+K13+K14+K15+K16+K17+K18+K19+K20+K21+K22+K23+K24+K25+K26+K27+K28+K29+K30+K31+K32+K33+K34+K35+K36+K37+K38+K39+K40+K41+K42+K43+K44+K45+K46+K47+K48+K49+K50+K51+K52+K53+K54+K55)/(F3+F4+F5+F6+F7+F8+F9+F10+F11+F12+F13+F14+F15+F16+F17+F18+F19+F20+F21+F22+F23+F24+F25+F26+F27+F28+F29+F30+F31+F32+F33+F34+F35+F36+F37+F38+F39+F40+F41+F42+F43+F44+F45+F46+F47+F48+F49+F50+F51+F52+F53+F54+F55+J3+J4+J5+J6+J7+J8+J9+J10+J11+J12+J13+J14+J15+J16+J17+J18+J19+J20+J21+J22+J23+J24+J25+J26+J27+J28+J29+J30+J31+J32+J33+J34+J35+J36+J37+J38+J39+J40+J41+J42+J43+J44+J45+J46+J47+J48+J49+J50+J51+J52+J53+J54+J55)) -> 10.343786
N56: =SUM(F56+J56) -> 0 | O56: =SUM(G56+K56) -> 0 | P56: =SUM(G56/F56) -> #DIV/0! | Q56: =SUM(K56/J56) -> #DIV/0! | R56: =SUM(O56/N56) -> #DIV/0! | S56: =SUM((G3+G4+G5+G6+G7+G8+G9+G10+G11+G12+G13+G14+G15+G16+G17+G18+G19+G20+G21+G22+G23+G24+G25+G26+G27+G28+G29+G30+G31+G32+G33+G34+G35+G36+G37+G38+G39+G40+G41+G42+G43+G44+G45+G46+G47+G48+G49+G50+G51+G52+G53+G54+G55+G56+K3+K4+K5+K6+K7+K8+K9+K10+K11+K12+K13+K14+K15+K16+K17+K18+K19+K20+K21+K22+K23+K24+K25+K26+K27+K28+K29+K30+K31+K32+K33+K34+K35+K36+K37+K38+K39+K40+K41+K42+K43+K44+K45+K46+K47+K48+K49+K50+K51+K52+K53+K54+K55+K56)/(F3+F4+F5+F6+F7+F8+F9+F10+F11+F12+F13+F14+F15+F16+F17+F18+F19+F20+F21+F22+F23+F24+F25+F26+F27+F28+F29+F30+F31+F32+F33+F34+F35+F36+F37+F38+F39+F40+F41+F42+F43+F44+F45+F46+F47+F48+F49+F50+F51+F52+F53+F54+F55+F56+J3+J4+J5+J6+J7+J8+J9+J10+J11+J12+J13+J14+J15+J16+J17+J18+J19+J20+J21+J22+J23+J24+J25+J26+J27+J28+J29+J30+J31+J32+J33+J34+J35+J36+J37+J38+J39+J40+J41+J42+J43+J44+J45+J46+J47+J48+J49+J50+J51+J52+J53+J54+J55+J56)) -> 10.343786
N57: =SUM(F57+J57) -> 0 | O57: =SUM(G57+K57) -> 0 | P57: =SUM(G57/F57) -> #DIV/0! | Q57: =SUM(K57/J57) -> #DIV/0! | R57: =SUM(O57/N57) -> #DIV/0! | S57: =SUM((G3+G4+G5+G6+G7+G8+G9+G10+G11+G12+G13+G14+G15+G16+G17+G18+G19+G20+G21+G22+G23+G24+G25+G26+G27+G28+G29+G30+G31+G32+G33+G34+G35+G36+G37+G38+G39+G40+G41+G42+G43+G44+G45+G46+G47+G48+G49+G50+G51+G52+G53+G54+G55+G56+G57+K3+K4+K5+K6+K7+K8+K9+K10+K11+K12+K13+K14+K15+K16+K17+K18+K19+K20+K21+K22+K23+K24+K25+K26+K27+K28+K29+K30+K31+K32+K33+K34+K35+K36+K37+K38+K39+K40+K41+K42+K43+K44+K45+K46+K47+K48+K49+K50+K51+K52+K53+K54+K55+K56+K57)/(F3+F4+F5+F6+F7+F8+F9+F10+F11+F12+F13+F14+F15+F16+F17+F18+F19+F20+F21+F22+F23+F24+F25+F26+F27+F28+F29+F30+F31+F32+F33+F34+F35+F36+F37+F38+F39+F40+F41+F42+F43+F44+F45+F46+F47+F48+F49+F50+F51+F52+F53+F54+F55+F56+F57+J3+J4+J5+J6+J7+J8+J9+J10+J11+J12+J13+J14+J15+J16+J17+J18+J19+J20+J21+J22+J23+J24+J25+J26+J27+J28+J29+J30+J31+J32+J33+J34+J35+J36+J37+J38+J39+J40+J41+J42+J43+J44+J45+J46+J47+J48+J49+J50+J51+J52+J53+J54+J55+J56+J57)) -> 10.343786
N58: =SUM(F58+J58) -> 0 | O58: =SUM(G58+K58) -> 0 | P58: =SUM(G58/F58) -> #DIV/0! | Q58: =SUM(K58/J58) -> #DIV/0! | R58: =SUM(O58/N58) -> #DIV/0! | S58: =SUM((G3+G4+G5+G6+G7+G8+G9+G10+G11+G12+G13+G14+G15+G16+G17+G18+G19+G20+G21+G22+G23+G24+G25+G26+G27+G28+G29+G30+G31+G32+G33+G34+G35+G36+G37+G38+G39+G40+G41+G42+G43+G44+G45+G46+G47+G48+G49+G50+G51+G52+G53+G54+G55+G56+G57+G58+K3+K4+K5+K6+K7+K8+K9+K10+K11+K12+K13+K14+K15+K16+K17+K18+K19+K20+K21+K22+K23+K24+K25+K26+K27+K28+K29+K30+K31+K32+K33+K34+K35+K36+K37+K38+K39+K40+K41+K42+K43+K44+K45+K46+K47+K48+K49+K50+K51+K52+K53+K54+K55+K56+K57+K58)/(F3+F4+F5+F6+F7+F8+F9+F10+F11+F12+F13+F14+F15+F16+F17+F18+F19+F20+F21+F22+F23+F24+F25+F26+F27+F28+F29+F30+F31+F32+F33+F34+F35+F36+F37+F38+F39+F40+F41+F42+F43+F44+F45+F46+F47+F48+F49+F50+F51+F52+F53+F54+F55+F56+F57+F58+J3+J4+J5+J6+J7+J8+J9+J10+J11+J12+J13+J14+J15+J16+J17+J18+J19+J20+J21+J22+J23+J24+J25+J26+J27+J28+J29+J30+J31+J32+J33+J34+J35+J36+J37+J38+J39+J40+J41+J42+J43+J44+J45+J46+J47+J48+J49+J50+J51+J52+J53+J54+J55+J56+J57+J58)) -> 10.343786
N59: =SUM(F59+J59) -> 0 | O59: =SUM(G59+K59) -> 0 | P59: =SUM(G59/F59) -> #DIV/0! | Q59: =SUM(K59/J59) -> #DIV/0! | R59: =SUM(O59/N59) -> #DIV/0! | S59: =SUM((G3+G4+G5+G6+G7+G8+G9+G10+G11+G12+G13+G14+G15+G16+G17+G18+G19+G20+G21+G22+G23+G24+G25+G26+G27+G28+G29+G30+G31+G32+G33+G34+G35+G36+G37+G38+G39+G40+G41+G42+G43+G44+G45+G46+G47+G48+G49+G50+G51+G52+G53+G54+G55+G56+G57+G58+G59+K3+K4+K5+K6+K7+K8+K9+K10+K11+K12+K13+K14+K15+K16+K17+K18+K19+K20+K21+K22+K23+K24+K25+K26+K27+K28+K29+K30+K31+K32+K33+K34+K35+K36+K37+K38+K39+K40+K41+K42+K43+K44+K45+K46+K47+K48+K49+K50+K51+K52+K53+K54+K55+K56+K57+K58+K59)/(F3+F4+F5+F6+F7+F8+F9+F10+F11+F12+F13+F14+F15+F16+F17+F18+F19+F20+F21+F22+F23+F24+F25+F26+F27+F28+F29+F30+F31+F32+F33+F34+F35+F36+F37+F38+F39+F40+F41+F42+F43+F44+F45+F46+F47+F48+F49+F50+F51+F52+F53+F54+F55+F56+F57+F58+F59+J3+J4+J5+J6+J7+J8+J9+J10+J11+J12+J13+J14+J15+J16+J17+J18+J19+J20+J21+J22+J23+J24+J25+J26+J27+J28+J29+J30+J31+J32+J33+J34+J35+J36+J37+J38+J39+J40+J41+J42+J43+J44+J45+J46+J47+J48+J49+J50+J51+J52+J53+J54+J55+J56+J57+J58+J59)) -> 10.343786
N60: =SUM(F60+J60) -> 0 | O60: =SUM(G60+K60) -> 0 | P60: =SUM(G60/F60) -> #DIV/0! | Q60: =SUM(K60/J60) -> #DIV/0! | R60: =SUM(O60/N60) -> #DIV/0! | S60: =SUM((G3+G4+G5+G6+G7+G8+G9+G10+G11+G12+G13+G14+G15+G16+G17+G18+G19+G20+G21+G22+G23+G24+G25+G26+G27+G28+G29+G30+G31+G32+G33+G34+G35+G36+G37+G38+G39+G40+G41+G42+G43+G44+G45+G46+G47+G48+G49+G50+G51+G52+G53+G54+G55+G56+G57+G58+G59+G60+K3+K4+K5+K6+K7+K8+K9+K10+K11+K12+K13+K14+K15+K16+K17+K18+K19+K20+K21+K22+K23+K24+K25+K26+K27+K28+K29+K30+K31+K32+K33+K34+K35+K36+K37+K38+K39+K40+K41+K42+K43+K44+K45+K46+K47+K48+K49+K50+K51+K52+K53+K54+K55+K56+K57+K58+K59+K60)/(F3+F4+F5+F6+F7+F8+F9+F10+F11+F12+F13+F14+F15+F16+F17+F18+F19+F20+F21+F22+F23+F24+F25+F26+F27+F28+F29+F30+F31+F32+F33+F34+F35+F36+F37+F38+F39+F40+F41+F42+F43+F44+F45+F46+F47+F48+F49+F50+F51+F52+F53+F54+F55+F56+F57+F58+F59+F60+J3+J4+J5+J6+J7+J8+J9+J10+J11+J12+J13+J14+J15+J16+J17+J18+J19+J20+J21+J22+J23+J24+J25+J26+J27+J28+J29+J30+J31+J32+J33+J34+J35+J36+J37+J38+J39+J40+J41+J42+J43+J44+J45+J46+J47+J48+J49+J50+J51+J52+J53+J54+J55+J56+J57+J58+J59+J60)) -> 10.343786
N61: =SUM(F61+J61) -> 0 | O61: =SUM(G61+K61) -> 0 | P61: =SUM(G61/F61) -> #DIV/0! | Q61: =SUM(K61/J61) -> #DIV/0! | R61: =SUM(O61/N61) -> #DIV/0! | S61: =SUM((G3+G4+G5+G6+G7+G8+G9+G10+G11+G12+G13+G14+G15+G16+G17+G18+G19+G20+G21+G22+G23+G24+G25+G26+G27+G28+G29+G30+G31+G32+G33+G34+G35+G36+G37+G38+G39+G40+G41+G42+G43+G44+G45+G46+G47+G48+G49+G50+G51+G52+G53+G54+G55+G56+G57+G58+G59+G60+G61+K3+K4+K5+K6+K7+K8+K9+K10+K11+K12+K13+K14+K15+K16+K17+K18+K19+K20+K21+K22+K23+K24+K25+K26+K27+K28+K29+K30+K31+K32+K33+K34+K35+K36+K37+K38+K39+K40+K41+K42+K43+K44+K45+K46+K47+K48+K49+K50+K51+K52+K53+K54+K55+K56+K57+K58+K59+K60+K61)/(F3+F4+F5+F6+F7+F8+F9+F10+F11+F12+F13+F14+F15+F16+F17+F18+F19+F20+F21+F22+F23+F24+F25+F26+F27+F28+F29+F30+F31+F32+F33+F34+F35+F36+F37+F38+F39+F40+F41+F42+F43+F44+F45+F46+F47+F48+F49+F50+F51+F52+F53+F54+F55+F56+F57+F58+F59+F60+F61+J3+J4+J5+J6+J7+J8+J9+J10+J11+J12+J13+J14+J15+J16+J17+J18+J19+J20+J21+J22+J23+J24+J25+J26+J27+J28+J29+J30+J31+J32+J33+J34+J35+J36+J37+J38+J39+J40+J41+J42+J43+J44+J45+J46+J47+J48+J49+J50+J51+J52+J53+J54+J55+J56+J57+J58+J59+J60+J61)) -> 10.343786
N62: =SUM(F62+J62) -> 0 | O62: =SUM(G62+K62) -> 0 | P62: =SUM(G62/F62) -> #DIV/0! | Q62: =SUM(K62/J62) -> #DIV/0! | R62: =SUM(O62/N62) -> #DIV/0! | S62: =SUM((G3+G4+G5+G6+G7+G8+G9+G10+G11+G12+G13+G14+G15+G16+G17+G18+G19+G20+G21+G22+G23+G24+G25+G26+G27+G28+G29+G30+G31+G32+G33+G34+G35+G36+G37+G38+G39+G40+G41+G42+G43+G44+G45+G46+G47+G48+G49+G50+G51+G52+G53+G54+G55+G56+G57+G58+G59+G60+G61+G62+K3+K4+K5+K6+K7+K8+K9+K10+K11+K12+K13+K14+K15+K16+K17+K18+K19+K20+K21+K22+K23+K24+K25+K26+K27+K28+K29+K30+K31+K32+K33+K34+K35+K36+K37+K38+K39+K40+K41+K42+K43+K44+K45+K46+K47+K48+K49+K50+K51+K52+K53+K54+K55+K56+K57+K58+K59+K60+K61+K62)/(F3+F4+F5+F6+F7+F8+F9+F10+F11+F12+F13+F14+F15+F16+F17+F18+F19+F20+F21+F22+F23+F24+F25+F26+F27+F28+F29+F30+F31+F32+F33+F34+F35+F36+F37+F38+F39+F40+F41+F42+F43+F44+F45+F46+F47+F48+F49+F50+F51+F52+F53+F54+F55+F56+F57+F58+F59+F60+F61+F62+J3+J4+J5+J6+J7+J8+J9+J10+J11+J12+J13+J14+J15+J16+J17+J18+J19+J20+J21+J22+J23+J24+J25+J26+J27+J28+J29+J30+J31+J32+J33+J34+J35+J36+J37+J38+J39+J40+J41+J42+J43+J44+J45+J46+J47+J48+J49+J50+J51+J52+J53+J54+J55+J56+J57+J58+J59+J60+J61+J62)) -> 10.343786
N63: =SUM(F63+J63) -> 0 | O63: =SUM(G63+K63) -> 0 | P63: =SUM(G63/F63) -> #DIV/0! | Q63: =SUM(K63/J63) -> #DIV/0! | R63: =SUM(O63/N63) -> #DIV/0! | S63: =SUM((G3+G4+G5+G6+G7+G8+G9+G10+G11+G12+G13+G14+G15+G16+G17+G18+G19+G20+G21+G22+G23+G24+G25+G26+G27+G28+G29+G30+G31+G32+G33+G34+G35+G36+G37+G38+G39+G40+G41+G42+G43+G44+G45+G46+G47+G48+G49+G50+G51+G52+G53+G54+G55+G56+G57+G58+G59+G60+G61+G62+G63+K3+K4+K5+K6+K7+K8+K9+K10+K11+K12+K13+K14+K15+K16+K17+K18+K19+K20+K21+K22+K23+K24+K25+K26+K27+K28+K29+K30+K31+K32+K33+K34+K35+K36+K37+K38+K39+K40+K41+K42+K43+K44+K45+K46+K47+K48+K49+K50+K51+K52+K53+K54+K55+K56+K57+K58+K59+K60+K61+K62+K63)/(F3+F4+F5+F6+F7+F8+F9+F10+F11+F12+F13+F14+F15+F16+F17+F18+F19+F20+F21+F22+F23+F24+F25+F26+F27+F28+F29+F30+F31+F32+F33+F34+F35+F36+F37+F38+F39+F40+F41+F42+F43+F44+F45+F46+F47+F48+F49+F50+F51+F52+F53+F54+F55+F56+F57+F58+F59+F60+F61+F62+F63+J3+J4+J5+J6+J7+J8+J9+J10+J11+J12+J13+J14+J15+J16+J17+J18+J19+J20+J21+J22+J23+J24+J25+J26+J27+J28+J29+J30+J31+J32+J33+J34+J35+J36+J37+J38+J39+J40+J41+J42+J43+J44+J45+J46+J47+J48+J49+J50+J51+J52+J53+J54+J55+J56+J57+J58+J59+J60+J61+J62+J63)) -> 10.343786
N64: =SUM(F64+J64) -> 0 | O64: =SUM(G64+K64) -> 0 | P64: =SUM(G64/F64) -> #DIV/0! | Q64: =SUM(K64/J64) -> #DIV/0! | R64: =SUM(O64/N64) -> #DIV/0! | S64: =SUM((G3+G4+G5+G6+G7+G8+G9+G10+G11+G12+G13+G14+G15+G16+G17+G18+G19+G20+G21+G22+G23+G24+G25+G26+G27+G28+G29+G30+G31+G32+G33+G34+G35+G36+G37+G38+G39+G40+G41+G42+G43+G44+G45+G46+G47+G48+G49+G50+G51+G52+G53+G54+G55+G56+G57+G58+G59+G60+G61+G62+G63+G64+K3+K4+K5+K6+K7+K8+K9+K10+K11+K12+K13+K14+K15+K16+K17+K18+K19+K20+K21+K22+K23+K24+K25+K26+K27+K28+K29+K30+K31+K32+K33+K34+K35+K36+K37+K38+K39+K40+K41+K42+K43+K44+K45+K46+K47+K48+K49+K50+K51+K52+K53+K54+K55+K56+K57+K58+K59+K60+K61+K62+K63+K64)/(F3+F4+F5+F6+F7+F8+F9+F10+F11+F12+F13+F14+F15+F16+F17+F18+F19+F20+F21+F22+F23+F24+F25+F26+F27+F28+F29+F30+F31+F32+F33+F34+F35+F36+F37+F38+F39+F40+F41+F42+F43+F44+F45+F46+F47+F48+F49+F50+F51+F52+F53+F54+F55+F56+F57+F58+F59+F60+F61+F62+F63+F64+J3+J4+J5+J6+J7+J8+J9+J10+J11+J12+J13+J14+J15+J16+J17+J18+J19+J20+J21+J22+J23+J24+J25+J26+J27+J28+J29+J30+J31+J32+J33+J34+J35+J36+J37+J38+J39+J40+J41+J42+J43+J44+J45+J46+J47+J48+J49+J50+J51+J52+J53+J54+J55+J56+J57+J58+J59+J60+J61+J62+J63+J64)) -> 10.343786
A66: LEAGUE AVERAGE | C66: =S64 -> 10.343786 | D66: =COUNTA(D3:D65) -> 3 | E66: =COUNTA(E3:E65) -> 3 | H66: =COUNTA(H3:H65) -> 5 | I66: =COUNTA(I3:I65) -> 7 | L66: =COUNTA(L3:L65) -> 4 | M66: =COUNTA(M3:M65) -> 8 | N66: =SUM(N3:N65) -> 861 | O66: =SUM(O3:O65) -> 8906
A68: Rodney Wike
B69: 46286 | E69: X | F69: 66 | G69: 501 | H69: X | J69: 37 | K69: 301 | L69: X | N69: =SUM(F69+J69) -> 103 | O69: =SUM(G69+K69) -> 802 | P69: =SUM(G69/F69) -> 7.5909091 | Q69: =SUM(K69/J69) -> 8.1351351 | R69: =SUM(O69/N69) -> 7.7864078 | S69: =SUM((G69+K69)/(F69+J69)) -> 7.7864078
F70: 39 | G70: 501 | H70: X | J70: 33 | K70: 286 | M70: X | N70: =SUM(F70+J70) -> 72 | O70: =SUM(G70+K70) -> 787 | P70: =SUM(G70/F70) -> 12.846154 | Q70: =SUM(K70/J70) -> 8.6666667 | R70: =SUM(O70/N70) -> 10.930556 | S70: =SUM((G69+G70+K69+K70)/(F69+F70+J69+J70)) -> 9.08
B71: =SUM(B69+7) -> 46293 | E71: X | F71: 39 | G71: 497 | I71: X | J71: 28 | K71: 301 | L71: X | N71: =SUM(F71+J71) -> 67 | O71: =SUM(G71+K71) -> 798 | P71: =SUM(G71/F71) -> 12.74359 | Q71: =SUM(K71/J71) -> 10.75 | R71: =SUM(O71/N71) -> 11.910448 | S71: =SUM((G69+G70+G71+K69+K70+K71)/(F69+F70+F71+J69+J70+J71)) -> 9.8636364
F72: 35 | G72: 501 | H72: X | J72: 21 | K72: 256 | M72: X | N72: =SUM(F72+J72) -> 56 | O72: =SUM(G72+K72) -> 757 | P72: =SUM(G72/F72) -> 14.314286 | Q72: =SUM(K72/J72) -> 12.190476 | R72: =SUM(O72/N72) -> 13.517857 | S72: =SUM((G69+G70+G71+G72+K69+K70+K71+K72)/(F69+F70+F71+F72+J69+J70+J71+J72)) -> 10.550336
B73: =SUM(B71+7) -> 46300 | N73: =SUM(F73+J73) -> 0 | O73: =SUM(G73+K73) -> 0 | P73: =SUM(G73/F73) -> #DIV/0! | Q73: =SUM(K73/J73) -> #DIV/0! | R73: =SUM(O73/N73) -> #DIV/0! | S73: =SUM((G69+G70+G71+G72+G73+K69+K70+K71+K72+K73)/(F69+F70+F71+F72+F73+J69+J70+J71+J72+J73)) -> 10.550336
N74: =SUM(F74+J74) -> 0 | O74: =SUM(G74+K74) -> 0 | P74: =SUM(G74/F74) -> #DIV/0! | Q74: =SUM(K74/J74) -> #DIV/0! | R74: =SUM(O74/N74) -> #DIV/0! | S74: =SUM((G69+G70+G71+G72+G73+G74+K69+K70+K71+K72+K73+K74)/(F69+F70+F71+F72+F73+F74+J69+J70+J71+J72+J73+J74)) -> 10.550336
B75: =SUM(B73+7) -> 46307 | E75: X | F75: 24 | G75: 406 | I75: X | J75: 27 | K75: 229 | M75: X | N75: =SUM(F75+J75) -> 51 | O75: =SUM(G75+K75) -> 635 | P75: =SUM(G75/F75) -> 16.916667 | Q75: =SUM(K75/J75) -> 8.4814815 | R75: =SUM(O75/N75) -> 12.45098 | S75: =SUM((G69+G70+G71+G72+G73+G74+G75+K69+K70+K71+K72+K73+K74+K75)/(F69+F70+F71+F72+F73+F74+F75+J69+J70+J71+J72+J73+J74+J75)) -> 10.82808
F76: 30 | G76: 447 | I76: X | J76: 33 | K76: 285 | M76: X | N76: =SUM(F76+J76) -> 63 | O76: =SUM(G76+K76) -> 732 | P76: =SUM(G76/F76) -> 14.9 | Q76: =SUM(K76/J76) -> 8.6363636 | R76: =SUM(O76/N76) -> 11.619048 | S76: =SUM((G69+G70+G71+G72+G73+G74+G75+G76+K69+K70+K71+K72+K73+K74+K75+K76)/(F69+F70+F71+F72+F73+F74+F75+F76+J69+J70+J71+J72+J73+J74+J75+J76)) -> 10.949029
B77: =SUM(B75+7) -> 46314 | D77: X | F77: 40 | G77: 501 | H77: X | J77: 24 | K77: 164 | M77: X | N77: =SUM(F77+J77) -> 64 | O77: =SUM(G77+K77) -> 665 | P77: =SUM(G77/F77) -> 12.525 | Q77: =SUM(K77/J77) -> 6.8333333 | R77: =SUM(O77/N77) -> 10.390625 | S77: =SUM((G69+G70+G71+G72+G73+G74+G75+G76+G77+K69+K70+K71+K72+K73+K74+K75+K76+K77)/(F69+F70+F71+F72+F73+F74+F75+F76+F77+J69+J70+J71+J72+J73+J74+J75+J76+J77)) -> 10.87395
F78: 36 | G78: 471 | I78: X | J78: 47 | K78: 301 | L78: X | N78: =SUM(F78+J78) -> 83 | O78: =SUM(G78+K78) -> 772 | P78: =SUM(G78/F78) -> 13.083333 | Q78: =SUM(K78/J78) -> 6.4042553 | R78: =SUM(O78/N78) -> 9.3012048 | S78: =SUM((G69+G70+G71+G72+G73+G74+G75+G76+G77+G78+K69+K70+K71+K72+K73+K74+K75+K76+K77+K78)/(F69+F70+F71+F72+F73+F74+F75+F76+F77+F78+J69+J70+J71+J72+J73+J74+J75+J76+J77+J78)) -> 10.640429
B79: =SUM(B77+7) -> 46321 | E79: X | F79: 57 | G79: 485 | I79: X | J79: 33 | K79: 269 | M79: X | N79: =SUM(F79+J79) -> 90 | O79: =SUM(G79+K79) -> 754 | P79: =SUM(G79/F79) -> 8.5087719 | Q79: =SUM(K79/J79) -> 8.1515152 | R79: =SUM(O79/N79) -> 8.3777778 | S79: =SUM((G69+G70+G71+G72+G73+G74+G75+G76+G77+G78+G79+K69+K70+K71+K72+K73+K74+K75+K76+K77+K78+K79)/(F69+F70+F71+F72+F73+F74+F75+F76+F77+F78+F79+J69+J70+J71+J72+J73+J74+J75+J76+J77+J78+J79)) -> 10.326656
F80: 44 | G80: 501 | H80: X | J80: 33 | K80: 301 | L80: X | N80: =SUM(F80+J80) -> 77 | O80: =SUM(G80+K80) -> 802 | P80: =SUM(G80/F80) -> 11.386364 | Q80: =SUM(K80/J80) -> 9.1212121 | R80: =SUM(O80/N80) -> 10.415584 | S80: =SUM((G69+G70+G71+G72+G73+G74+G75+G76+G77+G78+G79+G80+K69+K70+K71+K72+K73+K74+K75+K76+K77+K78+K79+K80)/(F69+F70+F71+F72+F73+F74+F75+F76+F77+F78+F79+F80+J69+J70+J71+J72+J73+J74+J75+J76+J77+J78+J79+J80)) -> 10.336088
B81: =SUM(B79+7) -> 46328 | N81: =SUM(F81+J81) -> 0 | O81: =SUM(G81+K81) -> 0 | P81: =SUM(G81/F81) -> #DIV/0! | Q81: =SUM(K81/J81) -> #DIV/0! | R81: =SUM(O81/N81) -> #DIV/0! | S81: =SUM((G69+G70+G71+G72+G73+G74+G75+G76+G77+G78+G79+G80+G81+K69+K70+K71+K72+K73+K74+K75+K76+K77+K78+K79+K80+K81)/(F69+F70+F71+F72+F73+F74+F75+F76+F77+F78+F79+F80+F81+J69+J70+J71+J72+J73+J74+J75+J76+J77+J78+J79+J80+J81)) -> 10.336088
N82: =SUM(F82+J82) -> 0 | O82: =SUM(G82+K82) -> 0 | P82: =SUM(G82/F82) -> #DIV/0! | Q82: =SUM(K82/J82) -> #DIV/0! | R82: =SUM(O82/N82) -> #DIV/0! | S82: =SUM((G69+G70+G71+G72+G73+G74+G75+G76+G77+G78+G79+G80+G81+G82+K69+K70+K71+K72+K73+K74+K75+K76+K77+K78+K79+K80+K81+K82)/(F69+F70+F71+F72+F73+F74+F75+F76+F77+F78+F79+F80+F81+F82+J69+J70+J71+J72+J73+J74+J75+J76+J77+J78+J79+J80+J81+J82)) -> 10.336088
B83: =SUM(B81+7) -> 46335 | N83: =SUM(F83+J83) -> 0 | O83: =SUM(G83+K83) -> 0 | P83: =SUM(G83/F83) -> #DIV/0! | Q83: =SUM(K83/J83) -> #DIV/0! | R83: =SUM(O83/N83) -> #DIV/0! | S83: =SUM((G69+G70+G71+G72+G73+G74+G75+G76+G77+G78+G79+G80+G81+G82+G83+K69+K70+K71+K72+K73+K74+K75+K76+K77+K78+K79+K80+K81+K82+K83)/(F69+F70+F71+F72+F73+F74+F75+F76+F77+F78+F79+F80+F81+F82+F83+J69+J70+J71+J72+J73+J74+J75+J76+J77+J78+J79+J80+J81+J82+J83)) -> 10.336088
N84: =SUM(F84+J84) -> 0 | O84: =SUM(G84+K84) -> 0 | P84: =SUM(G84/F84) -> #DIV/0! | Q84: =SUM(K84/J84) -> #DIV/0! | R84: =SUM(O84/N84) -> #DIV/0! | S84: =SUM((G69+G70+G71+G72+G73+G74+G75+G76+G77+G78+G79+G80+G81+G82+G83+G84+K69+K70+K71+K72+K73+K74+K75+K76+K77+K78+K79+K80+K81+K82+K83+K84)/(F69+F70+F71+F72+F73+F74+F75+F76+F77+F78+F79+F80+F81+F82+F83+F84+J69+J70+J71+J72+J73+J74+J75+J76+J77+J78+J79+J80+J81+J82+J83+J84)) -> 10.336088
B85: =SUM(B83+7) -> 46342 | N85: =SUM(F85+J85) -> 0 | O85: =SUM(G85+K85) -> 0 | P85: =SUM(G85/F85) -> #DIV/0! | Q85: =SUM(K85/J85) -> #DIV/0! | R85: =SUM(O85/N85) -> #DIV/0! | S85: =SUM((G69+G70+G71+G72+G73+G74+G75+G76+G77+G78+G79+G80+G81+G82+G83+G84+G85+K69+K70+K71+K72+K73+K74+K75+K76+K77+K78+K79+K80+K81+K82+K83+K84+K85)/(F69+F70+F71+F72+F73+F74+F75+F76+F77+F78+F79+F80+F81+F82+F83+F84+F85+J69+J70+J71+J72+J73+J74+J75+J76+J77+J78+J79+J80+J81+J82+J83+J84+J85)) -> 10.336088
N86: =SUM(F86+J86) -> 0 | O86: =SUM(G86+K86) -> 0 | P86: =SUM(G86/F86) -> #DIV/0! | Q86: =SUM(K86/J86) -> #DIV/0! | R86: =SUM(O86/N86) -> #DIV/0! | S86: =SUM((G69+G70+G71+G72+G73+G74+G75+G76+G77+G78+G79+G80+G81+G82+G83+G84+G85+G86+K69+K70+K71+K72+K73+K74+K75+K76+K77+K78+K79+K80+K81+K82+K83+K84+K85+K86)/(F69+F70+F71+F72+F73+F74+F75+F76+F77+F78+F79+F80+F81+F82+F83+F84+F85+F86+J69+J70+J71+J72+J73+J74+J75+J76+J77+J78+J79+J80+J81+J82+J83+J84+J85+J86)) -> 10.336088
B87: =SUM(B85+7) -> 46349 | N87: =SUM(F87+J87) -> 0 | O87: =SUM(G87+K87) -> 0 | P87: =SUM(G87/F87) -> #DIV/0! | Q87: =SUM(K87/J87) -> #DIV/0! | R87: =SUM(O87/N87) -> #DIV/0! | S87: =SUM((G69+G70+G71+G72+G73+G74+G75+G76+G77+G78+G79+G80+G81+G82+G83+G84+G85+G86+G87+K69+K70+K71+K72+K73+K74+K75+K76+K77+K78+K79+K80+K81+K82+K83+K84+K85+K86+K87)/(F69+F70+F71+F72+F73+F74+F75+F76+F77+F78+F79+F80+F81+F82+F83+F84+F85+F86+F87+J69+J70+J71+J72+J73+J74+J75+J76+J77+J78+J79+J80+J81+J82+J83+J84+J85+J86+J87)) -> 10.336088
N88: =SUM(F88+J88) -> 0 | O88: =SUM(G88+K88) -> 0 | P88: =SUM(G88/F88) -> #DIV/0! | Q88: =SUM(K88/J88) -> #DIV/0! | R88: =SUM(O88/N88) -> #DIV/0! | S88: =SUM((G69+G70+G71+G72+G73+G74+G75+G76+G77+G78+G79+G80+G81+G82+G83+G84+G85+G86+G87+G88+K69+K70+K71+K72+K73+K74+K75+K76+K77+K78+K79+K80+K81+K82+K83+K84+K85+K86+K87+K88)/(F69+F70+F71+F72+F73+F74+F75+F76+F77+F78+F79+F80+F81+F82+F83+F84+F85+F86+F87+F88+J69+J70+J71+J72+J73+J74+J75+J76+J77+J78+J79+J80+J81+J82+J83+J84+J85+J86+J87+J88)) -> 10.336088
B89: =SUM(B87+7) -> 46356 | N89: =SUM(F89+J89) -> 0 | O89: =SUM(G89+K89) -> 0 | P89: =SUM(G89/F89) -> #DIV/0! | Q89: =SUM(K89/J89) -> #DIV/0! | R89: =SUM(O89/N89) -> #DIV/0! | S89: =SUM((G69+G70+G71+G72+G73+G74+G75+G76+G77+G78+G79+G80+G81+G82+G83+G84+G85+G86+G87+G88+G89+K69+K70+K71+K72+K73+K74+K75+K76+K77+K78+K79+K80+K81+K82+K83+K84+K85+K86+K87+K88+K89)/(F69+F70+F71+F72+F73+F74+F75+F76+F77+F78+F79+F80+F81+F82+F83+F84+F85+F86+F87+F88+F89+J69+J70+J71+J72+J73+J74+J75+J76+J77+J78+J79+J80+J81+J82+J83+J84+J85+J86+J87+J88+J89)) -> 10.336088
N90: =SUM(F90+J90) -> 0 | O90: =SUM(G90+K90) -> 0 | P90: =SUM(G90/F90) -> #DIV/0! | Q90: =SUM(K90/J90) -> #DIV/0! | R90: =SUM(O90/N90) -> #DIV/0! | S90: =SUM((G69+G70+G71+G72+G73+G74+G75+G76+G77+G78+G79+G80+G81+G82+G83+G84+G85+G86+G87+G88+G89+G90+K69+K70+K71+K72+K73+K74+K75+K76+K77+K78+K79+K80+K81+K82+K83+K84+K85+K86+K87+K88+K89+K90)/(F69+F70+F71+F72+F73+F74+F75+F76+F77+F78+F79+F80+F81+F82+F83+F84+F85+F86+F87+F88+F89+F90+J69+J70+J71+J72+J73+J74+J75+J76+J77+J78+J79+J80+J81+J82+J83+J84+J85+J86+J87+J88+J89+J90)) -> 10.336088
B91: =SUM(B89+7) -> 46363 | N91: =SUM(F91+J91) -> 0 | O91: =SUM(G91+K91) -> 0 | P91: =SUM(G91/F91) -> #DIV/0! | Q91: =SUM(K91/J91) -> #DIV/0! | R91: =SUM(O91/N91) -> #DIV/0! | S91: =SUM((G69+G70+G71+G72+G73+G74+G75+G76+G77+G78+G79+G80+G81+G82+G83+G84+G85+G86+G87+G88+G89+G90+G91+K69+K70+K71+K72+K73+K74+K75+K76+K77+K78+K79+K80+K81+K82+K83+K84+K85+K86+K87+K88+K89+K90+K91)/(F69+F70+F71+F72+F73+F74+F75+F76+F77+F78+F79+F80+F81+F82+F83+F84+F85+F86+F87+F88+F89+F90+F91+J69+J70+J71+J72+J73+J74+J75+J76+J77+J78+J79+J80+J81+J82+J83+J84+J85+J86+J87+J88+J89+J90+J91)) -> 10.336088
N92: =SUM(F92+J92) -> 0 | O92: =SUM(G92+K92) -> 0 | P92: =SUM(G92/F92) -> #DIV/0! | Q92: =SUM(K92/J92) -> #DIV/0! | R92: =SUM(O92/N92) -> #DIV/0! | S92: =SUM((G69+G70+G71+G72+G73+G74+G75+G76+G77+G78+G79+G80+G81+G82+G83+G84+G85+G86+G87+G88+G89+G90+G91+G92+K69+K70+K71+K72+K73+K74+K75+K76+K77+K78+K79+K80+K81+K82+K83+K84+K85+K86+K87+K88+K89+K90+K91+K92)/(F69+F70+F71+F72+F73+F74+F75+F76+F77+F78+F79+F80+F81+F82+F83+F84+F85+F86+F87+F88+F89+F90+F91+F92+J69+J70+J71+J72+J73+J74+J75+J76+J77+J78+J79+J80+J81+J82+J83+J84+J85+J86+J87+J88+J89+J90+J91+J92)) -> 10.336088
B93: =SUM(B91+7) -> 46370 | N93: =SUM(F93+J93) -> 0 | O93: =SUM(G93+K93) -> 0 | P93: =SUM(G93/F93) -> #DIV/0! | Q93: =SUM(K93/J93) -> #DIV/0! | R93: =SUM(O93/N93) -> #DIV/0! | S93: =SUM((G69+G70+G71+G72+G73+G74+G75+G76+G77+G78+G79+G80+G81+G82+G83+G84+G85+G86+G87+G88+G89+G90+G91+G92+G93+K69+K70+K71+K72+K73+K74+K75+K76+K77+K78+K79+K80+K81+K82+K83+K84+K85+K86+K87+K88+K89+K90+K91+K92+K93)/(F69+F70+F71+F72+F73+F74+F75+F76+F77+F78+F79+F80+F81+F82+F83+F84+F85+F86+F87+F88+F89+F90+F91+F92+F93+J69+J70+J71+J72+J73+J74+J75+J76+J77+J78+J79+J80+J81+J82+J83+J84+J85+J86+J87+J88+J89+J90+J91+J92+J93)) -> 10.336088
N94: =SUM(F94+J94) -> 0 | O94: =SUM(G94+K94) -> 0 | P94: =SUM(G94/F94) -> #DIV/0! | Q94: =SUM(K94/J94) -> #DIV/0! | R94: =SUM(O94/N94) -> #DIV/0! | S94: =SUM((G69+G70+G71+G72+G73+G74+G75+G76+G77+G78+G79+G80+G81+G82+G83+G84+G85+G86+G87+G88+G89+G90+G91+G92+G93+G94+K69+K70+K71+K72+K73+K74+K75+K76+K77+K78+K79+K80+K81+K82+K83+K84+K85+K86+K87+K88+K89+K90+K91+K92+K93+K94)/(F69+F70+F71+F72+F73+F74+F75+F76+F77+F78+F79+F80+F81+F82+F83+F84+F85+F86+F87+F88+F89+F90+F91+F92+F93+F94+J69+J70+J71+J72+J73+J74+J75+J76+J77+J78+J79+J80+J81+J82+J83+J84+J85+J86+J87+J88+J89+J90+J91+J92+J93+J94)) -> 10.336088
B95: =SUM(B93+7) -> 46377 | N95: =SUM(F95+J95) -> 0 | O95: =SUM(G95+K95) -> 0 | P95: =SUM(G95/F95) -> #DIV/0! | Q95: =SUM(K95/J95) -> #DIV/0! | R95: =SUM(O95/N95) -> #DIV/0! | S95: =SUM((G69+G70+G71+G72+G73+G74+G75+G76+G77+G78+G79+G80+G81+G82+G83+G84+G85+G86+G87+G88+G89+G90+G91+G92+G93+G94+G95+K69+K70+K71+K72+K73+K74+K75+K76+K77+K78+K79+K80+K81+K82+K83+K84+K85+K86+K87+K88+K89+K90+K91+K92+K93+K94+K95)/(F69+F70+F71+F72+F73+F74+F75+F76+F77+F78+F79+F80+F81+F82+F83+F84+F85+F86+F87+F88+F89+F90+F91+F92+F93+F94+F95+J69+J70+J71+J72+J73+J74+J75+J76+J77+J78+J79+J80+J81+J82+J83+J84+J85+J86+J87+J88+J89+J90+J91+J92+J93+J94+J95)) -> 10.336088
N96: =SUM(F96+J96) -> 0 | O96: =SUM(G96+K96) -> 0 | P96: =SUM(G96/F96) -> #DIV/0! | Q96: =SUM(K96/J96) -> #DIV/0! | R96: =SUM(O96/N96) -> #DIV/0! | S96: =SUM((G69+G70+G71+G72+G73+G74+G75+G76+G77+G78+G79+G80+G81+G82+G83+G84+G85+G86+G87+G88+G89+G90+G91+G92+G93+G94+G95+G96+K69+K70+K71+K72+K73+K74+K75+K76+K77+K78+K79+K80+K81+K82+K83+K84+K85+K86+K87+K88+K89+K90+K91+K92+K93+K94+K95+K96)/(F69+F70+F71+F72+F73+F74+F75+F76+F77+F78+F79+F80+F81+F82+F83+F84+F85+F86+F87+F88+F89+F90+F91+F92+F93+F94+F95+F96+J69+J70+J71+J72+J73+J74+J75+J76+J77+J78+J79+J80+J81+J82+J83+J84+J85+J86+J87+J88+J89+J90+J91+J92+J93+J94+J95+J96)) -> 10.336088
B97: =SUM(B95+7) -> 46384 | N97: =SUM(F97+J97) -> 0 | O97: =SUM(G97+K97) -> 0 | P97: =SUM(G97/F97) -> #DIV/0! | Q97: =SUM(K97/J97) -> #DIV/0! | R97: =SUM(O97/N97) -> #DIV/0! | S97: =SUM((G69+G70+G71+G72+G73+G74+G75+G76+G77+G78+G79+G80+G81+G82+G83+G84+G85+G86+G87+G88+G89+G90+G91+G92+G93+G94+G95+G96+G97+K69+K70+K71+K72+K73+K74+K75+K76+K77+K78+K79+K80+K81+K82+K83+K84+K85+K86+K87+K88+K89+K90+K91+K92+K93+K94+K95+K96+K97)/(F69+F70+F71+F72+F73+F74+F75+F76+F77+F78+F79+F80+F81+F82+F83+F84+F85+F86+F87+F88+F89+F90+F91+F92+F93+F94+F95+F96+F97+J69+J70+J71+J72+J73+J74+J75+J76+J77+J78+J79+J80+J81+J82+J83+J84+J85+J86+J87+J88+J89+J90+J91+J92+J93+J94+J95+J96+J97)) -> 10.336088
N98: =SUM(F98+J98) -> 0 | O98: =SUM(G98+K98) -> 0 | P98: =SUM(G98/F98) -> #DIV/0! | Q98: =SUM(K98/J98) -> #DIV/0! | R98: =SUM(O98/N98) -> #DIV/0! | S98: =SUM((G69+G70+G71+G72+G73+G74+G75+G76+G77+G78+G79+G80+G81+G82+G83+G84+G85+G86+G87+G88+G89+G90+G91+G92+G93+G94+G95+G96+G97+G98+K69+K70+K71+K72+K73+K74+K75+K76+K77+K78+K79+K80+K81+K82+K83+K84+K85+K86+K87+K88+K89+K90+K91+K92+K93+K94+K95+K96+K97+K98)/(F69+F70+F71+F72+F73+F74+F75+F76+F77+F78+F79+F80+F81+F82+F83+F84+F85+F86+F87+F88+F89+F90+F91+F92+F93+F94+F95+F96+F97+F98+J69+J70+J71+J72+J73+J74+J75+J76+J77+J78+J79+J80+J81+J82+J83+J84+J85+J86+J87+J88+J89+J90+J91+J92+J93+J94+J95+J96+J97+J98)) -> 10.336088
B99: =SUM(B97+7) -> 46391 | N99: =SUM(F99+J99) -> 0 | O99: =SUM(G99+K99) -> 0 | P99: =SUM(G99/F99) -> #DIV/0! | Q99: =SUM(K99/J99) -> #DIV/0! | R99: =SUM(O99/N99) -> #DIV/0! | S99: =SUM((G69+G70+G71+G72+G73+G74+G75+G76+G77+G78+G79+G80+G81+G82+G83+G84+G85+G86+G87+G88+G89+G90+G91+G92+G93+G94+G95+G96+G97+G98+G99+K69+K70+K71+K72+K73+K74+K75+K76+K77+K78+K79+K80+K81+K82+K83+K84+K85+K86+K87+K88+K89+K90+K91+K92+K93+K94+K95+K96+K97+K98+K99)/(F69+F70+F71+F72+F73+F74+F75+F76+F77+F78+F79+F80+F81+F82+F83+F84+F85+F86+F87+F88+F89+F90+F91+F92+F93+F94+F95+F96+F97+F98+F99+J69+J70+J71+J72+J73+J74+J75+J76+J77+J78+J79+J80+J81+J82+J83+J84+J85+J86+J87+J88+J89+J90+J91+J92+J93+J94+J95+J96+J97+J98+J99)) -> 10.336088
N100: =SUM(F100+J100) -> 0 | O100: =SUM(G100+K100) -> 0 | P100: =SUM(G100/F100) -> #DIV/0! | Q100: =SUM(K100/J100) -> #DIV/0! | R100: =SUM(O100/N100) -> #DIV/0! | S100: =SUM((G69+G70+G71+G72+G73+G74+G75+G76+G77+G78+G79+G80+G81+G82+G83+G84+G85+G86+G87+G88+G89+G90+G91+G92+G93+G94+G95+G96+G97+G98+G99+G100+K69+K70+K71+K72+K73+K74+K75+K76+K77+K78+K79+K80+K81+K82+K83+K84+K85+K86+K87+K88+K89+K90+K91+K92+K93+K94+K95+K96+K97+K98+K99+K100)/(F69+F70+F71+F72+F73+F74+F75+F76+F77+F78+F79+F80+F81+F82+F83+F84+F85+F86+F87+F88+F89+F90+F91+F92+F93+F94+F95+F96+F97+F98+F99+F100+J69+J70+J71+J72+J73+J74+J75+J76+J77+J78+J79+J80+J81+J82+J83+J84+J85+J86+J87+J88+J89+J90+J91+J92+J93+J94+J95+J96+J97+J98+J99+J100)) -> 10.336088
B101: =SUM(B99+7) -> 46398 | N101: =SUM(F101+J101) -> 0 | O101: =SUM(G101+K101) -> 0 | P101: =SUM(G101/F101) -> #DIV/0! | Q101: =SUM(K101/J101) -> #DIV/0! | R101: =SUM(O101/N101) -> #DIV/0! | S101: =SUM((G69+G70+G71+G72+G73+G74+G75+G76+G77+G78+G79+G80+G81+G82+G83+G84+G85+G86+G87+G88+G89+G90+G91+G92+G93+G94+G95+G96+G97+G98+G99+G100+G101+K69+K70+K71+K72+K73+K74+K75+K76+K77+K78+K79+K80+K81+K82+K83+K84+K85+K86+K87+K88+K89+K90+K91+K92+K93+K94+K95+K96+K97+K98+K99+K100+K101)/(F69+F70+F71+F72+F73+F74+F75+F76+F77+F78+F79+F80+F81+F82+F83+F84+F85+F86+F87+F88+F89+F90+F91+F92+F93+F94+F95+F96+F97+F98+F99+F100+F101+J69+J70+J71+J72+J73+J74+J75+J76+J77+J78+J79+J80+J81+J82+J83+J84+J85+J86+J87+J88+J89+J90+J91+J92+J93+J94+J95+J96+J97+J98+J99+J100+J101)) -> 10.336088
N102: =SUM(F102+J102) -> 0 | O102: =SUM(G102+K102) -> 0 | P102: =SUM(G102/F102) -> #DIV/0! | Q102: =SUM(K102/J102) -> #DIV/0! | R102: =SUM(O102/N102) -> #DIV/0! | S102: =SUM((G69+G70+G71+G72+G73+G74+G75+G76+G77+G78+G79+G80+G81+G82+G83+G84+G85+G86+G87+G88+G89+G90+G91+G92+G93+G94+G95+G96+G97+G98+G99+G100+G101+G102+K69+K70+K71+K72+K73+K74+K75+K76+K77+K78+K79+K80+K81+K82+K83+K84+K85+K86+K87+K88+K89+K90+K91+K92+K93+K94+K95+K96+K97+K98+K99+K100+K101+K102)/(F69+F70+F71+F72+F73+F74+F75+F76+F77+F78+F79+F80+F81+F82+F83+F84+F85+F86+F87+F88+F89+F90+F91+F92+F93+F94+F95+F96+F97+F98+F99+F100+F101+F102+J69+J70+J71+J72+J73+J74+J75+J76+J77+J78+J79+J80+J81+J82+J83+J84+J85+J86+J87+J88+J89+J90+J91+J92+J93+J94+J95+J96+J97+J98+J99+J100+J101+J102)) -> 10.336088
...

Sheet Firing Squad
A1: NAME | B1: DATE | C1: SINGLES CRICKET | D1: WIN? | E1: LOSS? | F1: 501 DARTS THROWN | G1: 501 POINTS | H1: WIN? | I1: LOSS? | J1: 301 DARTS THROWN | K1: 301 POINTS | L1: WIN? | M1: LOSS? | N1: TOTAL DARTS THROWN | O1: TOTAL POINTS | P1: 501 AVERAGE | Q1: 301 AVERAGE | R1: MATCH AVERAGE | S1: WEEKLY AVERAGE
A2: Matt Blades
B3: 46286 | N3: =SUM(F3+J3) -> 0 | O3: =SUM(G3+K3) -> 0 | P3: =SUM(G3/F3) -> #DIV/0! | Q3: =SUM(K3/J3) -> #DIV/0! | R3: =SUM(O3/N3) -> #DIV/0! | S3: =SUM((G3+K3)/(F3+J3)) -> #DIV/0!
N4: =SUM(F4+J4) -> 0 | O4: =SUM(G4+K4) -> 0 | P4: =SUM(G4/F4) -> #DIV/0! | Q4: =SUM(K4/J4) -> #DIV/0! | R4: =SUM(O4/N4) -> #DIV/0! | S4: =SUM((G3+G4+K3+K4)/(F3+F4+J3+J4)) -> #DIV/0!
B5: =SUM(B3+7) -> 46293 | E5: X | F5: 34 | G5: 501 | H5: X | J5: 25 | K5: 301 | L5: X | N5: =SUM(F5+J5) -> 59 | O5: =SUM(G5+K5) -> 802 | P5: =SUM(G5/F5) -> 14.735294 | Q5: =SUM(K5/J5) -> 12.04 | R5: =SUM(O5/N5) -> 13.59322 | S5: =SUM((G3+G4+G5+K3+K4+K5)/(F3+F4+F5+J3+J4+J5)) -> 13.59322
F6: 33 | G6: 420 | I6: X | J6: 24 | K6: 301 | L6: X | N6: =SUM(F6+J6) -> 57 | O6: =SUM(G6+K6) -> 721 | P6: =SUM(G6/F6) -> 12.727273 | Q6: =SUM(K6/J6) -> 12.541667 | R6: =SUM(O6/N6) -> 12.649123 | S6: =SUM((G3+G4+G5+G6+K3+K4+K5+K6)/(F3+F4+F5+F6+J3+J4+J5+J6)) -> 13.12931
B7: =SUM(B5+7) -> 46300 | E7: X | F7: 31 | G7: 501 | H7: X | J7: 36 | K7: 299 | M7: X | N7: =SUM(F7+J7) -> 67 | O7: =SUM(G7+K7) -> 800 | P7: =SUM(G7/F7) -> 16.16129 | Q7: =SUM(K7/J7) -> 8.3055556 | R7: =SUM(O7/N7) -> 11.940299 | S7: =SUM((G3+G4+G5+G6+G7+K3+K4+K5+K6+K7)/(F3+F4+F5+F6+F7+J3+J4+J5+J6+J7)) -> 12.693989
F8: 55 | G8: 501 | H8: X | J8: 51 | K8: 299 | M8: X | N8: =SUM(F8+J8) -> 106 | O8: =SUM(G8+K8) -> 800 | P8: =SUM(G8/F8) -> 9.1090909 | Q8: =SUM(K8/J8) -> 5.8627451 | R8: =SUM(O8/N8) -> 7.5471698 | S8: =SUM((G3+G4+G5+G6+G7+G8+K3+K4+K5+K6+K7+K8)/(F3+F4+F5+F6+F7+F8+J3+J4+J5+J6+J7+J8)) -> 10.806228
B9: =SUM(B7+7) -> 46307 | E9: X | F9: 45 | G9: 499 | I9: X | J9: 37 | K9: 301 | L9: X | N9: =SUM(F9+J9) -> 82 | O9: =SUM(G9+K9) -> 800 | P9: =SUM(G9/F9) -> 11.088889 | Q9: =SUM(K9/J9) -> 8.1351351 | R9: =SUM(O9/N9) -> 9.7560976 | S9: =SUM((G3+G4+G5+G6+G7+G8+G9+K3+K4+K5+K6+K7+K8+K9)/(F3+F4+F5+F6+F7+F8+F9+J3+J4+J5+J6+J7+J8+J9)) -> 10.574124
F10: 48 | G10: 499 | I10: X | J10: 30 | K10: 269 | M10: X | N10: =SUM(F10+J10) -> 78 | O10: =SUM(G10+K10) -> 768 | P10: =SUM(G10/F10) -> 10.395833 | Q10: =SUM(K10/J10) -> 8.9666667 | R10: =SUM(O10/N10) -> 9.8461538 | S10: =SUM((G3+G4+G5+G6+G7+G8+G9+G10+K3+K4+K5+K6+K7+K8+K9+K10)/(F3+F4+F5+F6+F7+F8+F9+F10+J3+J4+J5+J6+J7+J8+J9+J10)) -> 10.447661
B11: =SUM(B9+7) -> 46314 | E11: X | F11: 33 | G11: 501 | H11: X | J11: 20 | K11: 301 | L11: X | N11: =SUM(F11+J11) -> 53 | O11: =SUM(G11+K11) -> 802 | P11: =SUM(G11/F11) -> 15.181818 | Q11: =SUM(K11/J11) -> 15.05 | R11: =SUM(O11/N11) -> 15.132075 | S11: =SUM((G3+G4+G5+G6+G7+G8+G9+G10+G11+K3+K4+K5+K6+K7+K8+K9+K10+K11)/(F3+F4+F5+F6+F7+F8+F9+F10+F11+J3+J4+J5+J6+J7+J8+J9+J10+J11)) -> 10.942231
F12: 57 | G12: 501 | H12: X | J12: 25 | K12: 301 | L12: X | N12: =SUM(F12+J12) -> 82 | O12: =SUM(G12+K12) -> 802 | P12: =SUM(G12/F12) -> 8.7894737 | Q12: =SUM(K12/J12) -> 12.04 | R12: =SUM(O12/N12) -> 9.7804878 | S12: =SUM((G3+G4+G5+G6+G7+G8+G9+G10+G11+G12+K3+K4+K5+K6+K7+K8+K9+K10+K11+K12)/(F3+F4+F5+F6+F7+F8+F9+F10+F11+F12+J3+J4+J5+J6+J7+J8+J9+J10+J11+J12)) -> 10.77911
B13: =SUM(B11+7) -> 46321 | E13: X | F13: 54 | G13: 494 | I13: X | J13: 24 | K13: 272 | M13: X | N13: =SUM(F13+J13) -> 78 | O13: =SUM(G13+K13) -> 766 | P13: =SUM(G13/F13) -> 9.1481481 | Q13: =SUM(K13/J13) -> 11.333333 | R13: =SUM(O13/N13) -> 9.8205128 | S13: =SUM((G3+G4+G5+G6+G7+G8+G9+G10+G11+G12+G13+K3+K4+K5+K6+K7+K8+K9+K10+K11+K12+K13)/(F3+F4+F5+F6+F7+F8+F9+F10+F11+F12+F13+J3+J4+J5+J6+J7+J8+J9+J10+J11+J12+J13)) -> 10.666163
F14: 37 | G14: 501 | H14: X | J14: 21 | K14: 301 | L14: X | N14: =SUM(F14+J14) -> 58 | O14: =SUM(G14+K14) -> 802 | P14: =SUM(G14/F14) -> 13.540541 | Q14: =SUM(K14/J14) -> 14.333333 | R14: =SUM(O14/N14) -> 13.827586 | S14: =SUM((G3+G4+G5+G6+G7+G8+G9+G10+G11+G12+G13+G14+K3+K4+K5+K6+K7+K8+K9+K10+K11+K12+K13+K14)/(F3+F4+F5+F6+F7+F8+F9+F10+F11+F12+F13+F14+J3+J4+J5+J6+J7+J8+J9+J10+J11+J12+J13+J14)) -> 10.920833
B15: =SUM(B13+7) -> 46328 | N15: =SUM(F15+J15) -> 0 | O15: =SUM(G15+K15) -> 0 | P15: =SUM(G15/F15) -> #DIV/0! | Q15: =SUM(K15/J15) -> #DIV/0! | R15: =SUM(O15/N15) -> #DIV/0! | S15: =SUM((G3+G4+G5+G6+G7+G8+G9+G10+G11+G12+G13+G14+G15+K3+K4+K5+K6+K7+K8+K9+K10+K11+K12+K13+K14+K15)/(F3+F4+F5+F6+F7+F8+F9+F10+F11+F12+F13+F14+F15+J3+J4+J5+J6+J7+J8+J9+J10+J11+J12+J13+J14+J15)) -> 10.920833
N16: =SUM(F16+J16) -> 0 | O16: =SUM(G16+K16) -> 0 | P16: =SUM(G16/F16) -> #DIV/0! | Q16: =SUM(K16/J16) -> #DIV/0! | R16: =SUM(O16/N16) -> #DIV/0! | S16: =SUM((G3+G4+G5+G6+G7+G8+G9+G10+G11+G12+G13+G14+G15+G16+K3+K4+K5+K6+K7+K8+K9+K10+K11+K12+K13+K14+K15+K16)/(F3+F4+F5+F6+F7+F8+F9+F10+F11+F12+F13+F14+F15+F16+J3+J4+J5+J6+J7+J8+J9+J10+J11+J12+J13+J14+J15+J16)) -> 10.920833
B17: =SUM(B15+7) -> 46335 | N17: =SUM(F17+J17) -> 0 | O17: =SUM(G17+K17) -> 0 | P17: =SUM(G17/F17) -> #DIV/0! | Q17: =SUM(K17/J17) -> #DIV/0! | R17: =SUM(O17/N17) -> #DIV/0! | S17: =SUM((G3+G4+G5+G6+G7+G8+G9+G10+G11+G12+G13+G14+G15+G16+G17+K3+K4+K5+K6+K7+K8+K9+K10+K11+K12+K13+K14+K15+K16+K17)/(F3+F4+F5+F6+F7+F8+F9+F10+F11+F12+F13+F14+F15+F16+F17+J3+J4+J5+J6+J7+J8+J9+J10+J11+J12+J13+J14+J15+J16+J17)) -> 10.920833
N18: =SUM(F18+J18) -> 0 | O18: =SUM(G18+K18) -> 0 | P18: =SUM(G18/F18) -> #DIV/0! | Q18: =SUM(K18/J18) -> #DIV/0! | R18: =SUM(O18/N18) -> #DIV/0! | S18: =SUM((G3+G4+G5+G6+G7+G8+G9+G10+G11+G12+G13+G14+G15+G16+G17+G18+K3+K4+K5+K6+K7+K8+K9+K10+K11+K12+K13+K14+K15+K16+K17+K18)/(F3+F4+F5+F6+F7+F8+F9+F10+F11+F12+F13+F14+F15+F16+F17+F18+J3+J4+J5+J6+J7+J8+J9+J10+J11+J12+J13+J14+J15+J16+J17+J18)) -> 10.920833
B19: =SUM(B17+7) -> 46342 | N19: =SUM(F19+J19) -> 0 | O19: =SUM(G19+K19) -> 0 | P19: =SUM(G19/F19) -> #DIV/0! | Q19: =SUM(K19/J19) -> #DIV/0! | R19: =SUM(O19/N19) -> #DIV/0! | S19: =SUM((G3+G4+G5+G6+G7+G8+G9+G10+G11+G12+G13+G14+G15+G16+G17+G18+G19+K3+K4+K5+K6+K7+K8+K9+K10+K11+K12+K13+K14+K15+K16+K17+K18+K19)/(F3+F4+F5+F6+F7+F8+F9+F10+F11+F12+F13+F14+F15+F16+F17+F18+F19+J3+J4+J5+J6+J7+J8+J9+J10+J11+J12+J13+J14+J15+J16+J17+J18+J19)) -> 10.920833
N20: =SUM(F20+J20) -> 0 | O20: =SUM(G20+K20) -> 0 | P20: =SUM(G20/F20) -> #DIV/0! | Q20: =SUM(K20/J20) -> #DIV/0! | R20: =SUM(O20/N20) -> #DIV/0! | S20: =SUM((G3+G4+G5+G6+G7+G8+G9+G10+G11+G12+G13+G14+G15+G16+G17+G18+G19+G20+K3+K4+K5+K6+K7+K8+K9+K10+K11+K12+K13+K14+K15+K16+K17+K18+K19+K20)/(F3+F4+F5+F6+F7+F8+F9+F10+F11+F12+F13+F14+F15+F16+F17+F18+F19+F20+J3+J4+J5+J6+J7+J8+J9+J10+J11+J12+J13+J14+J15+J16+J17+J18+J19+J20)) -> 10.920833
B21: =SUM(B19+7) -> 46349 | N21: =SUM(F21+J21) -> 0 | O21: =SUM(G21+K21) -> 0 | P21: =SUM(G21/F21) -> #DIV/0! | Q21: =SUM(K21/J21) -> #DIV/0! | R21: =SUM(O21/N21) -> #DIV/0! | S21: =SUM((G3+G4+G5+G6+G7+G8+G9+G10+G11+G12+G13+G14+G15+G16+G17+G18+G19+G20+G21+K3+K4+K5+K6+K7+K8+K9+K10+K11+K12+K13+K14+K15+K16+K17+K18+K19+K20+K21)/(F3+F4+F5+F6+F7+F8+F9+F10+F11+F12+F13+F14+F15+F16+F17+F18+F19+F20+F21+J3+J4+J5+J6+J7+J8+J9+J10+J11+J12+J13+J14+J15+J16+J17+J18+J19+J20+J21)) -> 10.920833
N22: =SUM(F22+J22) -> 0 | O22: =SUM(G22+K22) -> 0 | P22: =SUM(G22/F22) -> #DIV/0! | Q22: =SUM(K22/J22) -> #DIV/0! | R22: =SUM(O22/N22) -> #DIV/0! | S22: =SUM((G3+G4+G5+G6+G7+G8+G9+G10+G11+G12+G13+G14+G15+G16+G17+G18+G19+G20+G21+G22+K3+K4+K5+K6+K7+K8+K9+K10+K11+K12+K13+K14+K15+K16+K17+K18+K19+K20+K21+K22)/(F3+F4+F5+F6+F7+F8+F9+F10+F11+F12+F13+F14+F15+F16+F17+F18+F19+F20+F21+F22+J3+J4+J5+J6+J7+J8+J9+J10+J11+J12+J13+J14+J15+J16+J17+J18+J19+J20+J21+J22)) -> 10.920833
B23: =SUM(B21+7) -> 46356 | N23: =SUM(F23+J23) -> 0 | O23: =SUM(G23+K23) -> 0 | P23: =SUM(G23/F23) -> #DIV/0! | Q23: =SUM(K23/J23) -> #DIV/0! | R23: =SUM(O23/N23) -> #DIV/0! | S23: =SUM((G3+G4+G5+G6+G7+G8+G9+G10+G11+G12+G13+G14+G15+G16+G17+G18+G19+G20+G21+G22+G23+K3+K4+K5+K6+K7+K8+K9+K10+K11+K12+K13+K14+K15+K16+K17+K18+K19+K20+K21+K22+K23)/(F3+F4+F5+F6+F7+F8+F9+F10+F11+F12+F13+F14+F15+F16+F17+F18+F19+F20+F21+F22+F23+J3+J4+J5+J6+J7+J8+J9+J10+J11+J12+J13+J14+J15+J16+J17+J18+J19+J20+J21+J22+J23)) -> 10.920833
N24: =SUM(F24+J24) -> 0 | O24: =SUM(G24+K24) -> 0 | P24: =SUM(G24/F24) -> #DIV/0! | Q24: =SUM(K24/J24) -> #DIV/0! | R24: =SUM(O24/N24) -> #DIV/0! | S24: =SUM((G3+G4+G5+G6+G7+G8+G9+G10+G11+G12+G13+G14+G15+G16+G17+G18+G19+G20+G21+G22+G23+G24+K3+K4+K5+K6+K7+K8+K9+K10+K11+K12+K13+K14+K15+K16+K17+K18+K19+K20+K21+K22+K23+K24)/(F3+F4+F5+F6+F7+F8+F9+F10+F11+F12+F13+F14+F15+F16+F17+F18+F19+F20+F21+F22+F23+F24+J3+J4+J5+J6+J7+J8+J9+J10+J11+J12+J13+J14+J15+J16+J17+J18+J19+J20+J21+J22+J23+J24)) -> 10.920833
B25: =SUM(B23+7) -> 46363 | N25: =SUM(F25+J25) -> 0 | O25: =SUM(G25+K25) -> 0 | P25: =SUM(G25/F25) -> #DIV/0! | Q25: =SUM(K25/J25) -> #DIV/0! | R25: =SUM(O25/N25) -> #DIV/0! | S25: =SUM((G3+G4+G5+G6+G7+G8+G9+G10+G11+G12+G13+G14+G15+G16+G17+G18+G19+G20+G21+G22+G23+G24+G25+K3+K4+K5+K6+K7+K8+K9+K10+K11+K12+K13+K14+K15+K16+K17+K18+K19+K20+K21+K22+K23+K24+K25)/(F3+F4+F5+F6+F7+F8+F9+F10+F11+F12+F13+F14+F15+F16+F17+F18+F19+F20+F21+F22+F23+F24+F25+J3+J4+J5+J6+J7+J8+J9+J10+J11+J12+J13+J14+J15+J16+J17+J18+J19+J20+J21+J22+J23+J24+J25)) -> 10.920833
N26: =SUM(F26+J26) -> 0 | O26: =SUM(G26+K26) -> 0 | P26: =SUM(G26/F26) -> #DIV/0! | Q26: =SUM(K26/J26) -> #DIV/0! | R26: =SUM(O26/N26) -> #DIV/0! | S26: =SUM((G3+G4+G5+G6+G7+G8+G9+G10+G11+G12+G13+G14+G15+G16+G17+G18+G19+G20+G21+G22+G23+G24+G25+G26+K3+K4+K5+K6+K7+K8+K9+K10+K11+K12+K13+K14+K15+K16+K17+K18+K19+K20+K21+K22+K23+K24+K25+K26)/(F3+F4+F5+F6+F7+F8+F9+F10+F11+F12+F13+F14+F15+F16+F17+F18+F19+F20+F21+F22+F23+F24+F25+F26+J3+J4+J5+J6+J7+J8+J9+J10+J11+J12+J13+J14+J15+J16+J17+J18+J19+J20+J21+J22+J23+J24+J25+J26)) -> 10.920833
B27: =SUM(B25+7) -> 46370 | N27: =SUM(F27+J27) -> 0 | O27: =SUM(G27+K27) -> 0 | P27: =SUM(G27/F27) -> #DIV/0! | Q27: =SUM(K27/J27) -> #DIV/0! | R27: =SUM(O27/N27) -> #DIV/0! | S27: =SUM((G3+G4+G5+G6+G7+G8+G9+G10+G11+G12+G13+G14+G15+G16+G17+G18+G19+G20+G21+G22+G23+G24+G25+G26+G27+K3+K4+K5+K6+K7+K8+K9+K10+K11+K12+K13+K14+K15+K16+K17+K18+K19+K20+K21+K22+K23+K24+K25+K26+K27)/(F3+F4+F5+F6+F7+F8+F9+F10+F11+F12+F13+F14+F15+F16+F17+F18+F19+F20+F21+F22+F23+F24+F25+F26+F27+J3+J4+J5+J6+J7+J8+J9+J10+J11+J12+J13+J14+J15+J16+J17+J18+J19+J20+J21+J22+J23+J24+J25+J26+J27)) -> 10.920833
N28: =SUM(F28+J28) -> 0 | O28: =SUM(G28+K28) -> 0 | P28: =SUM(G28/F28) -> #DIV/0! | Q28: =SUM(K28/J28) -> #DIV/0! | R28: =SUM(O28/N28) -> #DIV/0! | S28: =SUM((G3+G4+G5+G6+G7+G8+G9+G10+G11+G12+G13+G14+G15+G16+G17+G18+G19+G20+G21+G22+G23+G24+G25+G26+G27+G28+K3+K4+K5+K6+K7+K8+K9+K10+K11+K12+K13+K14+K15+K16+K17+K18+K19+K20+K21+K22+K23+K24+K25+K26+K27+K28)/(F3+F4+F5+F6+F7+F8+F9+F10+F11+F12+F13+F14+F15+F16+F17+F18+F19+F20+F21+F22+F23+F24+F25+F26+F27+F28+J3+J4+J5+J6+J7+J8+J9+J10+J11+J12+J13+J14+J15+J16+J17+J18+J19+J20+J21+J22+J23+J24+J25+J26+J27+J28)) -> 10.920833
B29: =SUM(B27+7) -> 46377 | N29: =SUM(F29+J29) -> 0 | O29: =SUM(G29+K29) -> 0 | P29: =SUM(G29/F29) -> #DIV/0! | Q29: =SUM(K29/J29) -> #DIV/0! | R29: =SUM(O29/N29) -> #DIV/0! | S29: =SUM((G3+G4+G5+G6+G7+G8+G9+G10+G11+G12+G13+G14+G15+G16+G17+G18+G19+G20+G21+G22+G23+G24+G25+G26+G27+G28+G29+K3+K4+K5+K6+K7+K8+K9+K10+K11+K12+K13+K14+K15+K16+K17+K18+K19+K20+K21+K22+K23+K24+K25+K26+K27+K28+K29)/(F3+F4+F5+F6+F7+F8+F9+F10+F11+F12+F13+F14+F15+F16+F17+F18+F19+F20+F21+F22+F23+F24+F25+F26+F27+F28+F29+J3+J4+J5+J6+J7+J8+J9+J10+J11+J12+J13+J14+J15+J16+J17+J18+J19+J20+J21+J22+J23+J24+J25+J26+J27+J28+J29)) -> 10.920833
N30: =SUM(F30+J30) -> 0 | O30: =SUM(G30+K30) -> 0 | P30: =SUM(G30/F30) -> #DIV/0! | Q30: =SUM(K30/J30) -> #DIV/0! | R30: =SUM(O30/N30) -> #DIV/0! | S30: =SUM((G3+G4+G5+G6+G7+G8+G9+G10+G11+G12+G13+G14+G15+G16+G17+G18+G19+G20+G21+G22+G23+G24+G25+G26+G27+G28+G29+G30+K3+K4+K5+K6+K7+K8+K9+K10+K11+K12+K13+K14+K15+K16+K17+K18+K19+K20+K21+K22+K23+K24+K25+K26+K27+K28+K29+K30)/(F3+F4+F5+F6+F7+F8+F9+F10+F11+F12+F13+F14+F15+F16+F17+F18+F19+F20+F21+F22+F23+F24+F25+F26+F27+F28+F29+F30+J3+J4+J5+J6+J7+J8+J9+J10+J11+J12+J13+J14+J15+J16+J17+J18+J19+J20+J21+J22+J23+J24+J25+J26+J27+J28+J29+J30)) -> 10.920833
B31: =SUM(B29+7) -> 46384 | N31: =SUM(F31+J31) -> 0 | O31: =SUM(G31+K31) -> 0 | P31: =SUM(G31/F31) -> #DIV/0! | Q31: =SUM(K31/J31) -> #DIV/0! | R31: =SUM(O31/N31) -> #DIV/0! | S31: =SUM((G3+G4+G5+G6+G7+G8+G9+G10+G11+G12+G13+G14+G15+G16+G17+G18+G19+G20+G21+G22+G23+G24+G25+G26+G27+G28+G29+G30+G31+K3+K4+K5+K6+K7+K8+K9+K10+K11+K12+K13+K14+K15+K16+K17+K18+K19+K20+K21+K22+K23+K24+K25+K26+K27+K28+K29+K30+K31)/(F3+F4+F5+F6+F7+F8+F9+F10+F11+F12+F13+F14+F15+F16+F17+F18+F19+F20+F21+F22+F23+F24+F25+F26+F27+F28+F29+F30+F31+J3+J4+J5+J6+J7+J8+J9+J10+J11+J12+J13+J14+J15+J16+J17+J18+J19+J20+J21+J22+J23+J24+J25+J26+J27+J28+J29+J30+J31)) -> 10.920833
N32: =SUM(F32+J32) -> 0 | O32: =SUM(G32+K32) -> 0 | P32: =SUM(G32/F32) -> #DIV/0! | Q32: =SUM(K32/J32) -> #DIV/0! | R32: =SUM(O32/N32) -> #DIV/0! | S32: =SUM((G3+G4+G5+G6+G7+G8+G9+G10+G11+G12+G13+G14+G15+G16+G17+G18+G19+G20+G21+G22+G23+G24+G25+G26+G27+G28+G29+G30+G31+G32+K3+K4+K5+K6+K7+K8+K9+K10+K11+K12+K13+K14+K15+K16+K17+K18+K19+K20+K21+K22+K23+K24+K25+K26+K27+K28+K29+K30+K31+K32)/(F3+F4+F5+F6+F7+F8+F9+F10+F11+F12+F13+F14+F15+F16+F17+F18+F19+F20+F21+F22+F23+F24+F25+F26+F27+F28+F29+F30+F31+F32+J3+J4+J5+J6+J7+J8+J9+J10+J11+J12+J13+J14+J15+J16+J17+J18+J19+J20+J21+J22+J23+J24+J25+J26+J27+J28+J29+J30+J31+J32)) -> 10.920833
B33: =SUM(B31+7) -> 46391 | N33: =SUM(F33+J33) -> 0 | O33: =SUM(G33+K33) -> 0 | P33: =SUM(G33/F33) -> #DIV/0! | Q33: =SUM(K33/J33) -> #DIV/0! | R33: =SUM(O33/N33) -> #DIV/0! | S33: =SUM((G3+G4+G5+G6+G7+G8+G9+G10+G11+G12+G13+G14+G15+G16+G17+G18+G19+G20+G21+G22+G23+G24+G25+G26+G27+G28+G29+G30+G31+G32+G33+K3+K4+K5+K6+K7+K8+K9+K10+K11+K12+K13+K14+K15+K16+K17+K18+K19+K20+K21+K22+K23+K24+K25+K26+K27+K28+K29+K30+K31+K32+K33)/(F3+F4+F5+F6+F7+F8+F9+F10+F11+F12+F13+F14+F15+F16+F17+F18+F19+F20+F21+F22+F23+F24+F25+F26+F27+F28+F29+F30+F31+F32+F33+J3+J4+J5+J6+J7+J8+J9+J10+J11+J12+J13+J14+J15+J16+J17+J18+J19+J20+J21+J22+J23+J24+J25+J26+J27+J28+J29+J30+J31+J32+J33)) -> 10.920833
N34: =SUM(F34+J34) -> 0 | O34: =SUM(G34+K34) -> 0 | P34: =SUM(G34/F34) -> #DIV/0! | Q34: =SUM(K34/J34) -> #DIV/0! | R34: =SUM(O34/N34) -> #DIV/0! | S34: =SUM((G3+G4+G5+G6+G7+G8+G9+G10+G11+G12+G13+G14+G15+G16+G17+G18+G19+G20+G21+G22+G23+G24+G25+G26+G27+G28+G29+G30+G31+G32+G33+G34+K3+K4+K5+K6+K7+K8+K9+K10+K11+K12+K13+K14+K15+K16+K17+K18+K19+K20+K21+K22+K23+K24+K25+K26+K27+K28+K29+K30+K31+K32+K33+K34)/(F3+F4+F5+F6+F7+F8+F9+F10+F11+F12+F13+F14+F15+F16+F17+F18+F19+F20+F21+F22+F23+F24+F25+F26+F27+F28+F29+F30+F31+F32+F33+F34+J3+J4+J5+J6+J7+J8+J9+J10+J11+J12+J13+J14+J15+J16+J17+J18+J19+J20+J21+J22+J23+J24+J25+J26+J27+J28+J29+J30+J31+J32+J33+J34)) -> 10.920833
B35: =SUM(B33+7) -> 46398 | N35: =SUM(F35+J35) -> 0 | O35: =SUM(G35+K35) -> 0 | P35: =SUM(G35/F35) -> #DIV/0! | Q35: =SUM(K35/J35) -> #DIV/0! | R35: =SUM(O35/N35) -> #DIV/0! | S35: =SUM((G3+G4+G5+G6+G7+G8+G9+G10+G11+G12+G13+G14+G15+G16+G17+G18+G19+G20+G21+G22+G23+G24+G25+G26+G27+G28+G29+G30+G31+G32+G33+G34+G35+K3+K4+K5+K6+K7+K8+K9+K10+K11+K12+K13+K14+K15+K16+K17+K18+K19+K20+K21+K22+K23+K24+K25+K26+K27+K28+K29+K30+K31+K32+K33+K34+K35)/(F3+F4+F5+F6+F7+F8+F9+F10+F11+F12+F13+F14+F15+F16+F17+F18+F19+F20+F21+F22+F23+F24+F25+F26+F27+F28+F29+F30+F31+F32+F33+F34+F35+J3+J4+J5+J6+J7+J8+J9+J10+J11+J12+J13+J14+J15+J16+J17+J18+J19+J20+J21+J22+J23+J24+J25+J26+J27+J28+J29+J30+J31+J32+J33+J34+J35)) -> 10.920833
N36: =SUM(F36+J36) -> 0 | O36: =SUM(G36+K36) -> 0 | P36: =SUM(G36/F36) -> #DIV/0! | Q36: =SUM(K36/J36) -> #DIV/0! | R36: =SUM(O36/N36) -> #DIV/0! | S36: =SUM((G3+G4+G5+G6+G7+G8+G9+G10+G11+G12+G13+G14+G15+G16+G17+G18+G19+G20+G21+G22+G23+G24+G25+G26+G27+G28+G29+G30+G31+G32+G33+G34+G35+G36+K3+K4+K5+K6+K7+K8+K9+K10+K11+K12+K13+K14+K15+K16+K17+K18+K19+K20+K21+K22+K23+K24+K25+K26+K27+K28+K29+K30+K31+K32+K33+K34+K35+K36)/(F3+F4+F5+F6+F7+F8+F9+F10+F11+F12+F13+F14+F15+F16+F17+F18+F19+F20+F21+F22+F23+F24+F25+F26+F27+F28+F29+F30+F31+F32+F33+F34+F35+F36+J3+J4+J5+J6+J7+J8+J9+J10+J11+J12+J13+J14+J15+J16+J17+J18+J19+J20+J21+J22+J23+J24+J25+J26+J27+J28+J29+J30+J31+J32+J33+J34+J35+J36)) -> 10.920833
B37: =SUM(B35+7) -> 46405 | N37: =SUM(F37+J37) -> 0 | O37: =SUM(G37+K37) -> 0 | P37: =SUM(G37/F37) -> #DIV/0! | Q37: =SUM(K37/J37) -> #DIV/0! | R37: =SUM(O37/N37) -> #DIV/0! | S37: =SUM((G3+G4+G5+G6+G7+G8+G9+G10+G11+G12+G13+G14+G15+G16+G17+G18+G19+G20+G21+G22+G23+G24+G25+G26+G27+G28+G29+G30+G31+G32+G33+G34+G35+G36+G37+K3+K4+K5+K6+K7+K8+K9+K10+K11+K12+K13+K14+K15+K16+K17+K18+K19+K20+K21+K22+K23+K24+K25+K26+K27+K28+K29+K30+K31+K32+K33+K34+K35+K36+K37)/(F3+F4+F5+F6+F7+F8+F9+F10+F11+F12+F13+F14+F15+F16+F17+F18+F19+F20+F21+F22+F23+F24+F25+F26+F27+F28+F29+F30+F31+F32+F33+F34+F35+F36+F37+J3+J4+J5+J6+J7+J8+J9+J10+J11+J12+J13+J14+J15+J16+J17+J18+J19+J20+J21+J22+J23+J24+J25+J26+J27+J28+J29+J30+J31+J32+J33+J34+J35+J36+J37)) -> 10.920833
N38: =SUM(F38+J38) -> 0 | O38: =SUM(G38+K38) -> 0 | P38: =SUM(G38/F38) -> #DIV/0! | Q38: =SUM(K38/J38) -> #DIV/0! | R38: =SUM(O38/N38) -> #DIV/0! | S38: =SUM((G3+G4+G5+G6+G7+G8+G9+G10+G11+G12+G13+G14+G15+G16+G17+G18+G19+G20+G21+G22+G23+G24+G25+G26+G27+G28+G29+G30+G31+G32+G33+G34+G35+G36+G37+G38+K3+K4+K5+K6+K7+K8+K9+K10+K11+K12+K13+K14+K15+K16+K17+K18+K19+K20+K21+K22+K23+K24+K25+K26+K27+K28+K29+K30+K31+K32+K33+K34+K35+K36+K37+K38)/(F3+F4+F5+F6+F7+F8+F9+F10+F11+F12+F13+F14+F15+F16+F17+F18+F19+F20+F21+F22+F23+F24+F25+F26+F27+F28+F29+F30+F31+F32+F33+F34+F35+F36+F37+F38+J3+J4+J5+J6+J7+J8+J9+J10+J11+J12+J13+J14+J15+J16+J17+J18+J19+J20+J21+J22+J23+J24+J25+J26+J27+J28+J29+J30+J31+J32+J33+J34+J35+J36+J37+J38)) -> 10.920833
B39: =SUM(B37+7) -> 46412 | N39: =SUM(F39+J39) -> 0 | O39: =SUM(G39+K39) -> 0 | P39: =SUM(G39/F39) -> #DIV/0! | Q39: =SUM(K39/J39) -> #DIV/0! | R39: =SUM(O39/N39) -> #DIV/0! | S39: =SUM((G3+G4+G5+G6+G7+G8+G9+G10+G11+G12+G13+G14+G15+G16+G17+G18+G19+G20+G21+G22+G23+G24+G25+G26+G27+G28+G29+G30+G31+G32+G33+G34+G35+G36+G37+G38+G39+K3+K4+K5+K6+K7+K8+K9+K10+K11+K12+K13+K14+K15+K16+K17+K18+K19+K20+K21+K22+K23+K24+K25+K26+K27+K28+K29+K30+K31+K32+K33+K34+K35+K36+K37+K38+K39)/(F3+F4+F5+F6+F7+F8+F9+F10+F11+F12+F13+F14+F15+F16+F17+F18+F19+F20+F21+F22+F23+F24+F25+F26+F27+F28+F29+F30+F31+F32+F33+F34+F35+F36+F37+F38+F39+J3+J4+J5+J6+J7+J8+J9+J10+J11+J12+J13+J14+J15+J16+J17+J18+J19+J20+J21+J22+J23+J24+J25+J26+J27+J28+J29+J30+J31+J32+J33+J34+J35+J36+J37+J38+J39)) -> 10.920833
N40: =SUM(F40+J40) -> 0 | O40: =SUM(G40+K40) -> 0 | P40: =SUM(G40/F40) -> #DIV/0! | Q40: =SUM(K40/J40) -> #DIV/0! | R40: =SUM(O40/N40) -> #DIV/0! | S40: =SUM((G3+G4+G5+G6+G7+G8+G9+G10+G11+G12+G13+G14+G15+G16+G17+G18+G19+G20+G21+G22+G23+G24+G25+G26+G27+G28+G29+G30+G31+G32+G33+G34+G35+G36+G37+G38+G39+G40+K3+K4+K5+K6+K7+K8+K9+K10+K11+K12+K13+K14+K15+K16+K17+K18+K19+K20+K21+K22+K23+K24+K25+K26+K27+K28+K29+K30+K31+K32+K33+K34+K35+K36+K37+K38+K39+K40)/(F3+F4+F5+F6+F7+F8+F9+F10+F11+F12+F13+F14+F15+F16+F17+F18+F19+F20+F21+F22+F23+F24+F25+F26+F27+F28+F29+F30+F31+F32+F33+F34+F35+F36+F37+F38+F39+F40+J3+J4+J5+J6+J7+J8+J9+J10+J11+J12+J13+J14+J15+J16+J17+J18+J19+J20+J21+J22+J23+J24+J25+J26+J27+J28+J29+J30+J31+J32+J33+J34+J35+J36+J37+J38+J39+J40)) -> 10.920833
B41: =SUM(B39+7) -> 46419 | N41: =SUM(F41+J41) -> 0 | O41: =SUM(G41+K41) -> 0 | P41: =SUM(G41/F41) -> #DIV/0! | Q41: =SUM(K41/J41) -> #DIV/0! | R41: =SUM(O41/N41) -> #DIV/0! | S41: =SUM((G3+G4+G5+G6+G7+G8+G9+G10+G11+G12+G13+G14+G15+G16+G17+G18+G19+G20+G21+G22+G23+G24+G25+G26+G27+G28+G29+G30+G31+G32+G33+G34+G35+G36+G37+G38+G39+G40+G41+K3+K4+K5+K6+K7+K8+K9+K10+K11+K12+K13+K14+K15+K16+K17+K18+K19+K20+K21+K22+K23+K24+K25+K26+K27+K28+K29+K30+K31+K32+K33+K34+K35+K36+K37+K38+K39+K40+K41)/(F3+F4+F5+F6+F7+F8+F9+F10+F11+F12+F13+F14+F15+F16+F17+F18+F19+F20+F21+F22+F23+F24+F25+F26+F27+F28+F29+F30+F31+F32+F33+F34+F35+F36+F37+F38+F39+F40+F41+J3+J4+J5+J6+J7+J8+J9+J10+J11+J12+J13+J14+J15+J16+J17+J18+J19+J20+J21+J22+J23+J24+J25+J26+J27+J28+J29+J30+J31+J32+J33+J34+J35+J36+J37+J38+J39+J40+J41)) -> 10.920833
N42: =SUM(F42+J42) -> 0 | O42: =SUM(G42+K42) -> 0 | P42: =SUM(G42/F42) -> #DIV/0! | Q42: =SUM(K42/J42) -> #DIV/0! | R42: =SUM(O42/N42) -> #DIV/0! | S42: =SUM((G3+G4+G5+G6+G7+G8+G9+G10+G11+G12+G13+G14+G15+G16+G17+G18+G19+G20+G21+G22+G23+G24+G25+G26+G27+G28+G29+G30+G31+G32+G33+G34+G35+G36+G37+G38+G39+G40+G41+G42+K3+K4+K5+K6+K7+K8+K9+K10+K11+K12+K13+K14+K15+K16+K17+K18+K19+K20+K21+K22+K23+K24+K25+K26+K27+K28+K29+K30+K31+K32+K33+K34+K35+K36+K37+K38+K39+K40+K41+K42)/(F3+F4+F5+F6+F7+F8+F9+F10+F11+F12+F13+F14+F15+F16+F17+F18+F19+F20+F21+F22+F23+F24+F25+F26+F27+F28+F29+F30+F31+F32+F33+F34+F35+F36+F37+F38+F39+F40+F41+F42+J3+J4+J5+J6+J7+J8+J9+J10+J11+J12+J13+J14+J15+J16+J17+J18+J19+J20+J21+J22+J23+J24+J25+J26+J27+J28+J29+J30+J31+J32+J33+J34+J35+J36+J37+J38+J39+J40+J41+J42)) -> 10.920833
N43: =SUM(F43+J43) -> 0 | O43: =SUM(G43+K43) -> 0 | P43: =SUM(G43/F43) -> #DIV/0! | Q43: =SUM(K43/J43) -> #DIV/0! | R43: =SUM(O43/N43) -> #DIV/0! | S43: =SUM((G3+G4+G5+G6+G7+G8+G9+G10+G11+G12+G13+G14+G15+G16+G17+G18+G19+G20+G21+G22+G23+G24+G25+G26+G27+G28+G29+G30+G31+G32+G33+G34+G35+G36+G37+G38+G39+G40+G41+G42+G43+K3+K4+K5+K6+K7+K8+K9+K10+K11+K12+K13+K14+K15+K16+K17+K18+K19+K20+K21+K22+K23+K24+K25+K26+K27+K28+K29+K30+K31+K32+K33+K34+K35+K36+K37+K38+K39+K40+K41+K42+K43)/(F3+F4+F5+F6+F7+F8+F9+F10+F11+F12+F13+F14+F15+F16+F17+F18+F19+F20+F21+F22+F23+F24+F25+F26+F27+F28+F29+F30+F31+F32+F33+F34+F35+F36+F37+F38+F39+F40+F41+F42+F43+J3+J4+J5+J6+J7+J8+J9+J10+J11+J12+J13+J14+J15+J16+J17+J18+J19+J20+J21+J22+J23+J24+J25+J26+J27+J28+J29+J30+J31+J32+J33+J34+J35+J36+J37+J38+J39+J40+J41+J42+J43)) -> 10.920833
N44: =SUM(F44+J44) -> 0 | O44: =SUM(G44+K44) -> 0 | P44: =SUM(G44/F44) -> #DIV/0! | Q44: =SUM(K44/J44) -> #DIV/0! | R44: =SUM(O44/N44) -> #DIV/0! | S44: =SUM((G3+G4+G5+G6+G7+G8+G9+G10+G11+G12+G13+G14+G15+G16+G17+G18+G19+G20+G21+G22+G23+G24+G25+G26+G27+G28+G29+G30+G31+G32+G33+G34+G35+G36+G37+G38+G39+G40+G41+G42+G43+G44+K3+K4+K5+K6+K7+K8+K9+K10+K11+K12+K13+K14+K15+K16+K17+K18+K19+K20+K21+K22+K23+K24+K25+K26+K27+K28+K29+K30+K31+K32+K33+K34+K35+K36+K37+K38+K39+K40+K41+K42+K43+K44)/(F3+F4+F5+F6+F7+F8+F9+F10+F11+F12+F13+F14+F15+F16+F17+F18+F19+F20+F21+F22+F23+F24+F25+F26+F27+F28+F29+F30+F31+F32+F33+F34+F35+F36+F37+F38+F39+F40+F41+F42+F43+F44+J3+J4+J5+J6+J7+J8+J9+J10+J11+J12+J13+J14+J15+J16+J17+J18+J19+J20+J21+J22+J23+J24+J25+J26+J27+J28+J29+J30+J31+J32+J33+J34+J35+J36+J37+J38+J39+J40+J41+J42+J43+J44)) -> 10.920833
